Workbook

Sheet Synthèse
A1: Synthèse — analyse des écarts quantité / coût
A2: Budget prévu | B2: =SUM('Analyse des écarts'!H6:H105) | D2: Chantier suivi | E2: ='Paramètres'!B2
A3: Coût réalisé | B3: =SUM('Analyse des écarts'!K6:K105) | D3: Date d’arrêté | E3: ='Paramètres'!B3
A4: Écart total | B4: =SUM('Analyse des écarts'!Q6:Q105) | D4: Seuil absolu | E4: ='Paramètres'!B4
A5: Impact volume | B5: =SUM('Analyse des écarts'!M6:M105) | D5: Seuil relatif | E5: ='Paramètres'!B5
A6: Impact coût unitaire | B6: =SUM('Analyse des écarts'!P6:P105) | D6: Tolérance de contrôle | E6: ='Paramètres'!B6
A7: Contrôle de décomposition | B7: =B4-B5-B6
A8: Priorisation | B8: Les lots sont classés visuellement selon les seuils modifiables ; les données restent un support interne de décision.
A10: Lot | B10: Budget prévu | C10: Écart total | D10: Écart % | E10: Coût réalisé | F10: Impact volume | G10: Impact coût unitaire | H10: Priorité
A11: ='Paramètres'!A11 | B11: =SUMIF('Analyse des écarts'!$B$6:$B$105,$A11,'Analyse des écarts'!$H$6:$H$105) | C11: =SUMIF('Analyse des écarts'!$B$6:$B$105,$A11,'Analyse des écarts'!$Q$6:$Q$105) | D11: =IFERROR(C11/B11,"") | E11: =SUMIF('Analyse des écarts'!$B$6:$B$105,$A11,'Analyse des écarts'!$K$6:$K$105) | F11: =SUMIF('Analyse des écarts'!$B$6:$B$105,$A11,'Analyse des écarts'!$M$6:$M$105) | G11: =SUMIF('Analyse des écarts'!$B$6:$B$105,$A11,'Analyse des écarts'!$P$6:$P$105) | H11: =IF(COUNTIF('Analyse des écarts'!$B$6:$B$105,$A11)=0,"Sans donnée",IF(B11=0,"À vérifier",IF(OR(ABS(C11)>='Paramètres'!$B$4,ABS(IFERROR(C11/B11,0))>='Paramètres'!$B$5),"Alerte","Sous seuil")))
A12: ='Paramètres'!A12 | B12: =SUMIF('Analyse des écarts'!$B$6:$B$105,$A12,'Analyse des écarts'!$H$6:$H$105) | C12: =SUMIF('Analyse des écarts'!$B$6:$B$105,$A12,'Analyse des écarts'!$Q$6:$Q$105) | D12: =IFERROR(C12/B12,"") | E12: =SUMIF('Analyse des écarts'!$B$6:$B$105,$A12,'Analyse des écarts'!$K$6:$K$105) | F12: =SUMIF('Analyse des écarts'!$B$6:$B$105,$A12,'Analyse des écarts'!$M$6:$M$105) | G12: =SUMIF('Analyse des écarts'!$B$6:$B$105,$A12,'Analyse des écarts'!$P$6:$P$105) | H12: =IF(COUNTIF('Analyse des écarts'!$B$6:$B$105,$A12)=0,"Sans donnée",IF(B12=0,"À vérifier",IF(OR(ABS(C12)>='Paramètres'!$B$4,ABS(IFERROR(C12/B12,0))>='Paramètres'!$B$5),"Alerte","Sous seuil")))
A13: ='Paramètres'!A13 | B13: =SUMIF('Analyse des écarts'!$B$6:$B$105,$A13,'Analyse des écarts'!$H$6:$H$105) | C13: =SUMIF('Analyse des écarts'!$B$6:$B$105,$A13,'Analyse des écarts'!$Q$6:$Q$105) | D13: =IFERROR(C13/B13,"") | E13: =SUMIF('Analyse des écarts'!$B$6:$B$105,$A13,'Analyse des écarts'!$K$6:$K$105) | F13: =SUMIF('Analyse des écarts'!$B$6:$B$105,$A13,'Analyse des écarts'!$M$6:$M$105) | G13: =SUMIF('Analyse des écarts'!$B$6:$B$105,$A13,'Analyse des écarts'!$P$6:$P$105) | H13: =IF(COUNTIF('Analyse des écarts'!$B$6:$B$105,$A13)=0,"Sans donnée",IF(B13=0,"À vérifier",IF(OR(ABS(C13)>='Paramètres'!$B$4,ABS(IFERROR(C13/B13,0))>='Paramètres'!$B$5),"Alerte","Sous seuil")))
A14: ='Paramètres'!A14 | B14: =SUMIF('Analyse des écarts'!$B$6:$B$105,$A14,'Analyse des écarts'!$H$6:$H$105) | C14: =SUMIF('Analyse des écarts'!$B$6:$B$105,$A14,'Analyse des écarts'!$Q$6:$Q$105) | D14: =IFERROR(C14/B14,"") | E14: =SUMIF('Analyse des écarts'!$B$6:$B$105,$A14,'Analyse des écarts'!$K$6:$K$105) | F14: =SUMIF('Analyse des écarts'!$B$6:$B$105,$A14,'Analyse des écarts'!$M$6:$M$105) | G14: =SUMIF('Analyse des écarts'!$B$6:$B$105,$A14,'Analyse des écarts'!$P$6:$P$105) | H14: =IF(COUNTIF('Analyse des écarts'!$B$6:$B$105,$A14)=0,"Sans donnée",IF(B14=0,"À vérifier",IF(OR(ABS(C14)>='Paramètres'!$B$4,ABS(IFERROR(C14/B14,0))>='Paramètres'!$B$5),"Alerte","Sous seuil")))
A15: ='Paramètres'!A15 | B15: =SUMIF('Analyse des écarts'!$B$6:$B$105,$A15,'Analyse des écarts'!$H$6:$H$105) | C15: =SUMIF('Analyse des écarts'!$B$6:$B$105,$A15,'Analyse des écarts'!$Q$6:$Q$105) | D15: =IFERROR(C15/B15,"") | E15: =SUMIF('Analyse des écarts'!$B$6:$B$105,$A15,'Analyse des écarts'!$K$6:$K$105) | F15: =SUMIF('Analyse des écarts'!$B$6:$B$105,$A15,'Analyse des écarts'!$M$6:$M$105) | G15: =SUMIF('Analyse des écarts'!$B$6:$B$105,$A15,'Analyse des écarts'!$P$6:$P$105) | H15: =IF(COUNTIF('Analyse des écarts'!$B$6:$B$105,$A15)=0,"Sans donnée",IF(B15=0,"À vérifier",IF(OR(ABS(C15)>='Paramètres'!$B$4,ABS(IFERROR(C15/B15,0))>='Paramètres'!$B$5),"Alerte","Sous seuil")))
A16: ='Paramètres'!A16 | B16: =SUMIF('Analyse des écarts'!$B$6:$B$105,$A16,'Analyse des écarts'!$H$6:$H$105) | C16: =SUMIF('Analyse des écarts'!$B$6:$B$105,$A16,'Analyse des écarts'!$Q$6:$Q$105) | D16: =IFERROR(C16/B16,"") | E16: =SUMIF('Analyse des écarts'!$B$6:$B$105,$A16,'Analyse des écarts'!$K$6:$K$105) | F16: =SUMIF('Analyse des écarts'!$B$6:$B$105,$A16,'Analyse des écarts'!$M$6:$M$105) | G16: =SUMIF('Analyse des écarts'!$B$6:$B$105,$A16,'Analyse des écarts'!$P$6:$P$105) | H16: =IF(COUNTIF('Analyse des écarts'!$B$6:$B$105,$A16)=0,"Sans donnée",IF(B16=0,"À vérifier",IF(OR(ABS(C16)>='Paramètres'!$B$4,ABS(IFERROR(C16/B16,0))>='Paramètres'!$B$5),"Alerte","Sous seuil")))
A17: ='Paramètres'!A17 | B17: =SUMIF('Analyse des écarts'!$B$6:$B$105,$A17,'Analyse des écarts'!$H$6:$H$105) | C17: =SUMIF('Analyse des écarts'!$B$6:$B$105,$A17,'Analyse des écarts'!$Q$6:$Q$105) | D17: =IFERROR(C17/B17,"") | E17: =SUMIF('Analyse des écarts'!$B$6:$B$105,$A17,'Analyse des écarts'!$K$6:$K$105) | F17: =SUMIF('Analyse des écarts'!$B$6:$B$105,$A17,'Analyse des écarts'!$M$6:$M$105) | G17: =SUMIF('Analyse des écarts'!$B$6:$B$105,$A17,'Analyse des écarts'!$P$6:$P$105) | H17: =IF(COUNTIF('Analyse des écarts'!$B$6:$B$105,$A17)=0,"Sans donnée",IF(B17=0,"À vérifier",IF(OR(ABS(C17)>='Paramètres'!$B$4,ABS(IFERROR(C17/B17,0))>='Paramètres'!$B$5),"Alerte","Sous seuil")))
A18: ='Paramètres'!A18 | B18: =SUMIF('Analyse des écarts'!$B$6:$B$105,$A18,'Analyse des écarts'!$H$6:$H$105) | C18: =SUMIF('Analyse des écarts'!$B$6:$B$105,$A18,'Analyse des écarts'!$Q$6:$Q$105) | D18: =IFERROR(C18/B18,"") | E18: =SUMIF('Analyse des écarts'!$B$6:$B$105,$A18,'Analyse des écarts'!$K$6:$K$105) | F18: =SUMIF('Analyse des écarts'!$B$6:$B$105,$A18,'Analyse des écarts'!$M$6:$M$105) | G18: =SUMIF('Analyse des écarts'!$B$6:$B$105,$A18,'Analyse des écarts'!$P$6:$P$105) | H18: =IF(COUNTIF('Analyse des écarts'!$B$6:$B$105,$A18)=0,"Sans donnée",IF(B18=0,"À vérifier",IF(OR(ABS(C18)>='Paramètres'!$B$4,ABS(IFERROR(C18/B18,0))>='Paramètres'!$B$5),"Alerte","Sous seuil")))

Sheet Analyse des écarts
A1: Analyse des écarts quantité / coût
A2: Chantier | B2: ='Paramètres'!B2 | F2: Date d’arrêté | G2: ='Paramètres'!B3
A3: Convention | B3: Écart positif : surcoût ; écart négatif : économie. | F3: Usage | G3: Outil interne de pilotage, sans valeur de document officiel.
A4: Repère de saisie | B4: Les cellules jaunes sont modifiables.
A5: Identifiant | B5: Lot | C5: Désignation | D5: Unité | E5: Date de situation | F5: Quantité prévue | G5: Coût unitaire prévu | H5: Budget prévu | I5: Quantité réalisée | J5: Coût unitaire réalisé | K5: Coût réalisé | L5: Écart de quantité | M5: Impact volume | N5: Écart de coût unitaire | O5: Écart de coût unitaire % | P5: Impact coût unitaire | Q5: Écart total | R5: Statut | S5: Commentaire / action
A6: P001 | B6: Terrassement | C6: Décapage plateforme | D6: m² | E6: 46265 | F6: 1200 | G6: 2.4 | H6: =IF(OR(F6="",G6=""),"",F6*G6) | I6: 1280 | J6: 2.55 | K6: =IF(OR(I6="",J6=""),"",I6*J6) | L6: =IF(OR(F6="",I6=""),"",I6-F6) | M6: =IF(OR(F6="",G6="",I6=""),"",(I6-F6)*G6) | N6: =IF(OR(G6="",J6=""),"",J6-G6) | O6: =IF(OR(G6="",J6=""),"",IFERROR((J6-G6)/G6,"")) | P6: =IF(OR(I6="",G6="",J6=""),"",I6*(J6-G6)) | Q6: =IF(OR(H6="",K6=""),"",K6-H6) | R6: =IF(COUNTA(F6,G6,I6,J6)<4,"À compléter",IF(H6=0,"À vérifier",IF(OR(ABS(Q6)>='Paramètres'!$B$4,ABS(IFERROR(Q6/H6,0))>='Paramètres'!$B$5),"Alerte","Sous seuil"))) | S6: Analyser le rendement de la plateforme fictive.
A7: P002 | B7: Gros œuvre | C7: Béton fondations | D7: m³ | E7: 46265 | F7: 85 | G7: 142 | H7: =IF(OR(F7="",G7=""),"",F7*G7) | I7: 82 | J7: 149 | K7: =IF(OR(I7="",J7=""),"",I7*J7) | L7: =IF(OR(F7="",I7=""),"",I7-F7) | M7: =IF(OR(F7="",G7="",I7=""),"",(I7-F7)*G7) | N7: =IF(OR(G7="",J7=""),"",J7-G7) | O7: =IF(OR(G7="",J7=""),"",IFERROR((J7-G7)/G7,"")) | P7: =IF(OR(I7="",G7="",J7=""),"",I7*(J7-G7)) | Q7: =IF(OR(H7="",K7=""),"",K7-H7) | R7: =IF(COUNTA(F7,G7,I7,J7)<4,"À compléter",IF(H7=0,"À vérifier",IF(OR(ABS(Q7)>='Paramètres'!$B$4,ABS(IFERROR(Q7/H7,0))>='Paramètres'!$B$5),"Alerte","Sous seuil"))) | S7: Confirmer le prix unitaire de démonstration.
A8: P003 | B8: Gros œuvre | C8: Acier fondations | D8: kg | E8: 46265 | F8: 7200 | G8: 1.85 | H8: =IF(OR(F8="",G8=""),"",F8*G8) | I8: 7600 | J8: 1.78 | K8: =IF(OR(I8="",J8=""),"",I8*J8) | L8: =IF(OR(F8="",I8=""),"",I8-F8) | M8: =IF(OR(F8="",G8="",I8=""),"",(I8-F8)*G8) | N8: =IF(OR(G8="",J8=""),"",J8-G8) | O8: =IF(OR(G8="",J8=""),"",IFERROR((J8-G8)/G8,"")) | P8: =IF(OR(I8="",G8="",J8=""),"",I8*(J8-G8)) | Q8: =IF(OR(H8="",K8=""),"",K8-H8) | R8: =IF(COUNTA(F8,G8,I8,J8)<4,"À compléter",IF(H8=0,"À vérifier",IF(OR(ABS(Q8)>='Paramètres'!$B$4,ABS(IFERROR(Q8/H8,0))>='Paramètres'!$B$5),"Alerte","Sous seuil"))) | S8: Suivre la quantité consommée sur le poste fictif.
A9: P004 | B9: Charpente | C9: Pannes fictives | D9: m | E9: 46265 | F9: 310 | G9: 28 | H9: =IF(OR(F9="",G9=""),"",F9*G9) | I9: 325 | J9: 29.5 | K9: =IF(OR(I9="",J9=""),"",I9*J9) | L9: =IF(OR(F9="",I9=""),"",I9-F9) | M9: =IF(OR(F9="",G9="",I9=""),"",(I9-F9)*G9) | N9: =IF(OR(G9="",J9=""),"",J9-G9) | O9: =IF(OR(G9="",J9=""),"",IFERROR((J9-G9)/G9,"")) | P9: =IF(OR(I9="",G9="",J9=""),"",I9*(J9-G9)) | Q9: =IF(OR(H9="",K9=""),"",K9-H9) | R9: =IF(COUNTA(F9,G9,I9,J9)<4,"À compléter",IF(H9=0,"À vérifier",IF(OR(ABS(Q9)>='Paramètres'!$B$4,ABS(IFERROR(Q9/H9,0))>='Paramètres'!$B$5),"Alerte","Sous seuil"))) | S9: Examiner conjointement les effets volume et prix.
A10: P005 | B10: Couverture | C10: Bac acier fictif | D10: m² | E10: 46265 | F10: 940 | G10: 34 | H10: =IF(OR(F10="",G10=""),"",F10*G10) | I10: 910 | J10: 36 | K10: =IF(OR(I10="",J10=""),"",I10*J10) | L10: =IF(OR(F10="",I10=""),"",I10-F10) | M10: =IF(OR(F10="",G10="",I10=""),"",(I10-F10)*G10) | N10: =IF(OR(G10="",J10=""),"",J10-G10) | O10: =IF(OR(G10="",J10=""),"",IFERROR((J10-G10)/G10,"")) | P10: =IF(OR(I10="",G10="",J10=""),"",I10*(J10-G10)) | Q10: =IF(OR(H10="",K10=""),"",K10-H10) | R10: =IF(COUNTA(F10,G10,I10,J10)<4,"À compléter",IF(H10=0,"À vérifier",IF(OR(ABS(Q10)>='Paramètres'!$B$4,ABS(IFERROR(Q10/H10,0))>='Paramètres'!$B$5),"Alerte","Sous seuil"))) | S10: Documenter l’écart de prix dans le suivi interne.
A11: P006 | B11: Façades | C11: Bardage démonstration | D11: m² | E11: 46265 | F11: 620 | G11: 58 | H11: =IF(OR(F11="",G11=""),"",F11*G11) | I11: 650 | J11: 57 | K11: =IF(OR(I11="",J11=""),"",I11*J11) | L11: =IF(OR(F11="",I11=""),"",I11-F11) | M11: =IF(OR(F11="",G11="",I11=""),"",(I11-F11)*G11) | N11: =IF(OR(G11="",J11=""),"",J11-G11) | O11: =IF(OR(G11="",J11=""),"",IFERROR((J11-G11)/G11,"")) | P11: =IF(OR(I11="",G11="",J11=""),"",I11*(J11-G11)) | Q11: =IF(OR(H11="",K11=""),"",K11-H11) | R11: =IF(COUNTA(F11,G11,I11,J11)<4,"À compléter",IF(H11=0,"À vérifier",IF(OR(ABS(Q11)>='Paramètres'!$B$4,ABS(IFERROR(Q11/H11,0))>='Paramètres'!$B$5),"Alerte","Sous seuil"))) | S11: Analyser le dépassement de quantité.
A12: P007 | B12: Menuiseries | C12: Porte fictive | D12: u | E12: 46265 | F12: 18 | G12: 780 | H12: =IF(OR(F12="",G12=""),"",F12*G12) | I12: 20 | J12: 810 | K12: =IF(OR(I12="",J12=""),"",I12*J12) | L12: =IF(OR(F12="",I12=""),"",I12-F12) | M12: =IF(OR(F12="",G12="",I12=""),"",(I12-F12)*G12) | N12: =IF(OR(G12="",J12=""),"",J12-G12) | O12: =IF(OR(G12="",J12=""),"",IFERROR((J12-G12)/G12,"")) | P12: =IF(OR(I12="",G12="",J12=""),"",I12*(J12-G12)) | Q12: =IF(OR(H12="",K12=""),"",K12-H12) | R12: =IF(COUNTA(F12,G12,I12,J12)<4,"À compléter",IF(H12=0,"À vérifier",IF(OR(ABS(Q12)>='Paramètres'!$B$4,ABS(IFERROR(Q12/H12,0))>='Paramètres'!$B$5),"Alerte","Sous seuil"))) | S12: Préparer une action corrective interne.
A13: P008 | B13: Électricité | C13: Chemin de câble | D13: m | E13: 46265 | F13: 450 | G13: 19 | H13: =IF(OR(F13="",G13=""),"",F13*G13) | I13: 430 | J13: 21 | K13: =IF(OR(I13="",J13=""),"",I13*J13) | L13: =IF(OR(F13="",I13=""),"",I13-F13) | M13: =IF(OR(F13="",G13="",I13=""),"",(I13-F13)*G13) | N13: =IF(OR(G13="",J13=""),"",J13-G13) | O13: =IF(OR(G13="",J13=""),"",IFERROR((J13-G13)/G13,"")) | P13: =IF(OR(I13="",G13="",J13=""),"",I13*(J13-G13)) | Q13: =IF(OR(H13="",K13=""),"",K13-H13) | R13: =IF(COUNTA(F13,G13,I13,J13)<4,"À compléter",IF(H13=0,"À vérifier",IF(OR(ABS(Q13)>='Paramètres'!$B$4,ABS(IFERROR(Q13/H13,0))>='Paramètres'!$B$5),"Alerte","Sous seuil"))) | S13: Vérifier l’effet du prix unitaire fictif.
A14: P009 | B14: Plomberie | C14: Canalisation fictive | D14: m | E14: 46265 | F14: 280 | G14: 24 | H14: =IF(OR(F14="",G14=""),"",F14*G14) | I14: 295 | J14: 23.5 | K14: =IF(OR(I14="",J14=""),"",I14*J14) | L14: =IF(OR(F14="",I14=""),"",I14-F14) | M14: =IF(OR(F14="",G14="",I14=""),"",(I14-F14)*G14) | N14: =IF(OR(G14="",J14=""),"",J14-G14) | O14: =IF(OR(G14="",J14=""),"",IFERROR((J14-G14)/G14,"")) | P14: =IF(OR(I14="",G14="",J14=""),"",I14*(J14-G14)) | Q14: =IF(OR(H14="",K14=""),"",K14-H14) | R14: =IF(COUNTA(F14,G14,I14,J14)<4,"À compléter",IF(H14=0,"À vérifier",IF(OR(ABS(Q14)>='Paramètres'!$B$4,ABS(IFERROR(Q14/H14,0))>='Paramètres'!$B$5),"Alerte","Sous seuil"))) | S14: Poursuivre le suivi du volume réalisé.
A15: P010 | B15: Terrassement | C15: Heures d’engin démo | D15: h | E15: 46265 | F15: 75 | G15: 96 | H15: =IF(OR(F15="",G15=""),"",F15*G15) | I15: 88 | J15: 101 | K15: =IF(OR(I15="",J15=""),"",I15*J15) | L15: =IF(OR(F15="",I15=""),"",I15-F15) | M15: =IF(OR(F15="",G15="",I15=""),"",(I15-F15)*G15) | N15: =IF(OR(G15="",J15=""),"",J15-G15) | O15: =IF(OR(G15="",J15=""),"",IFERROR((J15-G15)/G15,"")) | P15: =IF(OR(I15="",G15="",J15=""),"",I15*(J15-G15)) | Q15: =IF(OR(H15="",K15=""),"",K15-H15) | R15: =IF(COUNTA(F15,G15,I15,J15)<4,"À compléter",IF(H15=0,"À vérifier",IF(OR(ABS(Q15)>='Paramètres'!$B$4,ABS(IFERROR(Q15/H15,0))>='Paramètres'!$B$5),"Alerte","Sous seuil"))) | S15: Analyser les heures et le coût horaire fictifs.
H16: =IF(OR(F16="",G16=""),"",F16*G16) | K16: =IF(OR(I16="",J16=""),"",I16*J16) | L16: =IF(OR(F16="",I16=""),"",I16-F16) | M16: =IF(OR(F16="",G16="",I16=""),"",(I16-F16)*G16) | N16: =IF(OR(G16="",J16=""),"",J16-G16) | O16: =IF(OR(G16="",J16=""),"",IFERROR((J16-G16)/G16,"")) | P16: =IF(OR(I16="",G16="",J16=""),"",I16*(J16-G16)) | Q16: =IF(OR(H16="",K16=""),"",K16-H16) | R16: =IF(COUNTA(F16,G16,I16,J16)<4,"À compléter",IF(H16=0,"À vérifier",IF(OR(ABS(Q16)>='Paramètres'!$B$4,ABS(IFERROR(Q16/H16,0))>='Paramètres'!$B$5),"Alerte","Sous seuil")))
H17: =IF(OR(F17="",G17=""),"",F17*G17) | K17: =IF(OR(I17="",J17=""),"",I17*J17) | L17: =IF(OR(F17="",I17=""),"",I17-F17) | M17: =IF(OR(F17="",G17="",I17=""),"",(I17-F17)*G17) | N17: =IF(OR(G17="",J17=""),"",J17-G17) | O17: =IF(OR(G17="",J17=""),"",IFERROR((J17-G17)/G17,"")) | P17: =IF(OR(I17="",G17="",J17=""),"",I17*(J17-G17)) | Q17: =IF(OR(H17="",K17=""),"",K17-H17) | R17: =IF(COUNTA(F17,G17,I17,J17)<4,"À compléter",IF(H17=0,"À vérifier",IF(OR(ABS(Q17)>='Paramètres'!$B$4,ABS(IFERROR(Q17/H17,0))>='Paramètres'!$B$5),"Alerte","Sous seuil")))
H18: =IF(OR(F18="",G18=""),"",F18*G18) | K18: =IF(OR(I18="",J18=""),"",I18*J18) | L18: =IF(OR(F18="",I18=""),"",I18-F18) | M18: =IF(OR(F18="",G18="",I18=""),"",(I18-F18)*G18) | N18: =IF(OR(G18="",J18=""),"",J18-G18) | O18: =IF(OR(G18="",J18=""),"",IFERROR((J18-G18)/G18,"")) | P18: =IF(OR(I18="",G18="",J18=""),"",I18*(J18-G18)) | Q18: =IF(OR(H18="",K18=""),"",K18-H18) | R18: =IF(COUNTA(F18,G18,I18,J18)<4,"À compléter",IF(H18=0,"À vérifier",IF(OR(ABS(Q18)>='Paramètres'!$B$4,ABS(IFERROR(Q18/H18,0))>='Paramètres'!$B$5),"Alerte","Sous seuil")))
H19: =IF(OR(F19="",G19=""),"",F19*G19) | K19: =IF(OR(I19="",J19=""),"",I19*J19) | L19: =IF(OR(F19="",I19=""),"",I19-F19) | M19: =IF(OR(F19="",G19="",I19=""),"",(I19-F19)*G19) | N19: =IF(OR(G19="",J19=""),"",J19-G19) | O19: =IF(OR(G19="",J19=""),"",IFERROR((J19-G19)/G19,"")) | P19: =IF(OR(I19="",G19="",J19=""),"",I19*(J19-G19)) | Q19: =IF(OR(H19="",K19=""),"",K19-H19) | R19: =IF(COUNTA(F19,G19,I19,J19)<4,"À compléter",IF(H19=0,"À vérifier",IF(OR(ABS(Q19)>='Paramètres'!$B$4,ABS(IFERROR(Q19/H19,0))>='Paramètres'!$B$5),"Alerte","Sous seuil")))
H20: =IF(OR(F20="",G20=""),"",F20*G20) | K20: =IF(OR(I20="",J20=""),"",I20*J20) | L20: =IF(OR(F20="",I20=""),"",I20-F20) | M20: =IF(OR(F20="",G20="",I20=""),"",(I20-F20)*G20) | N20: =IF(OR(G20="",J20=""),"",J20-G20) | O20: =IF(OR(G20="",J20=""),"",IFERROR((J20-G20)/G20,"")) | P20: =IF(OR(I20="",G20="",J20=""),"",I20*(J20-G20)) | Q20: =IF(OR(H20="",K20=""),"",K20-H20) | R20: =IF(COUNTA(F20,G20,I20,J20)<4,"À compléter",IF(H20=0,"À vérifier",IF(OR(ABS(Q20)>='Paramètres'!$B$4,ABS(IFERROR(Q20/H20,0))>='Paramètres'!$B$5),"Alerte","Sous seuil")))
H21: =IF(OR(F21="",G21=""),"",F21*G21) | K21: =IF(OR(I21="",J21=""),"",I21*J21) | L21: =IF(OR(F21="",I21=""),"",I21-F21) | M21: =IF(OR(F21="",G21="",I21=""),"",(I21-F21)*G21) | N21: =IF(OR(G21="",J21=""),"",J21-G21) | O21: =IF(OR(G21="",J21=""),"",IFERROR((J21-G21)/G21,"")) | P21: =IF(OR(I21="",G21="",J21=""),"",I21*(J21-G21)) | Q21: =IF(OR(H21="",K21=""),"",K21-H21) | R21: =IF(COUNTA(F21,G21,I21,J21)<4,"À compléter",IF(H21=0,"À vérifier",IF(OR(ABS(Q21)>='Paramètres'!$B$4,ABS(IFERROR(Q21/H21,0))>='Paramètres'!$B$5),"Alerte","Sous seuil")))
H22: =IF(OR(F22="",G22=""),"",F22*G22) | K22: =IF(OR(I22="",J22=""),"",I22*J22) | L22: =IF(OR(F22="",I22=""),"",I22-F22) | M22: =IF(OR(F22="",G22="",I22=""),"",(I22-F22)*G22) | N22: =IF(OR(G22="",J22=""),"",J22-G22) | O22: =IF(OR(G22="",J22=""),"",IFERROR((J22-G22)/G22,"")) | P22: =IF(OR(I22="",G22="",J22=""),"",I22*(J22-G22)) | Q22: =IF(OR(H22="",K22=""),"",K22-H22) | R22: =IF(COUNTA(F22,G22,I22,J22)<4,"À compléter",IF(H22=0,"À vérifier",IF(OR(ABS(Q22)>='Paramètres'!$B$4,ABS(IFERROR(Q22/H22,0))>='Paramètres'!$B$5),"Alerte","Sous seuil")))
H23: =IF(OR(F23="",G23=""),"",F23*G23) | K23: =IF(OR(I23="",J23=""),"",I23*J23) | L23: =IF(OR(F23="",I23=""),"",I23-F23) | M23: =IF(OR(F23="",G23="",I23=""),"",(I23-F23)*G23) | N23: =IF(OR(G23="",J23=""),"",J23-G23) | O23: =IF(OR(G23="",J23=""),"",IFERROR((J23-G23)/G23,"")) | P23: =IF(OR(I23="",G23="",J23=""),"",I23*(J23-G23)) | Q23: =IF(OR(H23="",K23=""),"",K23-H23) | R23: =IF(COUNTA(F23,G23,I23,J23)<4,"À compléter",IF(H23=0,"À vérifier",IF(OR(ABS(Q23)>='Paramètres'!$B$4,ABS(IFERROR(Q23/H23,0))>='Paramètres'!$B$5),"Alerte","Sous seuil")))
H24: =IF(OR(F24="",G24=""),"",F24*G24) | K24: =IF(OR(I24="",J24=""),"",I24*J24) | L24: =IF(OR(F24="",I24=""),"",I24-F24) | M24: =IF(OR(F24="",G24="",I24=""),"",(I24-F24)*G24) | N24: =IF(OR(G24="",J24=""),"",J24-G24) | O24: =IF(OR(G24="",J24=""),"",IFERROR((J24-G24)/G24,"")) | P24: =IF(OR(I24="",G24="",J24=""),"",I24*(J24-G24)) | Q24: =IF(OR(H24="",K24=""),"",K24-H24) | R24: =IF(COUNTA(F24,G24,I24,J24)<4,"À compléter",IF(H24=0,"À vérifier",IF(OR(ABS(Q24)>='Paramètres'!$B$4,ABS(IFERROR(Q24/H24,0))>='Paramètres'!$B$5),"Alerte","Sous seuil")))
H25: =IF(OR(F25="",G25=""),"",F25*G25) | K25: =IF(OR(I25="",J25=""),"",I25*J25) | L25: =IF(OR(F25="",I25=""),"",I25-F25) | M25: =IF(OR(F25="",G25="",I25=""),"",(I25-F25)*G25) | N25: =IF(OR(G25="",J25=""),"",J25-G25) | O25: =IF(OR(G25="",J25=""),"",IFERROR((J25-G25)/G25,"")) | P25: =IF(OR(I25="",G25="",J25=""),"",I25*(J25-G25)) | Q25: =IF(OR(H25="",K25=""),"",K25-H25) | R25: =IF(COUNTA(F25,G25,I25,J25)<4,"À compléter",IF(H25=0,"À vérifier",IF(OR(ABS(Q25)>='Paramètres'!$B$4,ABS(IFERROR(Q25/H25,0))>='Paramètres'!$B$5),"Alerte","Sous seuil")))
H26: =IF(OR(F26="",G26=""),"",F26*G26) | K26: =IF(OR(I26="",J26=""),"",I26*J26) | L26: =IF(OR(F26="",I26=""),"",I26-F26) | M26: =IF(OR(F26="",G26="",I26=""),"",(I26-F26)*G26) | N26: =IF(OR(G26="",J26=""),"",J26-G26) | O26: =IF(OR(G26="",J26=""),"",IFERROR((J26-G26)/G26,"")) | P26: =IF(OR(I26="",G26="",J26=""),"",I26*(J26-G26)) | Q26: =IF(OR(H26="",K26=""),"",K26-H26) | R26: =IF(COUNTA(F26,G26,I26,J26)<4,"À compléter",IF(H26=0,"À vérifier",IF(OR(ABS(Q26)>='Paramètres'!$B$4,ABS(IFERROR(Q26/H26,0))>='Paramètres'!$B$5),"Alerte","Sous seuil")))
H27: =IF(OR(F27="",G27=""),"",F27*G27) | K27: =IF(OR(I27="",J27=""),"",I27*J27) | L27: =IF(OR(F27="",I27=""),"",I27-F27) | M27: =IF(OR(F27="",G27="",I27=""),"",(I27-F27)*G27) | N27: =IF(OR(G27="",J27=""),"",J27-G27) | O27: =IF(OR(G27="",J27=""),"",IFERROR((J27-G27)/G27,"")) | P27: =IF(OR(I27="",G27="",J27=""),"",I27*(J27-G27)) | Q27: =IF(OR(H27="",K27=""),"",K27-H27) | R27: =IF(COUNTA(F27,G27,I27,J27)<4,"À compléter",IF(H27=0,"À vérifier",IF(OR(ABS(Q27)>='Paramètres'!$B$4,ABS(IFERROR(Q27/H27,0))>='Paramètres'!$B$5),"Alerte","Sous seuil")))
... H105: =IF(OR(F105="",G105=""),"",F105*G105) | K105: =IF(OR(I105="",J105=""),"",I105*J105) | L105: =IF(OR(F105="",I105=""),"",I105-F105) | M105: =IF(OR(F105="",G105="",I105=""),"",(I105-F105)*G105) | N105: =IF(OR(G105="",J105=""),"",J105-G105) | O105: =IF(OR(G105="",J105=""),"",IFERROR((J105-G105)/G105,"")) | P105: =IF(OR(I105="",G105="",J105=""),"",I105*(J105-G105)) | Q105: =IF(OR(H105="",K105=""),"",K105-H105) | R105: =IF(COUNTA(F105,G105,I105,J105)<4,"À compléter",IF(H105=0,"À vérifier",IF(OR(ABS(Q105)>='Paramètres'!$B$4,ABS(IFERROR(Q105/H105,0))>='Paramètres'!$B$5),"Alerte","Sous seuil")))

Sheet Paramètres
A1: Paramètres de pilotage
A2: Nom du chantier | B2: CHANTIER DÉMO – DONNÉES FICTIVES
A3: Date d’arrêté | B3: 46272
A4: Seuil d’alerte absolu | B4: 1000
A5: Seuil d’alerte relatif | B5: 0.1
A6: Tolérance de contrôle | B6: 0.01
A7: Première date autorisée | B7: 46023
A9: Les seuils et listes sont des hypothèses modifiables pour le pilotage interne.
A10: Lots autorisés | C10: Unités autorisées
A11: Terrassement | C11: m
A12: Gros œuvre | C12: m²
A13: Charpente | C13: m³
A14: Couverture | C14: kg
A15: Façades | C15: t
A16: Menuiseries | C16: u
A17: Électricité | C17: h
A18: Plomberie
