Workbook

Sheet Synthèse
A1: Pilotage quotidien des livrables — chantier fictif Horizon Démo
A2: Registre opérationnel interne sans valeur de document officiel ; modifier les hypothèses dans la feuille Paramètres.
A3: Date d’analyse | B3: ='Paramètres'!$B$2 | C3: Anticipation | D3: ='Paramètres'!$B$3 | E3: Fréquence de relance | F3: ='Paramètres'!$B$4 | G3: Horizon à venir | H3: ='Paramètres'!$B$5
A5: Livrables | B5: =COUNTIF(Livrables!A2:A151,"<>") | C5: Retards | D5: =COUNTIFS(Livrables!N2:N151,"<0") | E5: Relances dues | F5: =COUNTIFS(Livrables!Q2:Q151,"<="&'Paramètres'!$B$2,Livrables!Q2:Q151,"<>") | G5: Taux accepté | H5: =IFERROR(COUNTIF(Livrables!J2:J151,"Accepté")/(COUNTIF(Livrables!A2:A151,"<>")-COUNTIF(Livrables!J2:J151,"Annulé")),0)
A7: Répartition opérationnelle par lot
A8: Lot | B8: Total | C8: En retard | D8: Relances dues | E8: Acceptés
A9: =IF('Paramètres'!G2="","",'Paramètres'!G2) | B9: =IF($A9="","",COUNTIF(Livrables!$B$2:$B$151,$A9)) | C9: =IF($A9="","",COUNTIFS(Livrables!$B$2:$B$151,$A9,Livrables!$N$2:$N$151,"<0")) | D9: =IF($A9="","",COUNTIFS(Livrables!$B$2:$B$151,$A9,Livrables!$Q$2:$Q$151,"<="&'Paramètres'!$B$2,Livrables!$Q$2:$Q$151,"<>")) | E9: =IF($A9="","",COUNTIFS(Livrables!$B$2:$B$151,$A9,Livrables!$J$2:$J$151,"Accepté"))
A10: =IF('Paramètres'!G3="","",'Paramètres'!G3) | B10: =IF($A10="","",COUNTIF(Livrables!$B$2:$B$151,$A10)) | C10: =IF($A10="","",COUNTIFS(Livrables!$B$2:$B$151,$A10,Livrables!$N$2:$N$151,"<0")) | D10: =IF($A10="","",COUNTIFS(Livrables!$B$2:$B$151,$A10,Livrables!$Q$2:$Q$151,"<="&'Paramètres'!$B$2,Livrables!$Q$2:$Q$151,"<>")) | E10: =IF($A10="","",COUNTIFS(Livrables!$B$2:$B$151,$A10,Livrables!$J$2:$J$151,"Accepté"))
A11: =IF('Paramètres'!G4="","",'Paramètres'!G4) | B11: =IF($A11="","",COUNTIF(Livrables!$B$2:$B$151,$A11)) | C11: =IF($A11="","",COUNTIFS(Livrables!$B$2:$B$151,$A11,Livrables!$N$2:$N$151,"<0")) | D11: =IF($A11="","",COUNTIFS(Livrables!$B$2:$B$151,$A11,Livrables!$Q$2:$Q$151,"<="&'Paramètres'!$B$2,Livrables!$Q$2:$Q$151,"<>")) | E11: =IF($A11="","",COUNTIFS(Livrables!$B$2:$B$151,$A11,Livrables!$J$2:$J$151,"Accepté"))
A12: =IF('Paramètres'!G5="","",'Paramètres'!G5) | B12: =IF($A12="","",COUNTIF(Livrables!$B$2:$B$151,$A12)) | C12: =IF($A12="","",COUNTIFS(Livrables!$B$2:$B$151,$A12,Livrables!$N$2:$N$151,"<0")) | D12: =IF($A12="","",COUNTIFS(Livrables!$B$2:$B$151,$A12,Livrables!$Q$2:$Q$151,"<="&'Paramètres'!$B$2,Livrables!$Q$2:$Q$151,"<>")) | E12: =IF($A12="","",COUNTIFS(Livrables!$B$2:$B$151,$A12,Livrables!$J$2:$J$151,"Accepté"))
A13: =IF('Paramètres'!G6="","",'Paramètres'!G6) | B13: =IF($A13="","",COUNTIF(Livrables!$B$2:$B$151,$A13)) | C13: =IF($A13="","",COUNTIFS(Livrables!$B$2:$B$151,$A13,Livrables!$N$2:$N$151,"<0")) | D13: =IF($A13="","",COUNTIFS(Livrables!$B$2:$B$151,$A13,Livrables!$Q$2:$Q$151,"<="&'Paramètres'!$B$2,Livrables!$Q$2:$Q$151,"<>")) | E13: =IF($A13="","",COUNTIFS(Livrables!$B$2:$B$151,$A13,Livrables!$J$2:$J$151,"Accepté"))
A14: =IF('Paramètres'!G7="","",'Paramètres'!G7) | B14: =IF($A14="","",COUNTIF(Livrables!$B$2:$B$151,$A14)) | C14: =IF($A14="","",COUNTIFS(Livrables!$B$2:$B$151,$A14,Livrables!$N$2:$N$151,"<0")) | D14: =IF($A14="","",COUNTIFS(Livrables!$B$2:$B$151,$A14,Livrables!$Q$2:$Q$151,"<="&'Paramètres'!$B$2,Livrables!$Q$2:$Q$151,"<>")) | E14: =IF($A14="","",COUNTIFS(Livrables!$B$2:$B$151,$A14,Livrables!$J$2:$J$151,"Accepté"))
A15: =IF('Paramètres'!G8="","",'Paramètres'!G8) | B15: =IF($A15="","",COUNTIF(Livrables!$B$2:$B$151,$A15)) | C15: =IF($A15="","",COUNTIFS(Livrables!$B$2:$B$151,$A15,Livrables!$N$2:$N$151,"<0")) | D15: =IF($A15="","",COUNTIFS(Livrables!$B$2:$B$151,$A15,Livrables!$Q$2:$Q$151,"<="&'Paramètres'!$B$2,Livrables!$Q$2:$Q$151,"<>")) | E15: =IF($A15="","",COUNTIFS(Livrables!$B$2:$B$151,$A15,Livrables!$J$2:$J$151,"Accepté"))
A16: =IF('Paramètres'!G9="","",'Paramètres'!G9) | B16: =IF($A16="","",COUNTIF(Livrables!$B$2:$B$151,$A16)) | C16: =IF($A16="","",COUNTIFS(Livrables!$B$2:$B$151,$A16,Livrables!$N$2:$N$151,"<0")) | D16: =IF($A16="","",COUNTIFS(Livrables!$B$2:$B$151,$A16,Livrables!$Q$2:$Q$151,"<="&'Paramètres'!$B$2,Livrables!$Q$2:$Q$151,"<>")) | E16: =IF($A16="","",COUNTIFS(Livrables!$B$2:$B$151,$A16,Livrables!$J$2:$J$151,"Accepté"))
A17: =IF('Paramètres'!G10="","",'Paramètres'!G10) | B17: =IF($A17="","",COUNTIF(Livrables!$B$2:$B$151,$A17)) | C17: =IF($A17="","",COUNTIFS(Livrables!$B$2:$B$151,$A17,Livrables!$N$2:$N$151,"<0")) | D17: =IF($A17="","",COUNTIFS(Livrables!$B$2:$B$151,$A17,Livrables!$Q$2:$Q$151,"<="&'Paramètres'!$B$2,Livrables!$Q$2:$Q$151,"<>")) | E17: =IF($A17="","",COUNTIFS(Livrables!$B$2:$B$151,$A17,Livrables!$J$2:$J$151,"Accepté"))
A18: =IF('Paramètres'!G11="","",'Paramètres'!G11) | B18: =IF($A18="","",COUNTIF(Livrables!$B$2:$B$151,$A18)) | C18: =IF($A18="","",COUNTIFS(Livrables!$B$2:$B$151,$A18,Livrables!$N$2:$N$151,"<0")) | D18: =IF($A18="","",COUNTIFS(Livrables!$B$2:$B$151,$A18,Livrables!$Q$2:$Q$151,"<="&'Paramètres'!$B$2,Livrables!$Q$2:$Q$151,"<>")) | E18: =IF($A18="","",COUNTIFS(Livrables!$B$2:$B$151,$A18,Livrables!$J$2:$J$151,"Accepté"))
A19: =IF('Paramètres'!G12="","",'Paramètres'!G12) | B19: =IF($A19="","",COUNTIF(Livrables!$B$2:$B$151,$A19)) | C19: =IF($A19="","",COUNTIFS(Livrables!$B$2:$B$151,$A19,Livrables!$N$2:$N$151,"<0")) | D19: =IF($A19="","",COUNTIFS(Livrables!$B$2:$B$151,$A19,Livrables!$Q$2:$Q$151,"<="&'Paramètres'!$B$2,Livrables!$Q$2:$Q$151,"<>")) | E19: =IF($A19="","",COUNTIFS(Livrables!$B$2:$B$151,$A19,Livrables!$J$2:$J$151,"Accepté"))
A20: =IF('Paramètres'!G13="","",'Paramètres'!G13) | B20: =IF($A20="","",COUNTIF(Livrables!$B$2:$B$151,$A20)) | C20: =IF($A20="","",COUNTIFS(Livrables!$B$2:$B$151,$A20,Livrables!$N$2:$N$151,"<0")) | D20: =IF($A20="","",COUNTIFS(Livrables!$B$2:$B$151,$A20,Livrables!$Q$2:$Q$151,"<="&'Paramètres'!$B$2,Livrables!$Q$2:$Q$151,"<>")) | E20: =IF($A20="","",COUNTIFS(Livrables!$B$2:$B$151,$A20,Livrables!$J$2:$J$151,"Accepté"))
... A23: =IF('Paramètres'!G16="","",'Paramètres'!G16) | B23: =IF($A23="","",COUNTIF(Livrables!$B$2:$B$151,$A23)) | C23: =IF($A23="","",COUNTIFS(Livrables!$B$2:$B$151,$A23,Livrables!$N$2:$N$151,"<0")) | D23: =IF($A23="","",COUNTIFS(Livrables!$B$2:$B$151,$A23,Livrables!$Q$2:$Q$151,"<="&'Paramètres'!$B$2,Livrables!$Q$2:$Q$151,"<>")) | E23: =IF($A23="","",COUNTIFS(Livrables!$B$2:$B$151,$A23,Livrables!$J$2:$J$151,"Accepté"))
A24: Total des lots listés | B24: =SUM(B9:B23) | C24: =SUM(C9:C23) | D24: =SUM(D9:D23) | E24: =SUM(E9:E23)
A26: Repères de décision
A27: Retard : échéance active antérieure à la date d’analyse.
A28: Relance due : prochaine relance atteinte ou dépassée.
A29: Les statuts Accepté et Annulé sont exclus des échéances et relances.
A30: Le registre ne suit ni l’avancement physique, ni les coûts, ni la conformité technique.

Sheet Livrables
A1: Identifiant | B1: Lot | C1: Catégorie | D1: Intitulé | E1: Auteur prévu | F1: Destinataire | G1: Date attendue initiale | H1: Date attendue révisée | I1: Échéance active | J1: Statut | K1: Date version courante | L1: Version courante | M1: Auteur de la version | N1: Écart échéance (jours) | O1: Priorité | P1: Dernière relance | Q1: Prochaine relance | R1: Contrôle | S1: Date analyse technique | T1: Horizon technique
A2: DEMO-LIV-001 | B2: Gros œuvre | C2: Plan | D2: Plan de réservations zone A | E2: Bureau Structure Démo | F2: Coordination Horizon Démo | G2: 46267 | I2: =IF(A2="","",IF(H2<>"",H2,G2)) | J2: En cours | K2: =IF(A2="","",IFERROR(_xlfn.XLOOKUP(A2,Versions!$H$2:$H$201,Versions!$D$2:$D$201,""),"")) | L2: =IF(A2="","",IFERROR(_xlfn.XLOOKUP(A2,Versions!$H$2:$H$201,Versions!$C$2:$C$201,""),"")) | M2: =IF(A2="","",IFERROR(_xlfn.XLOOKUP(A2,Versions!$H$2:$H$201,Versions!$E$2:$E$201,""),"")) | N2: =IF(OR(A2="",I2="",J2="Accepté",J2="Annulé"),"",I2-'Paramètres'!$B$2) | O2: Haute | P2: 46268 | Q2: =IF(OR(A2="",I2="",J2="Accepté",J2="Annulé"),"",IF(P2="",I2-'Paramètres'!$B$3,MAX(P2+'Paramètres'!$B$4,I2-'Paramètres'!$B$3))) | R2: =IF(A2="","",IF(COUNTIF($A$2:$A$151,A2)>1,"Identifiant en double",IF(OR(D2="",E2="",G2="",J2=""),"À compléter",IF(AND(OR(J2="Envoyé",J2="À corriger",J2="Accepté"),K2=""),"Version courante absente","OK")))) | S2: ='Paramètres'!$B$2 | T2: ='Paramètres'!$B$5 | U2: ='Paramètres'!G2 | V2: ='Paramètres'!F2 | W2: ='Paramètres'!D2 | X2: ='Paramètres'!E2
A3: DEMO-LIV-002 | B3: CVC | C3: Fiche technique | D3: Centrale fictive CTA-01 | E3: Atelier Ventilation Fictive | F3: Coordination Horizon Démo | G3: 46274 | I3: =IF(A3="","",IF(H3<>"",H3,G3)) | J3: En cours | K3: =IF(A3="","",IFERROR(_xlfn.XLOOKUP(A3,Versions!$H$2:$H$201,Versions!$D$2:$D$201,""),"")) | L3: =IF(A3="","",IFERROR(_xlfn.XLOOKUP(A3,Versions!$H$2:$H$201,Versions!$C$2:$C$201,""),"")) | M3: =IF(A3="","",IFERROR(_xlfn.XLOOKUP(A3,Versions!$H$2:$H$201,Versions!$E$2:$E$201,""),"")) | N3: =IF(OR(A3="",I3="",J3="Accepté",J3="Annulé"),"",I3-'Paramètres'!$B$2) | O3: Normale | Q3: =IF(OR(A3="",I3="",J3="Accepté",J3="Annulé"),"",IF(P3="",I3-'Paramètres'!$B$3,MAX(P3+'Paramètres'!$B$4,I3-'Paramètres'!$B$3))) | R3: =IF(A3="","",IF(COUNTIF($A$2:$A$151,A3)>1,"Identifiant en double",IF(OR(D3="",E3="",G3="",J3=""),"À compléter",IF(AND(OR(J3="Envoyé",J3="À corriger",J3="Accepté"),K3=""),"Version courante absente","OK")))) | U3: ='Paramètres'!G3 | V3: ='Paramètres'!F3 | W3: ='Paramètres'!D3 | X3: ='Paramètres'!E3
A4: DEMO-LIV-003 | B4: Électricité | C4: Plan | D4: Schéma armoire DEMO-TGBT | E4: Électricité Scénario Démo | F4: Cellule Synthèse Fictive | G4: 46264 | I4: =IF(A4="","",IF(H4<>"",H4,G4)) | J4: Envoyé | K4: =IF(A4="","",IFERROR(_xlfn.XLOOKUP(A4,Versions!$H$2:$H$201,Versions!$D$2:$D$201,""),"")) | L4: =IF(A4="","",IFERROR(_xlfn.XLOOKUP(A4,Versions!$H$2:$H$201,Versions!$C$2:$C$201,""),"")) | M4: =IF(A4="","",IFERROR(_xlfn.XLOOKUP(A4,Versions!$H$2:$H$201,Versions!$E$2:$E$201,""),"")) | N4: =IF(OR(A4="",I4="",J4="Accepté",J4="Annulé"),"",I4-'Paramètres'!$B$2) | O4: Critique | P4: 46269 | Q4: =IF(OR(A4="",I4="",J4="Accepté",J4="Annulé"),"",IF(P4="",I4-'Paramètres'!$B$3,MAX(P4+'Paramètres'!$B$4,I4-'Paramètres'!$B$3))) | R4: =IF(A4="","",IF(COUNTIF($A$2:$A$151,A4)>1,"Identifiant en double",IF(OR(D4="",E4="",G4="",J4=""),"À compléter",IF(AND(OR(J4="Envoyé",J4="À corriger",J4="Accepté"),K4=""),"Version courante absente","OK")))) | U4: ='Paramètres'!G4 | V4: ='Paramètres'!F4 | W4: ='Paramètres'!D4 | X4: ='Paramètres'!E4
A5: DEMO-LIV-004 | B5: Architecture | C5: Plan | D5: Faux plafond niveau fictif | E5: Studio Architecture Démo | F5: Coordination Horizon Démo | G5: 46259 | I5: =IF(A5="","",IF(H5<>"",H5,G5)) | J5: À corriger | K5: =IF(A5="","",IFERROR(_xlfn.XLOOKUP(A5,Versions!$H$2:$H$201,Versions!$D$2:$D$201,""),"")) | L5: =IF(A5="","",IFERROR(_xlfn.XLOOKUP(A5,Versions!$H$2:$H$201,Versions!$C$2:$C$201,""),"")) | M5: =IF(A5="","",IFERROR(_xlfn.XLOOKUP(A5,Versions!$H$2:$H$201,Versions!$E$2:$E$201,""),"")) | N5: =IF(OR(A5="",I5="",J5="Accepté",J5="Annulé"),"",I5-'Paramètres'!$B$2) | O5: Critique | P5: 46270 | Q5: =IF(OR(A5="",I5="",J5="Accepté",J5="Annulé"),"",IF(P5="",I5-'Paramètres'!$B$3,MAX(P5+'Paramètres'!$B$4,I5-'Paramètres'!$B$3))) | R5: =IF(A5="","",IF(COUNTIF($A$2:$A$151,A5)>1,"Identifiant en double",IF(OR(D5="",E5="",G5="",J5=""),"À compléter",IF(AND(OR(J5="Envoyé",J5="À corriger",J5="Accepté"),K5=""),"Version courante absente","OK")))) | U5: ='Paramètres'!G5 | V5: ='Paramètres'!F5 | W5: ='Paramètres'!D5 | X5: ='Paramètres'!E5
A6: DEMO-LIV-005 | B6: Plomberie | C6: Plan | D6: Synthèse réseaux zone B | E6: Plomberie Maquette Fictive | F6: Cellule Synthèse Fictive | G6: 46272 | I6: =IF(A6="","",IF(H6<>"",H6,G6)) | J6: À préparer | K6: =IF(A6="","",IFERROR(_xlfn.XLOOKUP(A6,Versions!$H$2:$H$201,Versions!$D$2:$D$201,""),"")) | L6: =IF(A6="","",IFERROR(_xlfn.XLOOKUP(A6,Versions!$H$2:$H$201,Versions!$C$2:$C$201,""),"")) | M6: =IF(A6="","",IFERROR(_xlfn.XLOOKUP(A6,Versions!$H$2:$H$201,Versions!$E$2:$E$201,""),"")) | N6: =IF(OR(A6="",I6="",J6="Accepté",J6="Annulé"),"",I6-'Paramètres'!$B$2) | O6: Haute | Q6: =IF(OR(A6="",I6="",J6="Accepté",J6="Annulé"),"",IF(P6="",I6-'Paramètres'!$B$3,MAX(P6+'Paramètres'!$B$4,I6-'Paramètres'!$B$3))) | R6: =IF(A6="","",IF(COUNTIF($A$2:$A$151,A6)>1,"Identifiant en double",IF(OR(D6="",E6="",G6="",J6=""),"À compléter",IF(AND(OR(J6="Envoyé",J6="À corriger",J6="Accepté"),K6=""),"Version courante absente","OK")))) | U6: ='Paramètres'!G6 | V6: ='Paramètres'!F6 | W6: ='Paramètres'!D6 | X6: ='Paramètres'!E6
A7: DEMO-LIV-006 | B7: Façades | C7: Échantillon | D7: Teinte panneau DEMO-01 | E7: Façades Fiction Démo | F7: Architecture Horizon Démo | G7: 46280 | I7: =IF(A7="","",IF(H7<>"",H7,G7)) | J7: En cours | K7: =IF(A7="","",IFERROR(_xlfn.XLOOKUP(A7,Versions!$H$2:$H$201,Versions!$D$2:$D$201,""),"")) | L7: =IF(A7="","",IFERROR(_xlfn.XLOOKUP(A7,Versions!$H$2:$H$201,Versions!$C$2:$C$201,""),"")) | M7: =IF(A7="","",IFERROR(_xlfn.XLOOKUP(A7,Versions!$H$2:$H$201,Versions!$E$2:$E$201,""),"")) | N7: =IF(OR(A7="",I7="",J7="Accepté",J7="Annulé"),"",I7-'Paramètres'!$B$2) | O7: Normale | Q7: =IF(OR(A7="",I7="",J7="Accepté",J7="Annulé"),"",IF(P7="",I7-'Paramètres'!$B$3,MAX(P7+'Paramètres'!$B$4,I7-'Paramètres'!$B$3))) | R7: =IF(A7="","",IF(COUNTIF($A$2:$A$151,A7)>1,"Identifiant en double",IF(OR(D7="",E7="",G7="",J7=""),"À compléter",IF(AND(OR(J7="Envoyé",J7="À corriger",J7="Accepté"),K7=""),"Version courante absente","OK")))) | U7: ='Paramètres'!G7 | V7: ='Paramètres'!F7 | W7: ='Paramètres'!D7 | X7: ='Paramètres'!E7
A8: DEMO-LIV-007 | B8: Terrassement | C8: Planning | D8: Séquence zone test | E8: Terrassement Démonstration | F8: Coordination Horizon Démo | G8: 46285 | I8: =IF(A8="","",IF(H8<>"",H8,G8)) | J8: À préparer | K8: =IF(A8="","",IFERROR(_xlfn.XLOOKUP(A8,Versions!$H$2:$H$201,Versions!$D$2:$D$201,""),"")) | L8: =IF(A8="","",IFERROR(_xlfn.XLOOKUP(A8,Versions!$H$2:$H$201,Versions!$C$2:$C$201,""),"")) | M8: =IF(A8="","",IFERROR(_xlfn.XLOOKUP(A8,Versions!$H$2:$H$201,Versions!$E$2:$E$201,""),"")) | N8: =IF(OR(A8="",I8="",J8="Accepté",J8="Annulé"),"",I8-'Paramètres'!$B$2) | O8: Basse | Q8: =IF(OR(A8="",I8="",J8="Accepté",J8="Annulé"),"",IF(P8="",I8-'Paramètres'!$B$3,MAX(P8+'Paramètres'!$B$4,I8-'Paramètres'!$B$3))) | R8: =IF(A8="","",IF(COUNTIF($A$2:$A$151,A8)>1,"Identifiant en double",IF(OR(D8="",E8="",G8="",J8=""),"À compléter",IF(AND(OR(J8="Envoyé",J8="À corriger",J8="Accepté"),K8=""),"Version courante absente","OK")))) | U8: ='Paramètres'!G8 | V8: ='Paramètres'!F8 | W8: ='Paramètres'!D8 | X8: ='Paramètres'!E8
A9: DEMO-LIV-008 | B9: VRD | C9: Plan | D9: Récolement zone test | E9: VRD Projet Fictif | F9: Coordination Horizon Démo | G9: 46266 | I9: =IF(A9="","",IF(H9<>"",H9,G9)) | J9: Accepté | K9: =IF(A9="","",IFERROR(_xlfn.XLOOKUP(A9,Versions!$H$2:$H$201,Versions!$D$2:$D$201,""),"")) | L9: =IF(A9="","",IFERROR(_xlfn.XLOOKUP(A9,Versions!$H$2:$H$201,Versions!$C$2:$C$201,""),"")) | M9: =IF(A9="","",IFERROR(_xlfn.XLOOKUP(A9,Versions!$H$2:$H$201,Versions!$E$2:$E$201,""),"")) | N9: =IF(OR(A9="",I9="",J9="Accepté",J9="Annulé"),"",I9-'Paramètres'!$B$2) | O9: Normale | P9: 46263 | Q9: =IF(OR(A9="",I9="",J9="Accepté",J9="Annulé"),"",IF(P9="",I9-'Paramètres'!$B$3,MAX(P9+'Paramètres'!$B$4,I9-'Paramètres'!$B$3))) | R9: =IF(A9="","",IF(COUNTIF($A$2:$A$151,A9)>1,"Identifiant en double",IF(OR(D9="",E9="",G9="",J9=""),"À compléter",IF(AND(OR(J9="Envoyé",J9="À corriger",J9="Accepté"),K9=""),"Version courante absente","OK")))) | U9: ='Paramètres'!G9 | V9: ='Paramètres'!F9 | W9: ='Paramètres'!D9 | X9: ='Paramètres'!E9
A10: DEMO-LIV-009 | B10: Menuiseries | C10: Fiche technique | D10: Porte fictive PF-01 | E10: Menuiserie Imaginaire | F10: Architecture Horizon Démo | G10: 46277 | I10: =IF(A10="","",IF(H10<>"",H10,G10)) | J10: Annulé | K10: =IF(A10="","",IFERROR(_xlfn.XLOOKUP(A10,Versions!$H$2:$H$201,Versions!$D$2:$D$201,""),"")) | L10: =IF(A10="","",IFERROR(_xlfn.XLOOKUP(A10,Versions!$H$2:$H$201,Versions!$C$2:$C$201,""),"")) | M10: =IF(A10="","",IFERROR(_xlfn.XLOOKUP(A10,Versions!$H$2:$H$201,Versions!$E$2:$E$201,""),"")) | N10: =IF(OR(A10="",I10="",J10="Accepté",J10="Annulé"),"",I10-'Paramètres'!$B$2) | O10: Basse | Q10: =IF(OR(A10="",I10="",J10="Accepté",J10="Annulé"),"",IF(P10="",I10-'Paramètres'!$B$3,MAX(P10+'Paramètres'!$B$4,I10-'Paramètres'!$B$3))) | R10: =IF(A10="","",IF(COUNTIF($A$2:$A$151,A10)>1,"Identifiant en double",IF(OR(D10="",E10="",G10="",J10=""),"À compléter",IF(AND(OR(J10="Envoyé",J10="À corriger",J10="Accepté"),K10=""),"Version courante absente","OK")))) | U10: ='Paramètres'!G10 | V10: ='Paramètres'!F10 | W10: ='Paramètres'!D10 | X10: ='Paramètres'!E10
A11: DEMO-LIV-010 | B11: Peinture | C11: Échantillon | D11: Nuancier fictif N-01 | E11: Peinture Fiction | F11: Architecture Horizon Démo | G11: 46270 | I11: =IF(A11="","",IF(H11<>"",H11,G11)) | J11: Envoyé | K11: =IF(A11="","",IFERROR(_xlfn.XLOOKUP(A11,Versions!$H$2:$H$201,Versions!$D$2:$D$201,""),"")) | L11: =IF(A11="","",IFERROR(_xlfn.XLOOKUP(A11,Versions!$H$2:$H$201,Versions!$C$2:$C$201,""),"")) | M11: =IF(A11="","",IFERROR(_xlfn.XLOOKUP(A11,Versions!$H$2:$H$201,Versions!$E$2:$E$201,""),"")) | N11: =IF(OR(A11="",I11="",J11="Accepté",J11="Annulé"),"",I11-'Paramètres'!$B$2) | O11: Haute | P11: 46271 | Q11: =IF(OR(A11="",I11="",J11="Accepté",J11="Annulé"),"",IF(P11="",I11-'Paramètres'!$B$3,MAX(P11+'Paramètres'!$B$4,I11-'Paramètres'!$B$3))) | R11: =IF(A11="","",IF(COUNTIF($A$2:$A$151,A11)>1,"Identifiant en double",IF(OR(D11="",E11="",G11="",J11=""),"À compléter",IF(AND(OR(J11="Envoyé",J11="À corriger",J11="Accepté"),K11=""),"Version courante absente","OK")))) | U11: ='Paramètres'!G11 | V11: ='Paramètres'!F11 | W11: ='Paramètres'!D11 | X11: ='Paramètres'!E11
I12: =IF(A12="","",IF(H12<>"",H12,G12)) | K12: =IF(A12="","",IFERROR(_xlfn.XLOOKUP(A12,Versions!$H$2:$H$201,Versions!$D$2:$D$201,""),"")) | L12: =IF(A12="","",IFERROR(_xlfn.XLOOKUP(A12,Versions!$H$2:$H$201,Versions!$C$2:$C$201,""),"")) | M12: =IF(A12="","",IFERROR(_xlfn.XLOOKUP(A12,Versions!$H$2:$H$201,Versions!$E$2:$E$201,""),"")) | N12: =IF(OR(A12="",I12="",J12="Accepté",J12="Annulé"),"",I12-'Paramètres'!$B$2) | Q12: =IF(OR(A12="",I12="",J12="Accepté",J12="Annulé"),"",IF(P12="",I12-'Paramètres'!$B$3,MAX(P12+'Paramètres'!$B$4,I12-'Paramètres'!$B$3))) | R12: =IF(A12="","",IF(COUNTIF($A$2:$A$151,A12)>1,"Identifiant en double",IF(OR(D12="",E12="",G12="",J12=""),"À compléter",IF(AND(OR(J12="Envoyé",J12="À corriger",J12="Accepté"),K12=""),"Version courante absente","OK")))) | U12: ='Paramètres'!G12 | V12: ='Paramètres'!F12 | W12: ='Paramètres'!D12 | X12: ='Paramètres'!E12
I13: =IF(A13="","",IF(H13<>"",H13,G13)) | K13: =IF(A13="","",IFERROR(_xlfn.XLOOKUP(A13,Versions!$H$2:$H$201,Versions!$D$2:$D$201,""),"")) | L13: =IF(A13="","",IFERROR(_xlfn.XLOOKUP(A13,Versions!$H$2:$H$201,Versions!$C$2:$C$201,""),"")) | M13: =IF(A13="","",IFERROR(_xlfn.XLOOKUP(A13,Versions!$H$2:$H$201,Versions!$E$2:$E$201,""),"")) | N13: =IF(OR(A13="",I13="",J13="Accepté",J13="Annulé"),"",I13-'Paramètres'!$B$2) | Q13: =IF(OR(A13="",I13="",J13="Accepté",J13="Annulé"),"",IF(P13="",I13-'Paramètres'!$B$3,MAX(P13+'Paramètres'!$B$4,I13-'Paramètres'!$B$3))) | R13: =IF(A13="","",IF(COUNTIF($A$2:$A$151,A13)>1,"Identifiant en double",IF(OR(D13="",E13="",G13="",J13=""),"À compléter",IF(AND(OR(J13="Envoyé",J13="À corriger",J13="Accepté"),K13=""),"Version courante absente","OK")))) | U13: ='Paramètres'!G13 | V13: ='Paramètres'!F13 | W13: ='Paramètres'!D13 | X13: ='Paramètres'!E13
I14: =IF(A14="","",IF(H14<>"",H14,G14)) | K14: =IF(A14="","",IFERROR(_xlfn.XLOOKUP(A14,Versions!$H$2:$H$201,Versions!$D$2:$D$201,""),"")) | L14: =IF(A14="","",IFERROR(_xlfn.XLOOKUP(A14,Versions!$H$2:$H$201,Versions!$C$2:$C$201,""),"")) | M14: =IF(A14="","",IFERROR(_xlfn.XLOOKUP(A14,Versions!$H$2:$H$201,Versions!$E$2:$E$201,""),"")) | N14: =IF(OR(A14="",I14="",J14="Accepté",J14="Annulé"),"",I14-'Paramètres'!$B$2) | Q14: =IF(OR(A14="",I14="",J14="Accepté",J14="Annulé"),"",IF(P14="",I14-'Paramètres'!$B$3,MAX(P14+'Paramètres'!$B$4,I14-'Paramètres'!$B$3))) | R14: =IF(A14="","",IF(COUNTIF($A$2:$A$151,A14)>1,"Identifiant en double",IF(OR(D14="",E14="",G14="",J14=""),"À compléter",IF(AND(OR(J14="Envoyé",J14="À corriger",J14="Accepté"),K14=""),"Version courante absente","OK")))) | U14: ='Paramètres'!G14 | V14: ='Paramètres'!F14 | W14: ='Paramètres'!D14 | X14: ='Paramètres'!E14
I15: =IF(A15="","",IF(H15<>"",H15,G15)) | K15: =IF(A15="","",IFERROR(_xlfn.XLOOKUP(A15,Versions!$H$2:$H$201,Versions!$D$2:$D$201,""),"")) | L15: =IF(A15="","",IFERROR(_xlfn.XLOOKUP(A15,Versions!$H$2:$H$201,Versions!$C$2:$C$201,""),"")) | M15: =IF(A15="","",IFERROR(_xlfn.XLOOKUP(A15,Versions!$H$2:$H$201,Versions!$E$2:$E$201,""),"")) | N15: =IF(OR(A15="",I15="",J15="Accepté",J15="Annulé"),"",I15-'Paramètres'!$B$2) | Q15: =IF(OR(A15="",I15="",J15="Accepté",J15="Annulé"),"",IF(P15="",I15-'Paramètres'!$B$3,MAX(P15+'Paramètres'!$B$4,I15-'Paramètres'!$B$3))) | R15: =IF(A15="","",IF(COUNTIF($A$2:$A$151,A15)>1,"Identifiant en double",IF(OR(D15="",E15="",G15="",J15=""),"À compléter",IF(AND(OR(J15="Envoyé",J15="À corriger",J15="Accepté"),K15=""),"Version courante absente","OK")))) | U15: ='Paramètres'!G15 | V15: ='Paramètres'!F15 | W15: ='Paramètres'!D15 | X15: ='Paramètres'!E15
I16: =IF(A16="","",IF(H16<>"",H16,G16)) | K16: =IF(A16="","",IFERROR(_xlfn.XLOOKUP(A16,Versions!$H$2:$H$201,Versions!$D$2:$D$201,""),"")) | L16: =IF(A16="","",IFERROR(_xlfn.XLOOKUP(A16,Versions!$H$2:$H$201,Versions!$C$2:$C$201,""),"")) | M16: =IF(A16="","",IFERROR(_xlfn.XLOOKUP(A16,Versions!$H$2:$H$201,Versions!$E$2:$E$201,""),"")) | N16: =IF(OR(A16="",I16="",J16="Accepté",J16="Annulé"),"",I16-'Paramètres'!$B$2) | Q16: =IF(OR(A16="",I16="",J16="Accepté",J16="Annulé"),"",IF(P16="",I16-'Paramètres'!$B$3,MAX(P16+'Paramètres'!$B$4,I16-'Paramètres'!$B$3))) | R16: =IF(A16="","",IF(COUNTIF($A$2:$A$151,A16)>1,"Identifiant en double",IF(OR(D16="",E16="",G16="",J16=""),"À compléter",IF(AND(OR(J16="Envoyé",J16="À corriger",J16="Accepté"),K16=""),"Version courante absente","OK")))) | U16: ='Paramètres'!G16 | V16: ='Paramètres'!F16 | W16: ='Paramètres'!D16 | X16: ='Paramètres'!E16
I17: =IF(A17="","",IF(H17<>"",H17,G17)) | K17: =IF(A17="","",IFERROR(_xlfn.XLOOKUP(A17,Versions!$H$2:$H$201,Versions!$D$2:$D$201,""),"")) | L17: =IF(A17="","",IFERROR(_xlfn.XLOOKUP(A17,Versions!$H$2:$H$201,Versions!$C$2:$C$201,""),"")) | M17: =IF(A17="","",IFERROR(_xlfn.XLOOKUP(A17,Versions!$H$2:$H$201,Versions!$E$2:$E$201,""),"")) | N17: =IF(OR(A17="",I17="",J17="Accepté",J17="Annulé"),"",I17-'Paramètres'!$B$2) | Q17: =IF(OR(A17="",I17="",J17="Accepté",J17="Annulé"),"",IF(P17="",I17-'Paramètres'!$B$3,MAX(P17+'Paramètres'!$B$4,I17-'Paramètres'!$B$3))) | R17: =IF(A17="","",IF(COUNTIF($A$2:$A$151,A17)>1,"Identifiant en double",IF(OR(D17="",E17="",G17="",J17=""),"À compléter",IF(AND(OR(J17="Envoyé",J17="À corriger",J17="Accepté"),K17=""),"Version courante absente","OK")))) | U17: ='Paramètres'!G17 | V17: ='Paramètres'!F17 | W17: ='Paramètres'!D17 | X17: ='Paramètres'!E17
I18: =IF(A18="","",IF(H18<>"",H18,G18)) | K18: =IF(A18="","",IFERROR(_xlfn.XLOOKUP(A18,Versions!$H$2:$H$201,Versions!$D$2:$D$201,""),"")) | L18: =IF(A18="","",IFERROR(_xlfn.XLOOKUP(A18,Versions!$H$2:$H$201,Versions!$C$2:$C$201,""),"")) | M18: =IF(A18="","",IFERROR(_xlfn.XLOOKUP(A18,Versions!$H$2:$H$201,Versions!$E$2:$E$201,""),"")) | N18: =IF(OR(A18="",I18="",J18="Accepté",J18="Annulé"),"",I18-'Paramètres'!$B$2) | Q18: =IF(OR(A18="",I18="",J18="Accepté",J18="Annulé"),"",IF(P18="",I18-'Paramètres'!$B$3,MAX(P18+'Paramètres'!$B$4,I18-'Paramètres'!$B$3))) | R18: =IF(A18="","",IF(COUNTIF($A$2:$A$151,A18)>1,"Identifiant en double",IF(OR(D18="",E18="",G18="",J18=""),"À compléter",IF(AND(OR(J18="Envoyé",J18="À corriger",J18="Accepté"),K18=""),"Version courante absente","OK")))) | U18: ='Paramètres'!G18 | V18: ='Paramètres'!F18 | W18: ='Paramètres'!D18 | X18: ='Paramètres'!E18
I19: =IF(A19="","",IF(H19<>"",H19,G19)) | K19: =IF(A19="","",IFERROR(_xlfn.XLOOKUP(A19,Versions!$H$2:$H$201,Versions!$D$2:$D$201,""),"")) | L19: =IF(A19="","",IFERROR(_xlfn.XLOOKUP(A19,Versions!$H$2:$H$201,Versions!$C$2:$C$201,""),"")) | M19: =IF(A19="","",IFERROR(_xlfn.XLOOKUP(A19,Versions!$H$2:$H$201,Versions!$E$2:$E$201,""),"")) | N19: =IF(OR(A19="",I19="",J19="Accepté",J19="Annulé"),"",I19-'Paramètres'!$B$2) | Q19: =IF(OR(A19="",I19="",J19="Accepté",J19="Annulé"),"",IF(P19="",I19-'Paramètres'!$B$3,MAX(P19+'Paramètres'!$B$4,I19-'Paramètres'!$B$3))) | R19: =IF(A19="","",IF(COUNTIF($A$2:$A$151,A19)>1,"Identifiant en double",IF(OR(D19="",E19="",G19="",J19=""),"À compléter",IF(AND(OR(J19="Envoyé",J19="À corriger",J19="Accepté"),K19=""),"Version courante absente","OK")))) | U19: ='Paramètres'!G19 | V19: ='Paramètres'!F19 | W19: ='Paramètres'!D19 | X19: ='Paramètres'!E19
I20: =IF(A20="","",IF(H20<>"",H20,G20)) | K20: =IF(A20="","",IFERROR(_xlfn.XLOOKUP(A20,Versions!$H$2:$H$201,Versions!$D$2:$D$201,""),"")) | L20: =IF(A20="","",IFERROR(_xlfn.XLOOKUP(A20,Versions!$H$2:$H$201,Versions!$C$2:$C$201,""),"")) | M20: =IF(A20="","",IFERROR(_xlfn.XLOOKUP(A20,Versions!$H$2:$H$201,Versions!$E$2:$E$201,""),"")) | N20: =IF(OR(A20="",I20="",J20="Accepté",J20="Annulé"),"",I20-'Paramètres'!$B$2) | Q20: =IF(OR(A20="",I20="",J20="Accepté",J20="Annulé"),"",IF(P20="",I20-'Paramètres'!$B$3,MAX(P20+'Paramètres'!$B$4,I20-'Paramètres'!$B$3))) | R20: =IF(A20="","",IF(COUNTIF($A$2:$A$151,A20)>1,"Identifiant en double",IF(OR(D20="",E20="",G20="",J20=""),"À compléter",IF(AND(OR(J20="Envoyé",J20="À corriger",J20="Accepté"),K20=""),"Version courante absente","OK")))) | U20: ='Paramètres'!G20 | V20: ='Paramètres'!F20 | W20: ='Paramètres'!D20 | X20: ='Paramètres'!E20
I21: =IF(A21="","",IF(H21<>"",H21,G21)) | K21: =IF(A21="","",IFERROR(_xlfn.XLOOKUP(A21,Versions!$H$2:$H$201,Versions!$D$2:$D$201,""),"")) | L21: =IF(A21="","",IFERROR(_xlfn.XLOOKUP(A21,Versions!$H$2:$H$201,Versions!$C$2:$C$201,""),"")) | M21: =IF(A21="","",IFERROR(_xlfn.XLOOKUP(A21,Versions!$H$2:$H$201,Versions!$E$2:$E$201,""),"")) | N21: =IF(OR(A21="",I21="",J21="Accepté",J21="Annulé"),"",I21-'Paramètres'!$B$2) | Q21: =IF(OR(A21="",I21="",J21="Accepté",J21="Annulé"),"",IF(P21="",I21-'Paramètres'!$B$3,MAX(P21+'Paramètres'!$B$4,I21-'Paramètres'!$B$3))) | R21: =IF(A21="","",IF(COUNTIF($A$2:$A$151,A21)>1,"Identifiant en double",IF(OR(D21="",E21="",G21="",J21=""),"À compléter",IF(AND(OR(J21="Envoyé",J21="À corriger",J21="Accepté"),K21=""),"Version courante absente","OK")))) | U21: ='Paramètres'!G21 | V21: ='Paramètres'!F21 | W21: ='Paramètres'!D21 | X21: ='Paramètres'!E21
I22: =IF(A22="","",IF(H22<>"",H22,G22)) | K22: =IF(A22="","",IFERROR(_xlfn.XLOOKUP(A22,Versions!$H$2:$H$201,Versions!$D$2:$D$201,""),"")) | L22: =IF(A22="","",IFERROR(_xlfn.XLOOKUP(A22,Versions!$H$2:$H$201,Versions!$C$2:$C$201,""),"")) | M22: =IF(A22="","",IFERROR(_xlfn.XLOOKUP(A22,Versions!$H$2:$H$201,Versions!$E$2:$E$201,""),"")) | N22: =IF(OR(A22="",I22="",J22="Accepté",J22="Annulé"),"",I22-'Paramètres'!$B$2) | Q22: =IF(OR(A22="",I22="",J22="Accepté",J22="Annulé"),"",IF(P22="",I22-'Paramètres'!$B$3,MAX(P22+'Paramètres'!$B$4,I22-'Paramètres'!$B$3))) | R22: =IF(A22="","",IF(COUNTIF($A$2:$A$151,A22)>1,"Identifiant en double",IF(OR(D22="",E22="",G22="",J22=""),"À compléter",IF(AND(OR(J22="Envoyé",J22="À corriger",J22="Accepté"),K22=""),"Version courante absente","OK")))) | U22: ='Paramètres'!G22 | V22: ='Paramètres'!F22 | W22: ='Paramètres'!D22 | X22: ='Paramètres'!E22
I23: =IF(A23="","",IF(H23<>"",H23,G23)) | K23: =IF(A23="","",IFERROR(_xlfn.XLOOKUP(A23,Versions!$H$2:$H$201,Versions!$D$2:$D$201,""),"")) | L23: =IF(A23="","",IFERROR(_xlfn.XLOOKUP(A23,Versions!$H$2:$H$201,Versions!$C$2:$C$201,""),"")) | M23: =IF(A23="","",IFERROR(_xlfn.XLOOKUP(A23,Versions!$H$2:$H$201,Versions!$E$2:$E$201,""),"")) | N23: =IF(OR(A23="",I23="",J23="Accepté",J23="Annulé"),"",I23-'Paramètres'!$B$2) | Q23: =IF(OR(A23="",I23="",J23="Accepté",J23="Annulé"),"",IF(P23="",I23-'Paramètres'!$B$3,MAX(P23+'Paramètres'!$B$4,I23-'Paramètres'!$B$3))) | R23: =IF(A23="","",IF(COUNTIF($A$2:$A$151,A23)>1,"Identifiant en double",IF(OR(D23="",E23="",G23="",J23=""),"À compléter",IF(AND(OR(J23="Envoyé",J23="À corriger",J23="Accepté"),K23=""),"Version courante absente","OK")))) | U23: ='Paramètres'!G23 | V23: ='Paramètres'!F23 | W23: ='Paramètres'!D23 | X23: ='Paramètres'!E23
... I151: =IF(A151="","",IF(H151<>"",H151,G151)) | K151: =IF(A151="","",IFERROR(_xlfn.XLOOKUP(A151,Versions!$H$2:$H$201,Versions!$D$2:$D$201,""),"")) | L151: =IF(A151="","",IFERROR(_xlfn.XLOOKUP(A151,Versions!$H$2:$H$201,Versions!$C$2:$C$201,""),"")) | M151: =IF(A151="","",IFERROR(_xlfn.XLOOKUP(A151,Versions!$H$2:$H$201,Versions!$E$2:$E$201,""),"")) | N151: =IF(OR(A151="",I151="",J151="Accepté",J151="Annulé"),"",I151-'Paramètres'!$B$2) | Q151: =IF(OR(A151="",I151="",J151="Accepté",J151="Annulé"),"",IF(P151="",I151-'Paramètres'!$B$3,MAX(P151+'Paramètres'!$B$4,I151-'Paramètres'!$B$3))) | R151: =IF(A151="","",IF(COUNTIF($A$2:$A$151,A151)>1,"Identifiant en double",IF(OR(D151="",E151="",G151="",J151=""),"À compléter",IF(AND(OR(J151="Envoyé",J151="À corriger",J151="Accepté"),K151=""),"Version courante absente","OK")))) | U151: ='Paramètres'!G151 | V151: ='Paramètres'!F151 | W151: ='Paramètres'!D151 | X151: ='Paramètres'!E151

Sheet Versions
A1: Identifiant livrable | B1: Numéro d’émission | C1: Version | D1: Date d’émission | E1: Auteur/émetteur | F1: Objet de la modification | G1: Version courante | H1: Clé courante | I1: Contrôle | J1: Date analyse technique | K1: Identifiants techniques | L1: Oui ou non technique
A2: DEMO-LIV-003 | B2: 1 | C2: A | D2: 46249 | E2: Électricité Scénario Démo | F2: Première émission fictive | G2: Non | H2: =IF(OR(A2="",G2<>"Oui"),"",A2) | I2: =IF(A2="","",IF(OR(C2="",D2="",E2="",G2=""),"À compléter",IF(AND(G2="Oui",COUNTIFS($A$2:$A$201,A2,$G$2:$G$201,"Oui")>1),"Plusieurs versions courantes","OK"))) | J2: ='Paramètres'!$B$2 | K2: =Livrables!A2 | L2: ='Paramètres'!H2
A3: DEMO-LIV-003 | B3: 2 | C3: B | D3: 46256 | E3: Électricité Scénario Démo | F3: Ajout des repères de démonstration | G3: Non | H3: =IF(OR(A3="",G3<>"Oui"),"",A3) | I3: =IF(A3="","",IF(OR(C3="",D3="",E3="",G3=""),"À compléter",IF(AND(G3="Oui",COUNTIFS($A$2:$A$201,A3,$G$2:$G$201,"Oui")>1),"Plusieurs versions courantes","OK"))) | K3: =Livrables!A3 | L3: ='Paramètres'!H3
A4: DEMO-LIV-003 | B4: 3 | C4: C | D4: 46265 | E4: Électricité Scénario Démo | F4: Mise à jour fictive des départs | G4: Oui | H4: =IF(OR(A4="",G4<>"Oui"),"",A4) | I4: =IF(A4="","",IF(OR(C4="",D4="",E4="",G4=""),"À compléter",IF(AND(G4="Oui",COUNTIFS($A$2:$A$201,A4,$G$2:$G$201,"Oui")>1),"Plusieurs versions courantes","OK"))) | K4: =Livrables!A4 | L4: ='Paramètres'!H4
A5: DEMO-LIV-004 | B5: 1 | C5: A | D5: 46252 | E5: Studio Architecture Démo | F5: Première émission fictive | G5: Non | H5: =IF(OR(A5="",G5<>"Oui"),"",A5) | I5: =IF(A5="","",IF(OR(C5="",D5="",E5="",G5=""),"À compléter",IF(AND(G5="Oui",COUNTIFS($A$2:$A$201,A5,$G$2:$G$201,"Oui")>1),"Plusieurs versions courantes","OK"))) | K5: =Livrables!A5 | L5: ='Paramètres'!H5
A6: DEMO-LIV-004 | B6: 2 | C6: B | D6: 46260 | E6: Studio Architecture Démo | F6: Révision des trames de démonstration | G6: Non | H6: =IF(OR(A6="",G6<>"Oui"),"",A6) | I6: =IF(A6="","",IF(OR(C6="",D6="",E6="",G6=""),"À compléter",IF(AND(G6="Oui",COUNTIFS($A$2:$A$201,A6,$G$2:$G$201,"Oui")>1),"Plusieurs versions courantes","OK"))) | K6: =Livrables!A6 | L6: ='Paramètres'!H6
A7: DEMO-LIV-004 | B7: 3 | C7: C | D7: 46268 | E7: Studio Architecture Démo | F7: Correction fictive des retombées | G7: Oui | H7: =IF(OR(A7="",G7<>"Oui"),"",A7) | I7: =IF(A7="","",IF(OR(C7="",D7="",E7="",G7=""),"À compléter",IF(AND(G7="Oui",COUNTIFS($A$2:$A$201,A7,$G$2:$G$201,"Oui")>1),"Plusieurs versions courantes","OK"))) | K7: =Livrables!A7 | L7: ='Paramètres'!H7
A8: DEMO-LIV-008 | B8: 1 | C8: A | D8: 46254 | E8: VRD Projet Fictif | F8: Émission de contrôle interne | G8: Non | H8: =IF(OR(A8="",G8<>"Oui"),"",A8) | I8: =IF(A8="","",IF(OR(C8="",D8="",E8="",G8=""),"À compléter",IF(AND(G8="Oui",COUNTIFS($A$2:$A$201,A8,$G$2:$G$201,"Oui")>1),"Plusieurs versions courantes","OK"))) | K8: =Livrables!A8 | L8: ='Paramètres'!H8
A9: DEMO-LIV-008 | B9: 2 | C9: B | D9: 46262 | E9: VRD Projet Fictif | F9: Récolement fictif mis à jour | G9: Oui | H9: =IF(OR(A9="",G9<>"Oui"),"",A9) | I9: =IF(A9="","",IF(OR(C9="",D9="",E9="",G9=""),"À compléter",IF(AND(G9="Oui",COUNTIFS($A$2:$A$201,A9,$G$2:$G$201,"Oui")>1),"Plusieurs versions courantes","OK"))) | K9: =Livrables!A9 | L9: ='Paramètres'!H9
A10: DEMO-LIV-010 | B10: 1 | C10: A | D10: 46266 | E10: Peinture Fiction | F10: Première proposition fictive | G10: Non | H10: =IF(OR(A10="",G10<>"Oui"),"",A10) | I10: =IF(A10="","",IF(OR(C10="",D10="",E10="",G10=""),"À compléter",IF(AND(G10="Oui",COUNTIFS($A$2:$A$201,A10,$G$2:$G$201,"Oui")>1),"Plusieurs versions courantes","OK"))) | K10: =Livrables!A10 | L10: ='Paramètres'!H10
A11: DEMO-LIV-010 | B11: 2 | C11: B | D11: 46271 | E11: Peinture Fiction | F11: Nuancier fictif ajusté | G11: Oui | H11: =IF(OR(A11="",G11<>"Oui"),"",A11) | I11: =IF(A11="","",IF(OR(C11="",D11="",E11="",G11=""),"À compléter",IF(AND(G11="Oui",COUNTIFS($A$2:$A$201,A11,$G$2:$G$201,"Oui")>1),"Plusieurs versions courantes","OK"))) | K11: =Livrables!A11 | L11: ='Paramètres'!H11
H12: =IF(OR(A12="",G12<>"Oui"),"",A12) | I12: =IF(A12="","",IF(OR(C12="",D12="",E12="",G12=""),"À compléter",IF(AND(G12="Oui",COUNTIFS($A$2:$A$201,A12,$G$2:$G$201,"Oui")>1),"Plusieurs versions courantes","OK"))) | K12: =Livrables!A12 | L12: ='Paramètres'!H12
H13: =IF(OR(A13="",G13<>"Oui"),"",A13) | I13: =IF(A13="","",IF(OR(C13="",D13="",E13="",G13=""),"À compléter",IF(AND(G13="Oui",COUNTIFS($A$2:$A$201,A13,$G$2:$G$201,"Oui")>1),"Plusieurs versions courantes","OK"))) | K13: =Livrables!A13 | L13: ='Paramètres'!H13
H14: =IF(OR(A14="",G14<>"Oui"),"",A14) | I14: =IF(A14="","",IF(OR(C14="",D14="",E14="",G14=""),"À compléter",IF(AND(G14="Oui",COUNTIFS($A$2:$A$201,A14,$G$2:$G$201,"Oui")>1),"Plusieurs versions courantes","OK"))) | K14: =Livrables!A14 | L14: ='Paramètres'!H14
H15: =IF(OR(A15="",G15<>"Oui"),"",A15) | I15: =IF(A15="","",IF(OR(C15="",D15="",E15="",G15=""),"À compléter",IF(AND(G15="Oui",COUNTIFS($A$2:$A$201,A15,$G$2:$G$201,"Oui")>1),"Plusieurs versions courantes","OK"))) | K15: =Livrables!A15 | L15: ='Paramètres'!H15
H16: =IF(OR(A16="",G16<>"Oui"),"",A16) | I16: =IF(A16="","",IF(OR(C16="",D16="",E16="",G16=""),"À compléter",IF(AND(G16="Oui",COUNTIFS($A$2:$A$201,A16,$G$2:$G$201,"Oui")>1),"Plusieurs versions courantes","OK"))) | K16: =Livrables!A16 | L16: ='Paramètres'!H16
H17: =IF(OR(A17="",G17<>"Oui"),"",A17) | I17: =IF(A17="","",IF(OR(C17="",D17="",E17="",G17=""),"À compléter",IF(AND(G17="Oui",COUNTIFS($A$2:$A$201,A17,$G$2:$G$201,"Oui")>1),"Plusieurs versions courantes","OK"))) | K17: =Livrables!A17 | L17: ='Paramètres'!H17
H18: =IF(OR(A18="",G18<>"Oui"),"",A18) | I18: =IF(A18="","",IF(OR(C18="",D18="",E18="",G18=""),"À compléter",IF(AND(G18="Oui",COUNTIFS($A$2:$A$201,A18,$G$2:$G$201,"Oui")>1),"Plusieurs versions courantes","OK"))) | K18: =Livrables!A18 | L18: ='Paramètres'!H18
H19: =IF(OR(A19="",G19<>"Oui"),"",A19) | I19: =IF(A19="","",IF(OR(C19="",D19="",E19="",G19=""),"À compléter",IF(AND(G19="Oui",COUNTIFS($A$2:$A$201,A19,$G$2:$G$201,"Oui")>1),"Plusieurs versions courantes","OK"))) | K19: =Livrables!A19 | L19: ='Paramètres'!H19
H20: =IF(OR(A20="",G20<>"Oui"),"",A20) | I20: =IF(A20="","",IF(OR(C20="",D20="",E20="",G20=""),"À compléter",IF(AND(G20="Oui",COUNTIFS($A$2:$A$201,A20,$G$2:$G$201,"Oui")>1),"Plusieurs versions courantes","OK"))) | K20: =Livrables!A20 | L20: ='Paramètres'!H20
H21: =IF(OR(A21="",G21<>"Oui"),"",A21) | I21: =IF(A21="","",IF(OR(C21="",D21="",E21="",G21=""),"À compléter",IF(AND(G21="Oui",COUNTIFS($A$2:$A$201,A21,$G$2:$G$201,"Oui")>1),"Plusieurs versions courantes","OK"))) | K21: =Livrables!A21 | L21: ='Paramètres'!H21
H22: =IF(OR(A22="",G22<>"Oui"),"",A22) | I22: =IF(A22="","",IF(OR(C22="",D22="",E22="",G22=""),"À compléter",IF(AND(G22="Oui",COUNTIFS($A$2:$A$201,A22,$G$2:$G$201,"Oui")>1),"Plusieurs versions courantes","OK"))) | K22: =Livrables!A22 | L22: ='Paramètres'!H22
H23: =IF(OR(A23="",G23<>"Oui"),"",A23) | I23: =IF(A23="","",IF(OR(C23="",D23="",E23="",G23=""),"À compléter",IF(AND(G23="Oui",COUNTIFS($A$2:$A$201,A23,$G$2:$G$201,"Oui")>1),"Plusieurs versions courantes","OK"))) | K23: =Livrables!A23 | L23: ='Paramètres'!H23
... H201: =IF(OR(A201="",G201<>"Oui"),"",A201) | I201: =IF(A201="","",IF(OR(C201="",D201="",E201="",G201=""),"À compléter",IF(AND(G201="Oui",COUNTIFS($A$2:$A$201,A201,$G$2:$G$201,"Oui")>1),"Plusieurs versions courantes","OK"))) | K201: =Livrables!A201 | L201: ='Paramètres'!H201

Sheet Paramètres
A1: Paramètres de calcul | B1: Valeur modifiable | D1: Statuts | E1: Priorités | F1: Catégories | G1: Lots | H1: Oui / Non
A2: Date d’analyse | B2: 46272 | D2: À préparer | E2: Basse | F2: Plan | G2: Gros œuvre | H2: Oui
A3: Anticipation de relance | B3: 3 | D3: En cours | E3: Normale | F3: Fiche technique | G3: CVC | H3: Non
A4: Fréquence après relance | B4: 2 | D4: Envoyé | E4: Haute | F4: Note | G4: Électricité
A5: Horizon « à venir » | B5: 7 | D5: À corriger | E5: Critique | F5: Échantillon | G5: Architecture
D6: Accepté | F6: Planning | G6: Plomberie
D7: Annulé | F7: Compte rendu | G7: Façades
A8: Repères d’utilisation | F8: Dossier | G8: Terrassement
A9: Les cellules jaune pâle sont modifiables. | G9: VRD
A10: Les listes peuvent être adaptées dans les emplacements jaune pâle prévus. | G10: Menuiseries
A11: Les colonnes non jaunes des registres contiennent des calculs à ne pas écraser. | G11: Peinture
A12: Toute modification de la date d’analyse déclenche le recalcul à l’ouverture.
A13: Les contrôles couvrent les lignes vides, doublons, retards et statuts terminaux.
A14: L’absence de version courante est signalée pour les statuts concernés.
A15: Ce classeur interne ne garantit aucune conformité juridique, contractuelle ou technique.
