Workbook

Sheet Synthèse
A1: Synthèse de la matrice RACI
A2: Projet | B2: =Paramètres!B2
A3: Début | B3: =Paramètres!B3 | C3: Fin | D3: =Paramètres!B4
A5: Indicateur | B5: Valeur
A6: Lignes renseignées | B6: =COUNTIF(Matrice_RACI!$D$6:$D$105,"<>")
A7: Lignes sans responsable | B7: =COUNTIF(Matrice_RACI!$S$6:$S$105,"*Aucun responsable*")
A8: Lignes sans approbateur | B8: =COUNTIF(Matrice_RACI!$S$6:$S$105,"*Aucun approbateur*")
A9: Lignes avec plusieurs approbateurs | B9: =COUNTIF(Matrice_RACI!$S$6:$S$105,"*Plusieurs approbateurs*")
A10: Lignes avec échéance dépassée | B10: =COUNTIF(Matrice_RACI!$S$6:$S$105,"*Échéance dépassée*")
A11: Taux de lignes sans alerte | B11: =IFERROR(COUNTIFS(Matrice_RACI!$D$6:$D$105,"<>",Matrice_RACI!$S$6:$S$105,"")/COUNTIF(Matrice_RACI!$D$6:$D$105,"<>"),0)
A14: Fonction | B14: Responsable R + R/A | C14: Approbateur A + R/A | D14: Consulté C | E14: Informé I
A15: =Paramètres!B15 | B15: =COUNTIF(Matrice_RACI!$H$6:$H$105,"R")+COUNTIF(Matrice_RACI!$H$6:$H$105,"R/A") | C15: =COUNTIF(Matrice_RACI!$H$6:$H$105,"A")+COUNTIF(Matrice_RACI!$H$6:$H$105,"R/A") | D15: =COUNTIF(Matrice_RACI!$H$6:$H$105,"C") | E15: =COUNTIF(Matrice_RACI!$H$6:$H$105,"I")
A16: =Paramètres!B16 | B16: =COUNTIF(Matrice_RACI!$I$6:$I$105,"R")+COUNTIF(Matrice_RACI!$I$6:$I$105,"R/A") | C16: =COUNTIF(Matrice_RACI!$I$6:$I$105,"A")+COUNTIF(Matrice_RACI!$I$6:$I$105,"R/A") | D16: =COUNTIF(Matrice_RACI!$I$6:$I$105,"C") | E16: =COUNTIF(Matrice_RACI!$I$6:$I$105,"I")
A17: =Paramètres!B17 | B17: =COUNTIF(Matrice_RACI!$J$6:$J$105,"R")+COUNTIF(Matrice_RACI!$J$6:$J$105,"R/A") | C17: =COUNTIF(Matrice_RACI!$J$6:$J$105,"A")+COUNTIF(Matrice_RACI!$J$6:$J$105,"R/A") | D17: =COUNTIF(Matrice_RACI!$J$6:$J$105,"C") | E17: =COUNTIF(Matrice_RACI!$J$6:$J$105,"I")
A18: =Paramètres!B18 | B18: =COUNTIF(Matrice_RACI!$K$6:$K$105,"R")+COUNTIF(Matrice_RACI!$K$6:$K$105,"R/A") | C18: =COUNTIF(Matrice_RACI!$K$6:$K$105,"A")+COUNTIF(Matrice_RACI!$K$6:$K$105,"R/A") | D18: =COUNTIF(Matrice_RACI!$K$6:$K$105,"C") | E18: =COUNTIF(Matrice_RACI!$K$6:$K$105,"I")
A19: =Paramètres!B19 | B19: =COUNTIF(Matrice_RACI!$L$6:$L$105,"R")+COUNTIF(Matrice_RACI!$L$6:$L$105,"R/A") | C19: =COUNTIF(Matrice_RACI!$L$6:$L$105,"A")+COUNTIF(Matrice_RACI!$L$6:$L$105,"R/A") | D19: =COUNTIF(Matrice_RACI!$L$6:$L$105,"C") | E19: =COUNTIF(Matrice_RACI!$L$6:$L$105,"I")
A20: =Paramètres!B20 | B20: =COUNTIF(Matrice_RACI!$M$6:$M$105,"R")+COUNTIF(Matrice_RACI!$M$6:$M$105,"R/A") | C20: =COUNTIF(Matrice_RACI!$M$6:$M$105,"A")+COUNTIF(Matrice_RACI!$M$6:$M$105,"R/A") | D20: =COUNTIF(Matrice_RACI!$M$6:$M$105,"C") | E20: =COUNTIF(Matrice_RACI!$M$6:$M$105,"I")
A21: =Paramètres!B21 | B21: =COUNTIF(Matrice_RACI!$N$6:$N$105,"R")+COUNTIF(Matrice_RACI!$N$6:$N$105,"R/A") | C21: =COUNTIF(Matrice_RACI!$N$6:$N$105,"A")+COUNTIF(Matrice_RACI!$N$6:$N$105,"R/A") | D21: =COUNTIF(Matrice_RACI!$N$6:$N$105,"C") | E21: =COUNTIF(Matrice_RACI!$N$6:$N$105,"I")
A22: =Paramètres!B22 | B22: =COUNTIF(Matrice_RACI!$O$6:$O$105,"R")+COUNTIF(Matrice_RACI!$O$6:$O$105,"R/A") | C22: =COUNTIF(Matrice_RACI!$O$6:$O$105,"A")+COUNTIF(Matrice_RACI!$O$6:$O$105,"R/A") | D22: =COUNTIF(Matrice_RACI!$O$6:$O$105,"C") | E22: =COUNTIF(Matrice_RACI!$O$6:$O$105,"I")
A24: Lecture | B24: R/A est compté dans les colonnes Responsable et Approbateur. Les lignes sans activité ou livrable sont exclues des indicateurs.

Sheet Paramètres
A1: Paramètres de la matrice RACI
A2: Projet | B2: Projet fictif Horizon
A3: Date de début | B3: 46266
A4: Date de fin | B4: 46568
A5: Jours avant alerte | B5: 7
A7: Repère | B7: Phases ou lots | D7: Types | E7: Statuts | F7: Codes RACI
A8: Phase 1 | B8: Préparation | D8: Activité | E8: À définir | F8: R
A9: Phase 2 | B9: Installation | D9: Livrable | E9: Non démarré | F9: A
A10: Phase 3 | B10: Études | E10: En cours | F10: C
A11: Phase 4 | B11: Gros œuvre | E11: Bloqué | F11: I
A12: Phase 5 | B12: Second œuvre | E12: Terminé | F12: R/A
A13: Phase 6 | B13: Réception
A14: Repère | B14: Fonctions paramétrables
A15: Fonction 1 | B15: Maîtrise d’ouvrage
A16: Fonction 2 | B16: Maîtrise d’œuvre
A17: Fonction 3 | B17: Conducteur de travaux
A18: Fonction 4 | B18: Chef de chantier
A19: Fonction 5 | B19: Bureau d’études
A20: Fonction 6 | B20: Entreprise principale
A21: Fonction 7 | B21: Sous-traitant
A22: Fonction 8 | B22: Coordination SPS
A24: Note | B24: Hypothèses modifiables à adapter au projet fictif. Aucun barème, engagement contractuel ou contrôle réglementaire n’est garanti.

Sheet Matrice_RACI
A1: Matrice RACI du chantier
A2: Projet | B2: =Paramètres!B2 | D2: Début | E2: =Paramètres!B3 | F2: Fin | G2: =Paramètres!B4
A3: Cellules jaunes : saisie. Colonnes grisées : contrôles automatiques. Une ligne sans activité ou livrable est considérée comme inutilisée.
A5: ID | B5: Phase ou lot | C5: Type | D5: Activité ou livrable | E5: Échéance | F5: Statut | G5: Commentaire | H5: =Paramètres!B15 | I5: =Paramètres!B16 | J5: =Paramètres!B17 | K5: =Paramètres!B18 | L5: =Paramètres!B19 | M5: =Paramètres!B20 | N5: =Paramètres!B21 | O5: =Paramètres!B22 | P5: Nombre de responsables | Q5: Nombre d’approbateurs | R5: Nombre de rôles attribués | S5: Alerte
A6: 1 | B6: Installation | C6: Activité | D6: Installation de la base vie | E6: 46280 | F6: Terminé | G6: Cas fictif clôturé. | H6: I | I6: C | J6: A | K6: R | O6: I | P6: =IF($D6="","",COUNTIF($H6:$O6,"R")+COUNTIF($H6:$O6,"R/A")) | Q6: =IF($D6="","",COUNTIF($H6:$O6,"A")+COUNTIF($H6:$O6,"R/A")) | R6: =IF($D6="","",COUNTA($H6:$O6)) | S6: =IF($D6="","",_xlfn.TEXTJOIN(" | ",TRUE,IF($P6=0,"Aucun responsable",""),IF($Q6=0,"Aucun approbateur",""),IF($Q6>1,"Plusieurs approbateurs",""),IF($R6=0,"Aucun rôle attribué",""),IF(AND($F6<>"Terminé",$E6<>"",$E6<TODAY()),"Échéance dépassée",""),IF(AND($F6<>"Terminé",$E6<>"",$E6>=TODAY(),$E6<=TODAY()+Paramètres!$B$5),"Échéance proche","")))
A7: 2 | B7: Installation | C7: Livrable | D7: Plan d’installation de chantier | E7: 46277 | F7: Non démarré | G7: Exemple fictif sans responsable. | H7: I | I7: A | J7: C | L7: C | O7: I | P7: =IF($D7="","",COUNTIF($H7:$O7,"R")+COUNTIF($H7:$O7,"R/A")) | Q7: =IF($D7="","",COUNTIF($H7:$O7,"A")+COUNTIF($H7:$O7,"R/A")) | R7: =IF($D7="","",COUNTA($H7:$O7)) | S7: =IF($D7="","",_xlfn.TEXTJOIN(" | ",TRUE,IF($P7=0,"Aucun responsable",""),IF($Q7=0,"Aucun approbateur",""),IF($Q7>1,"Plusieurs approbateurs",""),IF($R7=0,"Aucun rôle attribué",""),IF(AND($F7<>"Terminé",$E7<>"",$E7<TODAY()),"Échéance dépassée",""),IF(AND($F7<>"Terminé",$E7<>"",$E7>=TODAY(),$E7<=TODAY()+Paramètres!$B$5),"Échéance proche","")))
A8: 3 | B8: Études | C8: Livrable | D8: Validation des plans d’exécution | E8: 46290 | F8: En cours | G8: Exemple fictif sans approbateur. | H8: I | I8: C | J8: R | K8: C | L8: C | P8: =IF($D8="","",COUNTIF($H8:$O8,"R")+COUNTIF($H8:$O8,"R/A")) | Q8: =IF($D8="","",COUNTIF($H8:$O8,"A")+COUNTIF($H8:$O8,"R/A")) | R8: =IF($D8="","",COUNTA($H8:$O8)) | S8: =IF($D8="","",_xlfn.TEXTJOIN(" | ",TRUE,IF($P8=0,"Aucun responsable",""),IF($Q8=0,"Aucun approbateur",""),IF($Q8>1,"Plusieurs approbateurs",""),IF($R8=0,"Aucun rôle attribué",""),IF(AND($F8<>"Terminé",$E8<>"",$E8<TODAY()),"Échéance dépassée",""),IF(AND($F8<>"Terminé",$E8<>"",$E8>=TODAY(),$E8<=TODAY()+Paramètres!$B$5),"Échéance proche","")))
A9: 4 | B9: Préparation | C9: Activité | D9: Réunion de lancement fictive | F9: À définir | G9: Échéance volontairement vide et deux approbateurs. | H9: A | I9: A | J9: R | O9: I | P9: =IF($D9="","",COUNTIF($H9:$O9,"R")+COUNTIF($H9:$O9,"R/A")) | Q9: =IF($D9="","",COUNTIF($H9:$O9,"A")+COUNTIF($H9:$O9,"R/A")) | R9: =IF($D9="","",COUNTA($H9:$O9)) | S9: =IF($D9="","",_xlfn.TEXTJOIN(" | ",TRUE,IF($P9=0,"Aucun responsable",""),IF($Q9=0,"Aucun approbateur",""),IF($Q9>1,"Plusieurs approbateurs",""),IF($R9=0,"Aucun rôle attribué",""),IF(AND($F9<>"Terminé",$E9<>"",$E9<TODAY()),"Échéance dépassée",""),IF(AND($F9<>"Terminé",$E9<>"",$E9>=TODAY(),$E9<=TODAY()+Paramètres!$B$5),"Échéance proche","")))
A10: 5 | B10: Gros œuvre | C10: Activité | D10: Implantation de la zone Alpha | E10: 46295 | F10: Non démarré | G10: Attribution combinée R/A fictive. | H10: I | I10: C | J10: R/A | K10: C | O10: I | P10: =IF($D10="","",COUNTIF($H10:$O10,"R")+COUNTIF($H10:$O10,"R/A")) | Q10: =IF($D10="","",COUNTIF($H10:$O10,"A")+COUNTIF($H10:$O10,"R/A")) | R10: =IF($D10="","",COUNTA($H10:$O10)) | S10: =IF($D10="","",_xlfn.TEXTJOIN(" | ",TRUE,IF($P10=0,"Aucun responsable",""),IF($Q10=0,"Aucun approbateur",""),IF($Q10>1,"Plusieurs approbateurs",""),IF($R10=0,"Aucun rôle attribué",""),IF(AND($F10<>"Terminé",$E10<>"",$E10<TODAY()),"Échéance dépassée",""),IF(AND($F10<>"Terminé",$E10<>"",$E10>=TODAY(),$E10<=TODAY()+Paramètres!$B$5),"Échéance proche","")))
A11: 6 | B11: Gros œuvre | C11: Activité | D11: Contrôle fictif du support | E11: 46300 | F11: Bloqué | G11: Exemple fictif sans rôle attribué. | P11: =IF($D11="","",COUNTIF($H11:$O11,"R")+COUNTIF($H11:$O11,"R/A")) | Q11: =IF($D11="","",COUNTIF($H11:$O11,"A")+COUNTIF($H11:$O11,"R/A")) | R11: =IF($D11="","",COUNTA($H11:$O11)) | S11: =IF($D11="","",_xlfn.TEXTJOIN(" | ",TRUE,IF($P11=0,"Aucun responsable",""),IF($Q11=0,"Aucun approbateur",""),IF($Q11>1,"Plusieurs approbateurs",""),IF($R11=0,"Aucun rôle attribué",""),IF(AND($F11<>"Terminé",$E11<>"",$E11<TODAY()),"Échéance dépassée",""),IF(AND($F11<>"Terminé",$E11<>"",$E11>=TODAY(),$E11<=TODAY()+Paramètres!$B$5),"Échéance proche","")))
A12: 7 | B12: Second œuvre | C12: Livrable | D12: Fiche d’acceptation échantillon X | E12: 46307 | F12: À définir | G12: Répartition fictive à adapter. | H12: A | I12: C | J12: I | L12: R | O12: I | P12: =IF($D12="","",COUNTIF($H12:$O12,"R")+COUNTIF($H12:$O12,"R/A")) | Q12: =IF($D12="","",COUNTIF($H12:$O12,"A")+COUNTIF($H12:$O12,"R/A")) | R12: =IF($D12="","",COUNTA($H12:$O12)) | S12: =IF($D12="","",_xlfn.TEXTJOIN(" | ",TRUE,IF($P12=0,"Aucun responsable",""),IF($Q12=0,"Aucun approbateur",""),IF($Q12>1,"Plusieurs approbateurs",""),IF($R12=0,"Aucun rôle attribué",""),IF(AND($F12<>"Terminé",$E12<>"",$E12<TODAY()),"Échéance dépassée",""),IF(AND($F12<>"Terminé",$E12<>"",$E12>=TODAY(),$E12<=TODAY()+Paramètres!$B$5),"Échéance proche","")))
A13: 8 | B13: Installation | C13: Activité | D13: Organisation des accès provisoires | E13: 46285 | F13: En cours | G13: Accès entièrement fictifs. | H13: I | I13: C | J13: A | K13: R | N13: C | O13: C | P13: =IF($D13="","",COUNTIF($H13:$O13,"R")+COUNTIF($H13:$O13,"R/A")) | Q13: =IF($D13="","",COUNTIF($H13:$O13,"A")+COUNTIF($H13:$O13,"R/A")) | R13: =IF($D13="","",COUNTA($H13:$O13)) | S13: =IF($D13="","",_xlfn.TEXTJOIN(" | ",TRUE,IF($P13=0,"Aucun responsable",""),IF($Q13=0,"Aucun approbateur",""),IF($Q13>1,"Plusieurs approbateurs",""),IF($R13=0,"Aucun rôle attribué",""),IF(AND($F13<>"Terminé",$E13<>"",$E13<TODAY()),"Échéance dépassée",""),IF(AND($F13<>"Terminé",$E13<>"",$E13>=TODAY(),$E13<=TODAY()+Paramètres!$B$5),"Échéance proche","")))
A14: 9 | B14: Second œuvre | C14: Livrable | D14: Dossier photographique zone Bêta | E14: 46313 | F14: Non démarré | G14: Zone et dossier fictifs. | H14: I | I14: A | J14: R | K14: I | O14: C | P14: =IF($D14="","",COUNTIF($H14:$O14,"R")+COUNTIF($H14:$O14,"R/A")) | Q14: =IF($D14="","",COUNTIF($H14:$O14,"A")+COUNTIF($H14:$O14,"R/A")) | R14: =IF($D14="","",COUNTA($H14:$O14)) | S14: =IF($D14="","",_xlfn.TEXTJOIN(" | ",TRUE,IF($P14=0,"Aucun responsable",""),IF($Q14=0,"Aucun approbateur",""),IF($Q14>1,"Plusieurs approbateurs",""),IF($R14=0,"Aucun rôle attribué",""),IF(AND($F14<>"Terminé",$E14<>"",$E14<TODAY()),"Échéance dépassée",""),IF(AND($F14<>"Terminé",$E14<>"",$E14>=TODAY(),$E14<=TODAY()+Paramètres!$B$5),"Échéance proche","")))
A15: 10 | B15: Réception | C15: Activité | D15: Préparation de la réception interne | E15: 46553 | F15: À définir | G15: Préparation interne fictive. | H15: A | I15: C | J15: R | K15: I | M15: C | O15: I | P15: =IF($D15="","",COUNTIF($H15:$O15,"R")+COUNTIF($H15:$O15,"R/A")) | Q15: =IF($D15="","",COUNTIF($H15:$O15,"A")+COUNTIF($H15:$O15,"R/A")) | R15: =IF($D15="","",COUNTA($H15:$O15)) | S15: =IF($D15="","",_xlfn.TEXTJOIN(" | ",TRUE,IF($P15=0,"Aucun responsable",""),IF($Q15=0,"Aucun approbateur",""),IF($Q15>1,"Plusieurs approbateurs",""),IF($R15=0,"Aucun rôle attribué",""),IF(AND($F15<>"Terminé",$E15<>"",$E15<TODAY()),"Échéance dépassée",""),IF(AND($F15<>"Terminé",$E15<>"",$E15>=TODAY(),$E15<=TODAY()+Paramètres!$B$5),"Échéance proche","")))
P16: =IF($D16="","",COUNTIF($H16:$O16,"R")+COUNTIF($H16:$O16,"R/A")) | Q16: =IF($D16="","",COUNTIF($H16:$O16,"A")+COUNTIF($H16:$O16,"R/A")) | R16: =IF($D16="","",COUNTA($H16:$O16)) | S16: =IF($D16="","",_xlfn.TEXTJOIN(" | ",TRUE,IF($P16=0,"Aucun responsable",""),IF($Q16=0,"Aucun approbateur",""),IF($Q16>1,"Plusieurs approbateurs",""),IF($R16=0,"Aucun rôle attribué",""),IF(AND($F16<>"Terminé",$E16<>"",$E16<TODAY()),"Échéance dépassée",""),IF(AND($F16<>"Terminé",$E16<>"",$E16>=TODAY(),$E16<=TODAY()+Paramètres!$B$5),"Échéance proche","")))
P17: =IF($D17="","",COUNTIF($H17:$O17,"R")+COUNTIF($H17:$O17,"R/A")) | Q17: =IF($D17="","",COUNTIF($H17:$O17,"A")+COUNTIF($H17:$O17,"R/A")) | R17: =IF($D17="","",COUNTA($H17:$O17)) | S17: =IF($D17="","",_xlfn.TEXTJOIN(" | ",TRUE,IF($P17=0,"Aucun responsable",""),IF($Q17=0,"Aucun approbateur",""),IF($Q17>1,"Plusieurs approbateurs",""),IF($R17=0,"Aucun rôle attribué",""),IF(AND($F17<>"Terminé",$E17<>"",$E17<TODAY()),"Échéance dépassée",""),IF(AND($F17<>"Terminé",$E17<>"",$E17>=TODAY(),$E17<=TODAY()+Paramètres!$B$5),"Échéance proche","")))
P18: =IF($D18="","",COUNTIF($H18:$O18,"R")+COUNTIF($H18:$O18,"R/A")) | Q18: =IF($D18="","",COUNTIF($H18:$O18,"A")+COUNTIF($H18:$O18,"R/A")) | R18: =IF($D18="","",COUNTA($H18:$O18)) | S18: =IF($D18="","",_xlfn.TEXTJOIN(" | ",TRUE,IF($P18=0,"Aucun responsable",""),IF($Q18=0,"Aucun approbateur",""),IF($Q18>1,"Plusieurs approbateurs",""),IF($R18=0,"Aucun rôle attribué",""),IF(AND($F18<>"Terminé",$E18<>"",$E18<TODAY()),"Échéance dépassée",""),IF(AND($F18<>"Terminé",$E18<>"",$E18>=TODAY(),$E18<=TODAY()+Paramètres!$B$5),"Échéance proche","")))
P19: =IF($D19="","",COUNTIF($H19:$O19,"R")+COUNTIF($H19:$O19,"R/A")) | Q19: =IF($D19="","",COUNTIF($H19:$O19,"A")+COUNTIF($H19:$O19,"R/A")) | R19: =IF($D19="","",COUNTA($H19:$O19)) | S19: =IF($D19="","",_xlfn.TEXTJOIN(" | ",TRUE,IF($P19=0,"Aucun responsable",""),IF($Q19=0,"Aucun approbateur",""),IF($Q19>1,"Plusieurs approbateurs",""),IF($R19=0,"Aucun rôle attribué",""),IF(AND($F19<>"Terminé",$E19<>"",$E19<TODAY()),"Échéance dépassée",""),IF(AND($F19<>"Terminé",$E19<>"",$E19>=TODAY(),$E19<=TODAY()+Paramètres!$B$5),"Échéance proche","")))
P20: =IF($D20="","",COUNTIF($H20:$O20,"R")+COUNTIF($H20:$O20,"R/A")) | Q20: =IF($D20="","",COUNTIF($H20:$O20,"A")+COUNTIF($H20:$O20,"R/A")) | R20: =IF($D20="","",COUNTA($H20:$O20)) | S20: =IF($D20="","",_xlfn.TEXTJOIN(" | ",TRUE,IF($P20=0,"Aucun responsable",""),IF($Q20=0,"Aucun approbateur",""),IF($Q20>1,"Plusieurs approbateurs",""),IF($R20=0,"Aucun rôle attribué",""),IF(AND($F20<>"Terminé",$E20<>"",$E20<TODAY()),"Échéance dépassée",""),IF(AND($F20<>"Terminé",$E20<>"",$E20>=TODAY(),$E20<=TODAY()+Paramètres!$B$5),"Échéance proche","")))
P21: =IF($D21="","",COUNTIF($H21:$O21,"R")+COUNTIF($H21:$O21,"R/A")) | Q21: =IF($D21="","",COUNTIF($H21:$O21,"A")+COUNTIF($H21:$O21,"R/A")) | R21: =IF($D21="","",COUNTA($H21:$O21)) | S21: =IF($D21="","",_xlfn.TEXTJOIN(" | ",TRUE,IF($P21=0,"Aucun responsable",""),IF($Q21=0,"Aucun approbateur",""),IF($Q21>1,"Plusieurs approbateurs",""),IF($R21=0,"Aucun rôle attribué",""),IF(AND($F21<>"Terminé",$E21<>"",$E21<TODAY()),"Échéance dépassée",""),IF(AND($F21<>"Terminé",$E21<>"",$E21>=TODAY(),$E21<=TODAY()+Paramètres!$B$5),"Échéance proche","")))
P22: =IF($D22="","",COUNTIF($H22:$O22,"R")+COUNTIF($H22:$O22,"R/A")) | Q22: =IF($D22="","",COUNTIF($H22:$O22,"A")+COUNTIF($H22:$O22,"R/A")) | R22: =IF($D22="","",COUNTA($H22:$O22)) | S22: =IF($D22="","",_xlfn.TEXTJOIN(" | ",TRUE,IF($P22=0,"Aucun responsable",""),IF($Q22=0,"Aucun approbateur",""),IF($Q22>1,"Plusieurs approbateurs",""),IF($R22=0,"Aucun rôle attribué",""),IF(AND($F22<>"Terminé",$E22<>"",$E22<TODAY()),"Échéance dépassée",""),IF(AND($F22<>"Terminé",$E22<>"",$E22>=TODAY(),$E22<=TODAY()+Paramètres!$B$5),"Échéance proche","")))
P23: =IF($D23="","",COUNTIF($H23:$O23,"R")+COUNTIF($H23:$O23,"R/A")) | Q23: =IF($D23="","",COUNTIF($H23:$O23,"A")+COUNTIF($H23:$O23,"R/A")) | R23: =IF($D23="","",COUNTA($H23:$O23)) | S23: =IF($D23="","",_xlfn.TEXTJOIN(" | ",TRUE,IF($P23=0,"Aucun responsable",""),IF($Q23=0,"Aucun approbateur",""),IF($Q23>1,"Plusieurs approbateurs",""),IF($R23=0,"Aucun rôle attribué",""),IF(AND($F23<>"Terminé",$E23<>"",$E23<TODAY()),"Échéance dépassée",""),IF(AND($F23<>"Terminé",$E23<>"",$E23>=TODAY(),$E23<=TODAY()+Paramètres!$B$5),"Échéance proche","")))
P24: =IF($D24="","",COUNTIF($H24:$O24,"R")+COUNTIF($H24:$O24,"R/A")) | Q24: =IF($D24="","",COUNTIF($H24:$O24,"A")+COUNTIF($H24:$O24,"R/A")) | R24: =IF($D24="","",COUNTA($H24:$O24)) | S24: =IF($D24="","",_xlfn.TEXTJOIN(" | ",TRUE,IF($P24=0,"Aucun responsable",""),IF($Q24=0,"Aucun approbateur",""),IF($Q24>1,"Plusieurs approbateurs",""),IF($R24=0,"Aucun rôle attribué",""),IF(AND($F24<>"Terminé",$E24<>"",$E24<TODAY()),"Échéance dépassée",""),IF(AND($F24<>"Terminé",$E24<>"",$E24>=TODAY(),$E24<=TODAY()+Paramètres!$B$5),"Échéance proche","")))
P25: =IF($D25="","",COUNTIF($H25:$O25,"R")+COUNTIF($H25:$O25,"R/A")) | Q25: =IF($D25="","",COUNTIF($H25:$O25,"A")+COUNTIF($H25:$O25,"R/A")) | R25: =IF($D25="","",COUNTA($H25:$O25)) | S25: =IF($D25="","",_xlfn.TEXTJOIN(" | ",TRUE,IF($P25=0,"Aucun responsable",""),IF($Q25=0,"Aucun approbateur",""),IF($Q25>1,"Plusieurs approbateurs",""),IF($R25=0,"Aucun rôle attribué",""),IF(AND($F25<>"Terminé",$E25<>"",$E25<TODAY()),"Échéance dépassée",""),IF(AND($F25<>"Terminé",$E25<>"",$E25>=TODAY(),$E25<=TODAY()+Paramètres!$B$5),"Échéance proche","")))
P26: =IF($D26="","",COUNTIF($H26:$O26,"R")+COUNTIF($H26:$O26,"R/A")) | Q26: =IF($D26="","",COUNTIF($H26:$O26,"A")+COUNTIF($H26:$O26,"R/A")) | R26: =IF($D26="","",COUNTA($H26:$O26)) | S26: =IF($D26="","",_xlfn.TEXTJOIN(" | ",TRUE,IF($P26=0,"Aucun responsable",""),IF($Q26=0,"Aucun approbateur",""),IF($Q26>1,"Plusieurs approbateurs",""),IF($R26=0,"Aucun rôle attribué",""),IF(AND($F26<>"Terminé",$E26<>"",$E26<TODAY()),"Échéance dépassée",""),IF(AND($F26<>"Terminé",$E26<>"",$E26>=TODAY(),$E26<=TODAY()+Paramètres!$B$5),"Échéance proche","")))
P27: =IF($D27="","",COUNTIF($H27:$O27,"R")+COUNTIF($H27:$O27,"R/A")) | Q27: =IF($D27="","",COUNTIF($H27:$O27,"A")+COUNTIF($H27:$O27,"R/A")) | R27: =IF($D27="","",COUNTA($H27:$O27)) | S27: =IF($D27="","",_xlfn.TEXTJOIN(" | ",TRUE,IF($P27=0,"Aucun responsable",""),IF($Q27=0,"Aucun approbateur",""),IF($Q27>1,"Plusieurs approbateurs",""),IF($R27=0,"Aucun rôle attribué",""),IF(AND($F27<>"Terminé",$E27<>"",$E27<TODAY()),"Échéance dépassée",""),IF(AND($F27<>"Terminé",$E27<>"",$E27>=TODAY(),$E27<=TODAY()+Paramètres!$B$5),"Échéance proche","")))
... P105: =IF($D105="","",COUNTIF($H105:$O105,"R")+COUNTIF($H105:$O105,"R/A")) | Q105: =IF($D105="","",COUNTIF($H105:$O105,"A")+COUNTIF($H105:$O105,"R/A")) | R105: =IF($D105="","",COUNTA($H105:$O105)) | S105: =IF($D105="","",_xlfn.TEXTJOIN(" | ",TRUE,IF($P105=0,"Aucun responsable",""),IF($Q105=0,"Aucun approbateur",""),IF($Q105>1,"Plusieurs approbateurs",""),IF($R105=0,"Aucun rôle attribué",""),IF(AND($F105<>"Terminé",$E105<>"",$E105<TODAY()),"Échéance dépassée",""),IF(AND($F105<>"Terminé",$E105<>"",$E105>=TODAY(),$E105<=TODAY()+Paramètres!$B$5),"Échéance proche","")))

Sheet Mode_emploi
A1: Mode d’emploi de la matrice RACI
A3: Exemple fictif à adapter
A5: Code | B5: Signification | C5: Règle de lecture
A6: R | B6: Responsable | C6: Fonction qui réalise ou pilote l’activité.
A7: A | B7: Approbateur | C7: Fonction qui valide l’activité ou le livrable.
A8: C | B8: Consulté | C8: Fonction sollicitée avant la décision ou l’exécution.
A9: I | B9: Informé | C9: Fonction tenue informée sans validation attendue.
A10: R/A | B10: Responsable et approbateur | C10: Cumul volontaire des deux rôles.
A13: Règles d’utilisation
A14: 1. | B14: Renseigner une activité ou un livrable en colonne D pour activer les contrôles de la ligne.
A15: 2. | B15: Affecter au moins un responsable et un approbateur ; plusieurs responsables restent possibles selon l’organisation choisie.
A16: 3. | B16: Vérifier les cas comportant plusieurs approbateurs afin de clarifier l’autorité de validation.
A17: 4. | B17: Laisser une cellule de fonction vide lorsque cette fonction n’intervient pas.
A18: 5. | B18: Une échéance vide ne produit aucune alerte de date.
A19: 6. | B19: Le seuil d’échéance proche est une hypothèse modifiable dans la feuille Paramètres.
A20: 7. | B20: Les affectations concernent uniquement des fonctions génériques, sans coordonnées personnelles.
A21: 8. | B21: Ce classeur ne remplace ni planning, ni annuaire, ni suivi d’actions, ni document contractuel officiel.
A22: 9. | B22: Les alertes proposées n’attestent aucune conformité juridique, réglementaire ou technique.
