Workbook

Sheet Synthèse
A1: Synthèse hebdomadaire du plan de charge
A2: Total requis | B2: =SUM('Synthèse'!$E$7:$E$266) | C2: Total disponible | D2: =SUM('Synthèse'!$F$7:$F$266) | E2: Écart global | F2: =D2-B2 | G2: Taux global | H2: =IFERROR(B2/D2,"") | I2: Surcharges | J2: =COUNTIF('Synthèse'!$J$7:$J$266,"Surcharge")
A3: Anomalies de capacité | B3: =COUNTIF('Synthèse'!$J$7:$J$266,"Capacité absente")+COUNTIF('Synthèse'!$J$7:$J$266,"Capacité en doublon")+COUNTIF('Synthèse'!$J$7:$J$266,"Aucune capacité")
A4: Les lignes au-delà de l'horizon actif sont masquées visuellement. Les seuils restent modifiables dans la feuille Paramètres.
A6: Rang équipe | B6: Décalage semaine | C6: Équipe | D6: Semaine (lundi) | E6: Heures requises | F6: Heures disponibles | G6: Écart | H6: Taux de charge | I6: Besoin de renfort | J6: État
A7: 1 | B7: 0 | C7: =IFERROR(IF(INDEX('Paramètres'!$B$13:$B$22,$A7)="","",INDEX('Paramètres'!$B$13:$B$22,$A7)),"") | D7: =IF(OR($C7="",$B7>='Paramètres'!$B$4),"",'Paramètres'!$B$3+7*$B7) | E7: =IF(OR($C7="",$D7=""),"",SUMIFS('Charge requise'!$I$5:$I$204,'Charge requise'!$B$5:$B$204,$D7,'Charge requise'!$C$5:$C$204,$C7,'Charge requise'!$H$5:$H$204,"<>Annulée")) | F7: =IF(OR($C7="",$D7=""),"",IF(COUNTIFS('Capacité équipes'!$A$5:$A$204,$D7,'Capacité équipes'!$B$5:$B$204,$C7)=1,IF(COUNTIFS('Capacité équipes'!$A$5:$A$204,$D7,'Capacité équipes'!$B$5:$B$204,$C7,'Capacité équipes'!$I$5:$I$204,"OK")=1,SUMIFS('Capacité équipes'!$G$5:$G$204,'Capacité équipes'!$A$5:$A$204,$D7,'Capacité équipes'!$B$5:$B$204,$C7),""),"")) | G7: =IF(OR($E7="",$F7=""),"",$F7-$E7) | H7: =IFERROR($E7/$F7,"") | I7: =IF($F7="","",MAX(0,$E7-$F7)) | J7: =IF(OR($C7="",$D7=""),"",IF(COUNTIFS('Capacité équipes'!$A$5:$A$204,$D7,'Capacité équipes'!$B$5:$B$204,$C7)=0,"Capacité absente",IF(COUNTIFS('Capacité équipes'!$A$5:$A$204,$D7,'Capacité équipes'!$B$5:$B$204,$C7)>1,"Capacité en doublon",IF(COUNTIFS('Capacité équipes'!$A$5:$A$204,$D7,'Capacité équipes'!$B$5:$B$204,$C7,'Capacité équipes'!$I$5:$I$204,"OK")=0,"Capacité absente",IF($F7=0,"Aucune capacité",IF($E7=0,"Sans activité",IF($H7>='Paramètres'!$B$7,"Surcharge",IF($H7>='Paramètres'!$B$6,"Vigilance",IF($H7<'Paramètres'!$B$8,"Sous-charge","Équilibre")))))))))
A8: 1 | B8: 1 | C8: =IFERROR(IF(INDEX('Paramètres'!$B$13:$B$22,$A8)="","",INDEX('Paramètres'!$B$13:$B$22,$A8)),"") | D8: =IF(OR($C8="",$B8>='Paramètres'!$B$4),"",'Paramètres'!$B$3+7*$B8) | E8: =IF(OR($C8="",$D8=""),"",SUMIFS('Charge requise'!$I$5:$I$204,'Charge requise'!$B$5:$B$204,$D8,'Charge requise'!$C$5:$C$204,$C8,'Charge requise'!$H$5:$H$204,"<>Annulée")) | F8: =IF(OR($C8="",$D8=""),"",IF(COUNTIFS('Capacité équipes'!$A$5:$A$204,$D8,'Capacité équipes'!$B$5:$B$204,$C8)=1,IF(COUNTIFS('Capacité équipes'!$A$5:$A$204,$D8,'Capacité équipes'!$B$5:$B$204,$C8,'Capacité équipes'!$I$5:$I$204,"OK")=1,SUMIFS('Capacité équipes'!$G$5:$G$204,'Capacité équipes'!$A$5:$A$204,$D8,'Capacité équipes'!$B$5:$B$204,$C8),""),"")) | G8: =IF(OR($E8="",$F8=""),"",$F8-$E8) | H8: =IFERROR($E8/$F8,"") | I8: =IF($F8="","",MAX(0,$E8-$F8)) | J8: =IF(OR($C8="",$D8=""),"",IF(COUNTIFS('Capacité équipes'!$A$5:$A$204,$D8,'Capacité équipes'!$B$5:$B$204,$C8)=0,"Capacité absente",IF(COUNTIFS('Capacité équipes'!$A$5:$A$204,$D8,'Capacité équipes'!$B$5:$B$204,$C8)>1,"Capacité en doublon",IF(COUNTIFS('Capacité équipes'!$A$5:$A$204,$D8,'Capacité équipes'!$B$5:$B$204,$C8,'Capacité équipes'!$I$5:$I$204,"OK")=0,"Capacité absente",IF($F8=0,"Aucune capacité",IF($E8=0,"Sans activité",IF($H8>='Paramètres'!$B$7,"Surcharge",IF($H8>='Paramètres'!$B$6,"Vigilance",IF($H8<'Paramètres'!$B$8,"Sous-charge","Équilibre")))))))))
A9: 1 | B9: 2 | C9: =IFERROR(IF(INDEX('Paramètres'!$B$13:$B$22,$A9)="","",INDEX('Paramètres'!$B$13:$B$22,$A9)),"") | D9: =IF(OR($C9="",$B9>='Paramètres'!$B$4),"",'Paramètres'!$B$3+7*$B9) | E9: =IF(OR($C9="",$D9=""),"",SUMIFS('Charge requise'!$I$5:$I$204,'Charge requise'!$B$5:$B$204,$D9,'Charge requise'!$C$5:$C$204,$C9,'Charge requise'!$H$5:$H$204,"<>Annulée")) | F9: =IF(OR($C9="",$D9=""),"",IF(COUNTIFS('Capacité équipes'!$A$5:$A$204,$D9,'Capacité équipes'!$B$5:$B$204,$C9)=1,IF(COUNTIFS('Capacité équipes'!$A$5:$A$204,$D9,'Capacité équipes'!$B$5:$B$204,$C9,'Capacité équipes'!$I$5:$I$204,"OK")=1,SUMIFS('Capacité équipes'!$G$5:$G$204,'Capacité équipes'!$A$5:$A$204,$D9,'Capacité équipes'!$B$5:$B$204,$C9),""),"")) | G9: =IF(OR($E9="",$F9=""),"",$F9-$E9) | H9: =IFERROR($E9/$F9,"") | I9: =IF($F9="","",MAX(0,$E9-$F9)) | J9: =IF(OR($C9="",$D9=""),"",IF(COUNTIFS('Capacité équipes'!$A$5:$A$204,$D9,'Capacité équipes'!$B$5:$B$204,$C9)=0,"Capacité absente",IF(COUNTIFS('Capacité équipes'!$A$5:$A$204,$D9,'Capacité équipes'!$B$5:$B$204,$C9)>1,"Capacité en doublon",IF(COUNTIFS('Capacité équipes'!$A$5:$A$204,$D9,'Capacité équipes'!$B$5:$B$204,$C9,'Capacité équipes'!$I$5:$I$204,"OK")=0,"Capacité absente",IF($F9=0,"Aucune capacité",IF($E9=0,"Sans activité",IF($H9>='Paramètres'!$B$7,"Surcharge",IF($H9>='Paramètres'!$B$6,"Vigilance",IF($H9<'Paramètres'!$B$8,"Sous-charge","Équilibre")))))))))
A10: 1 | B10: 3 | C10: =IFERROR(IF(INDEX('Paramètres'!$B$13:$B$22,$A10)="","",INDEX('Paramètres'!$B$13:$B$22,$A10)),"") | D10: =IF(OR($C10="",$B10>='Paramètres'!$B$4),"",'Paramètres'!$B$3+7*$B10) | E10: =IF(OR($C10="",$D10=""),"",SUMIFS('Charge requise'!$I$5:$I$204,'Charge requise'!$B$5:$B$204,$D10,'Charge requise'!$C$5:$C$204,$C10,'Charge requise'!$H$5:$H$204,"<>Annulée")) | F10: =IF(OR($C10="",$D10=""),"",IF(COUNTIFS('Capacité équipes'!$A$5:$A$204,$D10,'Capacité équipes'!$B$5:$B$204,$C10)=1,IF(COUNTIFS('Capacité équipes'!$A$5:$A$204,$D10,'Capacité équipes'!$B$5:$B$204,$C10,'Capacité équipes'!$I$5:$I$204,"OK")=1,SUMIFS('Capacité équipes'!$G$5:$G$204,'Capacité équipes'!$A$5:$A$204,$D10,'Capacité équipes'!$B$5:$B$204,$C10),""),"")) | G10: =IF(OR($E10="",$F10=""),"",$F10-$E10) | H10: =IFERROR($E10/$F10,"") | I10: =IF($F10="","",MAX(0,$E10-$F10)) | J10: =IF(OR($C10="",$D10=""),"",IF(COUNTIFS('Capacité équipes'!$A$5:$A$204,$D10,'Capacité équipes'!$B$5:$B$204,$C10)=0,"Capacité absente",IF(COUNTIFS('Capacité équipes'!$A$5:$A$204,$D10,'Capacité équipes'!$B$5:$B$204,$C10)>1,"Capacité en doublon",IF(COUNTIFS('Capacité équipes'!$A$5:$A$204,$D10,'Capacité équipes'!$B$5:$B$204,$C10,'Capacité équipes'!$I$5:$I$204,"OK")=0,"Capacité absente",IF($F10=0,"Aucune capacité",IF($E10=0,"Sans activité",IF($H10>='Paramètres'!$B$7,"Surcharge",IF($H10>='Paramètres'!$B$6,"Vigilance",IF($H10<'Paramètres'!$B$8,"Sous-charge","Équilibre")))))))))
A11: 1 | B11: 4 | C11: =IFERROR(IF(INDEX('Paramètres'!$B$13:$B$22,$A11)="","",INDEX('Paramètres'!$B$13:$B$22,$A11)),"") | D11: =IF(OR($C11="",$B11>='Paramètres'!$B$4),"",'Paramètres'!$B$3+7*$B11) | E11: =IF(OR($C11="",$D11=""),"",SUMIFS('Charge requise'!$I$5:$I$204,'Charge requise'!$B$5:$B$204,$D11,'Charge requise'!$C$5:$C$204,$C11,'Charge requise'!$H$5:$H$204,"<>Annulée")) | F11: =IF(OR($C11="",$D11=""),"",IF(COUNTIFS('Capacité équipes'!$A$5:$A$204,$D11,'Capacité équipes'!$B$5:$B$204,$C11)=1,IF(COUNTIFS('Capacité équipes'!$A$5:$A$204,$D11,'Capacité équipes'!$B$5:$B$204,$C11,'Capacité équipes'!$I$5:$I$204,"OK")=1,SUMIFS('Capacité équipes'!$G$5:$G$204,'Capacité équipes'!$A$5:$A$204,$D11,'Capacité équipes'!$B$5:$B$204,$C11),""),"")) | G11: =IF(OR($E11="",$F11=""),"",$F11-$E11) | H11: =IFERROR($E11/$F11,"") | I11: =IF($F11="","",MAX(0,$E11-$F11)) | J11: =IF(OR($C11="",$D11=""),"",IF(COUNTIFS('Capacité équipes'!$A$5:$A$204,$D11,'Capacité équipes'!$B$5:$B$204,$C11)=0,"Capacité absente",IF(COUNTIFS('Capacité équipes'!$A$5:$A$204,$D11,'Capacité équipes'!$B$5:$B$204,$C11)>1,"Capacité en doublon",IF(COUNTIFS('Capacité équipes'!$A$5:$A$204,$D11,'Capacité équipes'!$B$5:$B$204,$C11,'Capacité équipes'!$I$5:$I$204,"OK")=0,"Capacité absente",IF($F11=0,"Aucune capacité",IF($E11=0,"Sans activité",IF($H11>='Paramètres'!$B$7,"Surcharge",IF($H11>='Paramètres'!$B$6,"Vigilance",IF($H11<'Paramètres'!$B$8,"Sous-charge","Équilibre")))))))))
A12: 1 | B12: 5 | C12: =IFERROR(IF(INDEX('Paramètres'!$B$13:$B$22,$A12)="","",INDEX('Paramètres'!$B$13:$B$22,$A12)),"") | D12: =IF(OR($C12="",$B12>='Paramètres'!$B$4),"",'Paramètres'!$B$3+7*$B12) | E12: =IF(OR($C12="",$D12=""),"",SUMIFS('Charge requise'!$I$5:$I$204,'Charge requise'!$B$5:$B$204,$D12,'Charge requise'!$C$5:$C$204,$C12,'Charge requise'!$H$5:$H$204,"<>Annulée")) | F12: =IF(OR($C12="",$D12=""),"",IF(COUNTIFS('Capacité équipes'!$A$5:$A$204,$D12,'Capacité équipes'!$B$5:$B$204,$C12)=1,IF(COUNTIFS('Capacité équipes'!$A$5:$A$204,$D12,'Capacité équipes'!$B$5:$B$204,$C12,'Capacité équipes'!$I$5:$I$204,"OK")=1,SUMIFS('Capacité équipes'!$G$5:$G$204,'Capacité équipes'!$A$5:$A$204,$D12,'Capacité équipes'!$B$5:$B$204,$C12),""),"")) | G12: =IF(OR($E12="",$F12=""),"",$F12-$E12) | H12: =IFERROR($E12/$F12,"") | I12: =IF($F12="","",MAX(0,$E12-$F12)) | J12: =IF(OR($C12="",$D12=""),"",IF(COUNTIFS('Capacité équipes'!$A$5:$A$204,$D12,'Capacité équipes'!$B$5:$B$204,$C12)=0,"Capacité absente",IF(COUNTIFS('Capacité équipes'!$A$5:$A$204,$D12,'Capacité équipes'!$B$5:$B$204,$C12)>1,"Capacité en doublon",IF(COUNTIFS('Capacité équipes'!$A$5:$A$204,$D12,'Capacité équipes'!$B$5:$B$204,$C12,'Capacité équipes'!$I$5:$I$204,"OK")=0,"Capacité absente",IF($F12=0,"Aucune capacité",IF($E12=0,"Sans activité",IF($H12>='Paramètres'!$B$7,"Surcharge",IF($H12>='Paramètres'!$B$6,"Vigilance",IF($H12<'Paramètres'!$B$8,"Sous-charge","Équilibre")))))))))
A13: 1 | B13: 6 | C13: =IFERROR(IF(INDEX('Paramètres'!$B$13:$B$22,$A13)="","",INDEX('Paramètres'!$B$13:$B$22,$A13)),"") | D13: =IF(OR($C13="",$B13>='Paramètres'!$B$4),"",'Paramètres'!$B$3+7*$B13) | E13: =IF(OR($C13="",$D13=""),"",SUMIFS('Charge requise'!$I$5:$I$204,'Charge requise'!$B$5:$B$204,$D13,'Charge requise'!$C$5:$C$204,$C13,'Charge requise'!$H$5:$H$204,"<>Annulée")) | F13: =IF(OR($C13="",$D13=""),"",IF(COUNTIFS('Capacité équipes'!$A$5:$A$204,$D13,'Capacité équipes'!$B$5:$B$204,$C13)=1,IF(COUNTIFS('Capacité équipes'!$A$5:$A$204,$D13,'Capacité équipes'!$B$5:$B$204,$C13,'Capacité équipes'!$I$5:$I$204,"OK")=1,SUMIFS('Capacité équipes'!$G$5:$G$204,'Capacité équipes'!$A$5:$A$204,$D13,'Capacité équipes'!$B$5:$B$204,$C13),""),"")) | G13: =IF(OR($E13="",$F13=""),"",$F13-$E13) | H13: =IFERROR($E13/$F13,"") | I13: =IF($F13="","",MAX(0,$E13-$F13)) | J13: =IF(OR($C13="",$D13=""),"",IF(COUNTIFS('Capacité équipes'!$A$5:$A$204,$D13,'Capacité équipes'!$B$5:$B$204,$C13)=0,"Capacité absente",IF(COUNTIFS('Capacité équipes'!$A$5:$A$204,$D13,'Capacité équipes'!$B$5:$B$204,$C13)>1,"Capacité en doublon",IF(COUNTIFS('Capacité équipes'!$A$5:$A$204,$D13,'Capacité équipes'!$B$5:$B$204,$C13,'Capacité équipes'!$I$5:$I$204,"OK")=0,"Capacité absente",IF($F13=0,"Aucune capacité",IF($E13=0,"Sans activité",IF($H13>='Paramètres'!$B$7,"Surcharge",IF($H13>='Paramètres'!$B$6,"Vigilance",IF($H13<'Paramètres'!$B$8,"Sous-charge","Équilibre")))))))))
A14: 1 | B14: 7 | C14: =IFERROR(IF(INDEX('Paramètres'!$B$13:$B$22,$A14)="","",INDEX('Paramètres'!$B$13:$B$22,$A14)),"") | D14: =IF(OR($C14="",$B14>='Paramètres'!$B$4),"",'Paramètres'!$B$3+7*$B14) | E14: =IF(OR($C14="",$D14=""),"",SUMIFS('Charge requise'!$I$5:$I$204,'Charge requise'!$B$5:$B$204,$D14,'Charge requise'!$C$5:$C$204,$C14,'Charge requise'!$H$5:$H$204,"<>Annulée")) | F14: =IF(OR($C14="",$D14=""),"",IF(COUNTIFS('Capacité équipes'!$A$5:$A$204,$D14,'Capacité équipes'!$B$5:$B$204,$C14)=1,IF(COUNTIFS('Capacité équipes'!$A$5:$A$204,$D14,'Capacité équipes'!$B$5:$B$204,$C14,'Capacité équipes'!$I$5:$I$204,"OK")=1,SUMIFS('Capacité équipes'!$G$5:$G$204,'Capacité équipes'!$A$5:$A$204,$D14,'Capacité équipes'!$B$5:$B$204,$C14),""),"")) | G14: =IF(OR($E14="",$F14=""),"",$F14-$E14) | H14: =IFERROR($E14/$F14,"") | I14: =IF($F14="","",MAX(0,$E14-$F14)) | J14: =IF(OR($C14="",$D14=""),"",IF(COUNTIFS('Capacité équipes'!$A$5:$A$204,$D14,'Capacité équipes'!$B$5:$B$204,$C14)=0,"Capacité absente",IF(COUNTIFS('Capacité équipes'!$A$5:$A$204,$D14,'Capacité équipes'!$B$5:$B$204,$C14)>1,"Capacité en doublon",IF(COUNTIFS('Capacité équipes'!$A$5:$A$204,$D14,'Capacité équipes'!$B$5:$B$204,$C14,'Capacité équipes'!$I$5:$I$204,"OK")=0,"Capacité absente",IF($F14=0,"Aucune capacité",IF($E14=0,"Sans activité",IF($H14>='Paramètres'!$B$7,"Surcharge",IF($H14>='Paramètres'!$B$6,"Vigilance",IF($H14<'Paramètres'!$B$8,"Sous-charge","Équilibre")))))))))
A15: 1 | B15: 8 | C15: =IFERROR(IF(INDEX('Paramètres'!$B$13:$B$22,$A15)="","",INDEX('Paramètres'!$B$13:$B$22,$A15)),"") | D15: =IF(OR($C15="",$B15>='Paramètres'!$B$4),"",'Paramètres'!$B$3+7*$B15) | E15: =IF(OR($C15="",$D15=""),"",SUMIFS('Charge requise'!$I$5:$I$204,'Charge requise'!$B$5:$B$204,$D15,'Charge requise'!$C$5:$C$204,$C15,'Charge requise'!$H$5:$H$204,"<>Annulée")) | F15: =IF(OR($C15="",$D15=""),"",IF(COUNTIFS('Capacité équipes'!$A$5:$A$204,$D15,'Capacité équipes'!$B$5:$B$204,$C15)=1,IF(COUNTIFS('Capacité équipes'!$A$5:$A$204,$D15,'Capacité équipes'!$B$5:$B$204,$C15,'Capacité équipes'!$I$5:$I$204,"OK")=1,SUMIFS('Capacité équipes'!$G$5:$G$204,'Capacité équipes'!$A$5:$A$204,$D15,'Capacité équipes'!$B$5:$B$204,$C15),""),"")) | G15: =IF(OR($E15="",$F15=""),"",$F15-$E15) | H15: =IFERROR($E15/$F15,"") | I15: =IF($F15="","",MAX(0,$E15-$F15)) | J15: =IF(OR($C15="",$D15=""),"",IF(COUNTIFS('Capacité équipes'!$A$5:$A$204,$D15,'Capacité équipes'!$B$5:$B$204,$C15)=0,"Capacité absente",IF(COUNTIFS('Capacité équipes'!$A$5:$A$204,$D15,'Capacité équipes'!$B$5:$B$204,$C15)>1,"Capacité en doublon",IF(COUNTIFS('Capacité équipes'!$A$5:$A$204,$D15,'Capacité équipes'!$B$5:$B$204,$C15,'Capacité équipes'!$I$5:$I$204,"OK")=0,"Capacité absente",IF($F15=0,"Aucune capacité",IF($E15=0,"Sans activité",IF($H15>='Paramètres'!$B$7,"Surcharge",IF($H15>='Paramètres'!$B$6,"Vigilance",IF($H15<'Paramètres'!$B$8,"Sous-charge","Équilibre")))))))))
A16: 1 | B16: 9 | C16: =IFERROR(IF(INDEX('Paramètres'!$B$13:$B$22,$A16)="","",INDEX('Paramètres'!$B$13:$B$22,$A16)),"") | D16: =IF(OR($C16="",$B16>='Paramètres'!$B$4),"",'Paramètres'!$B$3+7*$B16) | E16: =IF(OR($C16="",$D16=""),"",SUMIFS('Charge requise'!$I$5:$I$204,'Charge requise'!$B$5:$B$204,$D16,'Charge requise'!$C$5:$C$204,$C16,'Charge requise'!$H$5:$H$204,"<>Annulée")) | F16: =IF(OR($C16="",$D16=""),"",IF(COUNTIFS('Capacité équipes'!$A$5:$A$204,$D16,'Capacité équipes'!$B$5:$B$204,$C16)=1,IF(COUNTIFS('Capacité équipes'!$A$5:$A$204,$D16,'Capacité équipes'!$B$5:$B$204,$C16,'Capacité équipes'!$I$5:$I$204,"OK")=1,SUMIFS('Capacité équipes'!$G$5:$G$204,'Capacité équipes'!$A$5:$A$204,$D16,'Capacité équipes'!$B$5:$B$204,$C16),""),"")) | G16: =IF(OR($E16="",$F16=""),"",$F16-$E16) | H16: =IFERROR($E16/$F16,"") | I16: =IF($F16="","",MAX(0,$E16-$F16)) | J16: =IF(OR($C16="",$D16=""),"",IF(COUNTIFS('Capacité équipes'!$A$5:$A$204,$D16,'Capacité équipes'!$B$5:$B$204,$C16)=0,"Capacité absente",IF(COUNTIFS('Capacité équipes'!$A$5:$A$204,$D16,'Capacité équipes'!$B$5:$B$204,$C16)>1,"Capacité en doublon",IF(COUNTIFS('Capacité équipes'!$A$5:$A$204,$D16,'Capacité équipes'!$B$5:$B$204,$C16,'Capacité équipes'!$I$5:$I$204,"OK")=0,"Capacité absente",IF($F16=0,"Aucune capacité",IF($E16=0,"Sans activité",IF($H16>='Paramètres'!$B$7,"Surcharge",IF($H16>='Paramètres'!$B$6,"Vigilance",IF($H16<'Paramètres'!$B$8,"Sous-charge","Équilibre")))))))))
A17: 1 | B17: 10 | C17: =IFERROR(IF(INDEX('Paramètres'!$B$13:$B$22,$A17)="","",INDEX('Paramètres'!$B$13:$B$22,$A17)),"") | D17: =IF(OR($C17="",$B17>='Paramètres'!$B$4),"",'Paramètres'!$B$3+7*$B17) | E17: =IF(OR($C17="",$D17=""),"",SUMIFS('Charge requise'!$I$5:$I$204,'Charge requise'!$B$5:$B$204,$D17,'Charge requise'!$C$5:$C$204,$C17,'Charge requise'!$H$5:$H$204,"<>Annulée")) | F17: =IF(OR($C17="",$D17=""),"",IF(COUNTIFS('Capacité équipes'!$A$5:$A$204,$D17,'Capacité équipes'!$B$5:$B$204,$C17)=1,IF(COUNTIFS('Capacité équipes'!$A$5:$A$204,$D17,'Capacité équipes'!$B$5:$B$204,$C17,'Capacité équipes'!$I$5:$I$204,"OK")=1,SUMIFS('Capacité équipes'!$G$5:$G$204,'Capacité équipes'!$A$5:$A$204,$D17,'Capacité équipes'!$B$5:$B$204,$C17),""),"")) | G17: =IF(OR($E17="",$F17=""),"",$F17-$E17) | H17: =IFERROR($E17/$F17,"") | I17: =IF($F17="","",MAX(0,$E17-$F17)) | J17: =IF(OR($C17="",$D17=""),"",IF(COUNTIFS('Capacité équipes'!$A$5:$A$204,$D17,'Capacité équipes'!$B$5:$B$204,$C17)=0,"Capacité absente",IF(COUNTIFS('Capacité équipes'!$A$5:$A$204,$D17,'Capacité équipes'!$B$5:$B$204,$C17)>1,"Capacité en doublon",IF(COUNTIFS('Capacité équipes'!$A$5:$A$204,$D17,'Capacité équipes'!$B$5:$B$204,$C17,'Capacité équipes'!$I$5:$I$204,"OK")=0,"Capacité absente",IF($F17=0,"Aucune capacité",IF($E17=0,"Sans activité",IF($H17>='Paramètres'!$B$7,"Surcharge",IF($H17>='Paramètres'!$B$6,"Vigilance",IF($H17<'Paramètres'!$B$8,"Sous-charge","Équilibre")))))))))
A18: 1 | B18: 11 | C18: =IFERROR(IF(INDEX('Paramètres'!$B$13:$B$22,$A18)="","",INDEX('Paramètres'!$B$13:$B$22,$A18)),"") | D18: =IF(OR($C18="",$B18>='Paramètres'!$B$4),"",'Paramètres'!$B$3+7*$B18) | E18: =IF(OR($C18="",$D18=""),"",SUMIFS('Charge requise'!$I$5:$I$204,'Charge requise'!$B$5:$B$204,$D18,'Charge requise'!$C$5:$C$204,$C18,'Charge requise'!$H$5:$H$204,"<>Annulée")) | F18: =IF(OR($C18="",$D18=""),"",IF(COUNTIFS('Capacité équipes'!$A$5:$A$204,$D18,'Capacité équipes'!$B$5:$B$204,$C18)=1,IF(COUNTIFS('Capacité équipes'!$A$5:$A$204,$D18,'Capacité équipes'!$B$5:$B$204,$C18,'Capacité équipes'!$I$5:$I$204,"OK")=1,SUMIFS('Capacité équipes'!$G$5:$G$204,'Capacité équipes'!$A$5:$A$204,$D18,'Capacité équipes'!$B$5:$B$204,$C18),""),"")) | G18: =IF(OR($E18="",$F18=""),"",$F18-$E18) | H18: =IFERROR($E18/$F18,"") | I18: =IF($F18="","",MAX(0,$E18-$F18)) | J18: =IF(OR($C18="",$D18=""),"",IF(COUNTIFS('Capacité équipes'!$A$5:$A$204,$D18,'Capacité équipes'!$B$5:$B$204,$C18)=0,"Capacité absente",IF(COUNTIFS('Capacité équipes'!$A$5:$A$204,$D18,'Capacité équipes'!$B$5:$B$204,$C18)>1,"Capacité en doublon",IF(COUNTIFS('Capacité équipes'!$A$5:$A$204,$D18,'Capacité équipes'!$B$5:$B$204,$C18,'Capacité équipes'!$I$5:$I$204,"OK")=0,"Capacité absente",IF($F18=0,"Aucune capacité",IF($E18=0,"Sans activité",IF($H18>='Paramètres'!$B$7,"Surcharge",IF($H18>='Paramètres'!$B$6,"Vigilance",IF($H18<'Paramètres'!$B$8,"Sous-charge","Équilibre")))))))))
... A266: 10 | B266: 25 | C266: =IFERROR(IF(INDEX('Paramètres'!$B$13:$B$22,$A266)="","",INDEX('Paramètres'!$B$13:$B$22,$A266)),"") | D266: =IF(OR($C266="",$B266>='Paramètres'!$B$4),"",'Paramètres'!$B$3+7*$B266) | E266: =IF(OR($C266="",$D266=""),"",SUMIFS('Charge requise'!$I$5:$I$204,'Charge requise'!$B$5:$B$204,$D266,'Charge requise'!$C$5:$C$204,$C266,'Charge requise'!$H$5:$H$204,"<>Annulée")) | F266: =IF(OR($C266="",$D266=""),"",IF(COUNTIFS('Capacité équipes'!$A$5:$A$204,$D266,'Capacité équipes'!$B$5:$B$204,$C266)=1,IF(COUNTIFS('Capacité équipes'!$A$5:$A$204,$D266,'Capacité équipes'!$B$5:$B$204,$C266,'Capacité équipes'!$I$5:$I$204,"OK")=1,SUMIFS('Capacité équipes'!$G$5:$G$204,'Capacité équipes'!$A$5:$A$204,$D266,'Capacité équipes'!$B$5:$B$204,$C266),""),"")) | G266: =IF(OR($E266="",$F266=""),"",$F266-$E266) | H266: =IFERROR($E266/$F266,"") | I266: =IF($F266="","",MAX(0,$E266-$F266)) | J266: =IF(OR($C266="",$D266=""),"",IF(COUNTIFS('Capacité équipes'!$A$5:$A$204,$D266,'Capacité équipes'!$B$5:$B$204,$C266)=0,"Capacité absente",IF(COUNTIFS('Capacité équipes'!$A$5:$A$204,$D266,'Capacité équipes'!$B$5:$B$204,$C266)>1,"Capacité en doublon",IF(COUNTIFS('Capacité équipes'!$A$5:$A$204,$D266,'Capacité équipes'!$B$5:$B$204,$C266,'Capacité équipes'!$I$5:$I$204,"OK")=0,"Capacité absente",IF($F266=0,"Aucune capacité",IF($E266=0,"Sans activité",IF($H266>='Paramètres'!$B$7,"Surcharge",IF($H266>='Paramètres'!$B$6,"Vigilance",IF($H266<'Paramètres'!$B$8,"Sous-charge","Équilibre")))))))))

Sheet Paramètres
A1: Paramètres du plan de charge
A2: Date de référence | B2: 46272
A3: Lundi de départ | B3: =B2-WEEKDAY(B2,2)+1
A4: Horizon en semaines | B4: 12
A5: Heures hebdomadaires par personne | B5: 35
A6: Seuil de vigilance | B6: 0.9
A7: Seuil de surcharge | B7: 1
A8: Seuil de sous-charge | B8: 0.7
A9: Contrôle des seuils | B9: =IF(AND(B8>=0,B8<B6,B6<=B7),"OK","Seuils incohérents")
A11: Liste des équipes
B12: Équipe
B13: Gros œuvre
B14: Électricité
B15: Plomberie
B16: Finitions
B17: Logistique
A24: Les seuils et capacités sont des hypothèses opérationnelles modifiables. Ils ne constituent pas une garantie contractuelle ou réglementaire.

Sheet Charge requise
A1: Charge requise par semaine et par équipe
A2: Saisir une ligne par activité prévue. Une ligne entièrement vide est ignorée.
A4: ID charge | B4: Semaine (lundi) | C4: Équipe | D4: Chantier | E4: Zone ou lot | F4: Activité | G4: Priorité | H4: Statut | I4: Heures requises | J4: Commentaire | K4: Contrôle
A5: CHG-0001 | B5: 46272 | C5: Gros œuvre | D5: Chantier Démo Alpha | E5: Zone A fictive | F5: Voiles | G5: Haute | H5: Confirmée | I5: 120 | J5: Exemple fictif de préparation. | K5: =IF(AND($A5="",$B5="",$C5="",$D5="",$E5="",$F5="",$G5="",$H5="",$I5="",$J5=""),"",IF(OR($A5="",$B5="",$C5="",$D5="",$F5="",$G5="",$H5="",$I5=""),"À compléter",IF(COUNTIF('Charge requise'!$A$5:$A$204,$A5)>1,"Doublon","OK")))
A6: CHG-0002 | B6: 46272 | C6: Gros œuvre | D6: Chantier Démo Alpha | E6: Zone A fictive | F6: Coffrage | G6: Normale | H6: Prévue | I6: 40 | J6: Exemple fictif de préparation. | K6: =IF(AND($A6="",$B6="",$C6="",$D6="",$E6="",$F6="",$G6="",$H6="",$I6="",$J6=""),"",IF(OR($A6="",$B6="",$C6="",$D6="",$F6="",$G6="",$H6="",$I6=""),"À compléter",IF(COUNTIF('Charge requise'!$A$5:$A$204,$A6)>1,"Doublon","OK")))
A7: CHG-0003 | B7: 46272 | C7: Électricité | D7: Opération Fictive Horizon | E7: Niveau témoin | F7: Cheminements | G7: Normale | H7: Confirmée | I7: 70 | J7: Exemple fictif de préparation. | K7: =IF(AND($A7="",$B7="",$C7="",$D7="",$E7="",$F7="",$G7="",$H7="",$I7="",$J7=""),"",IF(OR($A7="",$B7="",$C7="",$D7="",$F7="",$G7="",$H7="",$I7=""),"À compléter",IF(COUNTIF('Charge requise'!$A$5:$A$204,$A7)>1,"Doublon","OK")))
A8: CHG-0004 | B8: 46279 | C8: Gros œuvre | D8: Site Témoin Delta | E8: Plateau fictif | F8: Dalles | G8: Haute | H8: Confirmée | I8: 105 | J8: Exemple fictif de préparation. | K8: =IF(AND($A8="",$B8="",$C8="",$D8="",$E8="",$F8="",$G8="",$H8="",$I8="",$J8=""),"",IF(OR($A8="",$B8="",$C8="",$D8="",$F8="",$G8="",$H8="",$I8=""),"À compléter",IF(COUNTIF('Charge requise'!$A$5:$A$204,$A8)>1,"Doublon","OK")))
A9: CHG-0005 | B9: 46279 | C9: Plomberie | D9: Atelier Fictif Oméga | E9: Zone technique fictive | F9: Réseaux | G9: Normale | H9: Confirmée | I9: 84 | J9: Exemple fictif de préparation. | K9: =IF(AND($A9="",$B9="",$C9="",$D9="",$E9="",$F9="",$G9="",$H9="",$I9="",$J9=""),"",IF(OR($A9="",$B9="",$C9="",$D9="",$F9="",$G9="",$H9="",$I9=""),"À compléter",IF(COUNTIF('Charge requise'!$A$5:$A$204,$A9)>1,"Doublon","OK")))
K10: =IF(AND($A10="",$B10="",$C10="",$D10="",$E10="",$F10="",$G10="",$H10="",$I10="",$J10=""),"",IF(OR($A10="",$B10="",$C10="",$D10="",$F10="",$G10="",$H10="",$I10=""),"À compléter",IF(COUNTIF('Charge requise'!$A$5:$A$204,$A10)>1,"Doublon","OK")))
K11: =IF(AND($A11="",$B11="",$C11="",$D11="",$E11="",$F11="",$G11="",$H11="",$I11="",$J11=""),"",IF(OR($A11="",$B11="",$C11="",$D11="",$F11="",$G11="",$H11="",$I11=""),"À compléter",IF(COUNTIF('Charge requise'!$A$5:$A$204,$A11)>1,"Doublon","OK")))
K12: =IF(AND($A12="",$B12="",$C12="",$D12="",$E12="",$F12="",$G12="",$H12="",$I12="",$J12=""),"",IF(OR($A12="",$B12="",$C12="",$D12="",$F12="",$G12="",$H12="",$I12=""),"À compléter",IF(COUNTIF('Charge requise'!$A$5:$A$204,$A12)>1,"Doublon","OK")))
K13: =IF(AND($A13="",$B13="",$C13="",$D13="",$E13="",$F13="",$G13="",$H13="",$I13="",$J13=""),"",IF(OR($A13="",$B13="",$C13="",$D13="",$F13="",$G13="",$H13="",$I13=""),"À compléter",IF(COUNTIF('Charge requise'!$A$5:$A$204,$A13)>1,"Doublon","OK")))
K14: =IF(AND($A14="",$B14="",$C14="",$D14="",$E14="",$F14="",$G14="",$H14="",$I14="",$J14=""),"",IF(OR($A14="",$B14="",$C14="",$D14="",$F14="",$G14="",$H14="",$I14=""),"À compléter",IF(COUNTIF('Charge requise'!$A$5:$A$204,$A14)>1,"Doublon","OK")))
K15: =IF(AND($A15="",$B15="",$C15="",$D15="",$E15="",$F15="",$G15="",$H15="",$I15="",$J15=""),"",IF(OR($A15="",$B15="",$C15="",$D15="",$F15="",$G15="",$H15="",$I15=""),"À compléter",IF(COUNTIF('Charge requise'!$A$5:$A$204,$A15)>1,"Doublon","OK")))
K16: =IF(AND($A16="",$B16="",$C16="",$D16="",$E16="",$F16="",$G16="",$H16="",$I16="",$J16=""),"",IF(OR($A16="",$B16="",$C16="",$D16="",$F16="",$G16="",$H16="",$I16=""),"À compléter",IF(COUNTIF('Charge requise'!$A$5:$A$204,$A16)>1,"Doublon","OK")))
K17: =IF(AND($A17="",$B17="",$C17="",$D17="",$E17="",$F17="",$G17="",$H17="",$I17="",$J17=""),"",IF(OR($A17="",$B17="",$C17="",$D17="",$F17="",$G17="",$H17="",$I17=""),"À compléter",IF(COUNTIF('Charge requise'!$A$5:$A$204,$A17)>1,"Doublon","OK")))
K18: =IF(AND($A18="",$B18="",$C18="",$D18="",$E18="",$F18="",$G18="",$H18="",$I18="",$J18=""),"",IF(OR($A18="",$B18="",$C18="",$D18="",$F18="",$G18="",$H18="",$I18=""),"À compléter",IF(COUNTIF('Charge requise'!$A$5:$A$204,$A18)>1,"Doublon","OK")))
K19: =IF(AND($A19="",$B19="",$C19="",$D19="",$E19="",$F19="",$G19="",$H19="",$I19="",$J19=""),"",IF(OR($A19="",$B19="",$C19="",$D19="",$F19="",$G19="",$H19="",$I19=""),"À compléter",IF(COUNTIF('Charge requise'!$A$5:$A$204,$A19)>1,"Doublon","OK")))
K20: =IF(AND($A20="",$B20="",$C20="",$D20="",$E20="",$F20="",$G20="",$H20="",$I20="",$J20=""),"",IF(OR($A20="",$B20="",$C20="",$D20="",$F20="",$G20="",$H20="",$I20=""),"À compléter",IF(COUNTIF('Charge requise'!$A$5:$A$204,$A20)>1,"Doublon","OK")))
K21: =IF(AND($A21="",$B21="",$C21="",$D21="",$E21="",$F21="",$G21="",$H21="",$I21="",$J21=""),"",IF(OR($A21="",$B21="",$C21="",$D21="",$F21="",$G21="",$H21="",$I21=""),"À compléter",IF(COUNTIF('Charge requise'!$A$5:$A$204,$A21)>1,"Doublon","OK")))
... K204: =IF(AND($A204="",$B204="",$C204="",$D204="",$E204="",$F204="",$G204="",$H204="",$I204="",$J204=""),"",IF(OR($A204="",$B204="",$C204="",$D204="",$F204="",$G204="",$H204="",$I204=""),"À compléter",IF(COUNTIF('Charge requise'!$A$5:$A$204,$A204)>1,"Doublon","OK")))

Sheet Capacité équipes
A1: Capacité hebdomadaire nette des équipes
A2: Saisir une seule ligne par couple semaine-équipe. Les champs d'absence vides valent zéro.
A4: Semaine (lundi) | B4: Équipe | C4: Effectif mobilisable | D4: Heures théoriques | E4: Heures indisponibles | F4: Autres engagements | G4: Heures disponibles | H4: Commentaire | I4: Contrôle
A5: 46272 | B5: Gros œuvre | C5: 4 | D5: =IF(OR($A5="",$B5="",$C5=""),"",$C5*'Paramètres'!$B$5) | E5: 7 | G5: =IF($D5="","",MAX(0,$D5-N($E5)-N($F5))) | H5: Capacité d'exemple fictive. | I5: =IF(AND($A5="",$B5="",$C5="",$E5="",$F5="",$H5=""),"",IF(OR($A5="",$B5="",$C5=""),"À compléter",IF(COUNTIFS('Capacité équipes'!$A$5:$A$204,$A5,'Capacité équipes'!$B$5:$B$204,$B5)>1,"Doublon","OK")))
A6: 46272 | B6: Électricité | C6: 2 | D6: =IF(OR($A6="",$B6="",$C6=""),"",$C6*'Paramètres'!$B$5) | G6: =IF($D6="","",MAX(0,$D6-N($E6)-N($F6))) | H6: Capacité d'exemple fictive. | I6: =IF(AND($A6="",$B6="",$C6="",$E6="",$F6="",$H6=""),"",IF(OR($A6="",$B6="",$C6=""),"À compléter",IF(COUNTIFS('Capacité équipes'!$A$5:$A$204,$A6,'Capacité équipes'!$B$5:$B$204,$B6)>1,"Doublon","OK")))
A7: 46279 | B7: Gros œuvre | C7: 3 | D7: =IF(OR($A7="",$B7="",$C7=""),"",$C7*'Paramètres'!$B$5) | G7: =IF($D7="","",MAX(0,$D7-N($E7)-N($F7))) | H7: Capacité d'exemple fictive. | I7: =IF(AND($A7="",$B7="",$C7="",$E7="",$F7="",$H7=""),"",IF(OR($A7="",$B7="",$C7=""),"À compléter",IF(COUNTIFS('Capacité équipes'!$A$5:$A$204,$A7,'Capacité équipes'!$B$5:$B$204,$B7)>1,"Doublon","OK")))
A8: 46279 | B8: Plomberie | C8: 3 | D8: =IF(OR($A8="",$B8="",$C8=""),"",$C8*'Paramètres'!$B$5) | E8: 14 | G8: =IF($D8="","",MAX(0,$D8-N($E8)-N($F8))) | H8: Capacité d'exemple fictive. | I8: =IF(AND($A8="",$B8="",$C8="",$E8="",$F8="",$H8=""),"",IF(OR($A8="",$B8="",$C8=""),"À compléter",IF(COUNTIFS('Capacité équipes'!$A$5:$A$204,$A8,'Capacité équipes'!$B$5:$B$204,$B8)>1,"Doublon","OK")))
A9: 46279 | B9: Électricité | C9: 2 | D9: =IF(OR($A9="",$B9="",$C9=""),"",$C9*'Paramètres'!$B$5) | F9: 14 | G9: =IF($D9="","",MAX(0,$D9-N($E9)-N($F9))) | H9: Capacité d'exemple fictive. | I9: =IF(AND($A9="",$B9="",$C9="",$E9="",$F9="",$H9=""),"",IF(OR($A9="",$B9="",$C9=""),"À compléter",IF(COUNTIFS('Capacité équipes'!$A$5:$A$204,$A9,'Capacité équipes'!$B$5:$B$204,$B9)>1,"Doublon","OK")))
D10: =IF(OR($A10="",$B10="",$C10=""),"",$C10*'Paramètres'!$B$5) | G10: =IF($D10="","",MAX(0,$D10-N($E10)-N($F10))) | I10: =IF(AND($A10="",$B10="",$C10="",$E10="",$F10="",$H10=""),"",IF(OR($A10="",$B10="",$C10=""),"À compléter",IF(COUNTIFS('Capacité équipes'!$A$5:$A$204,$A10,'Capacité équipes'!$B$5:$B$204,$B10)>1,"Doublon","OK")))
D11: =IF(OR($A11="",$B11="",$C11=""),"",$C11*'Paramètres'!$B$5) | G11: =IF($D11="","",MAX(0,$D11-N($E11)-N($F11))) | I11: =IF(AND($A11="",$B11="",$C11="",$E11="",$F11="",$H11=""),"",IF(OR($A11="",$B11="",$C11=""),"À compléter",IF(COUNTIFS('Capacité équipes'!$A$5:$A$204,$A11,'Capacité équipes'!$B$5:$B$204,$B11)>1,"Doublon","OK")))
D12: =IF(OR($A12="",$B12="",$C12=""),"",$C12*'Paramètres'!$B$5) | G12: =IF($D12="","",MAX(0,$D12-N($E12)-N($F12))) | I12: =IF(AND($A12="",$B12="",$C12="",$E12="",$F12="",$H12=""),"",IF(OR($A12="",$B12="",$C12=""),"À compléter",IF(COUNTIFS('Capacité équipes'!$A$5:$A$204,$A12,'Capacité équipes'!$B$5:$B$204,$B12)>1,"Doublon","OK")))
D13: =IF(OR($A13="",$B13="",$C13=""),"",$C13*'Paramètres'!$B$5) | G13: =IF($D13="","",MAX(0,$D13-N($E13)-N($F13))) | I13: =IF(AND($A13="",$B13="",$C13="",$E13="",$F13="",$H13=""),"",IF(OR($A13="",$B13="",$C13=""),"À compléter",IF(COUNTIFS('Capacité équipes'!$A$5:$A$204,$A13,'Capacité équipes'!$B$5:$B$204,$B13)>1,"Doublon","OK")))
D14: =IF(OR($A14="",$B14="",$C14=""),"",$C14*'Paramètres'!$B$5) | G14: =IF($D14="","",MAX(0,$D14-N($E14)-N($F14))) | I14: =IF(AND($A14="",$B14="",$C14="",$E14="",$F14="",$H14=""),"",IF(OR($A14="",$B14="",$C14=""),"À compléter",IF(COUNTIFS('Capacité équipes'!$A$5:$A$204,$A14,'Capacité équipes'!$B$5:$B$204,$B14)>1,"Doublon","OK")))
D15: =IF(OR($A15="",$B15="",$C15=""),"",$C15*'Paramètres'!$B$5) | G15: =IF($D15="","",MAX(0,$D15-N($E15)-N($F15))) | I15: =IF(AND($A15="",$B15="",$C15="",$E15="",$F15="",$H15=""),"",IF(OR($A15="",$B15="",$C15=""),"À compléter",IF(COUNTIFS('Capacité équipes'!$A$5:$A$204,$A15,'Capacité équipes'!$B$5:$B$204,$B15)>1,"Doublon","OK")))
D16: =IF(OR($A16="",$B16="",$C16=""),"",$C16*'Paramètres'!$B$5) | G16: =IF($D16="","",MAX(0,$D16-N($E16)-N($F16))) | I16: =IF(AND($A16="",$B16="",$C16="",$E16="",$F16="",$H16=""),"",IF(OR($A16="",$B16="",$C16=""),"À compléter",IF(COUNTIFS('Capacité équipes'!$A$5:$A$204,$A16,'Capacité équipes'!$B$5:$B$204,$B16)>1,"Doublon","OK")))
D17: =IF(OR($A17="",$B17="",$C17=""),"",$C17*'Paramètres'!$B$5) | G17: =IF($D17="","",MAX(0,$D17-N($E17)-N($F17))) | I17: =IF(AND($A17="",$B17="",$C17="",$E17="",$F17="",$H17=""),"",IF(OR($A17="",$B17="",$C17=""),"À compléter",IF(COUNTIFS('Capacité équipes'!$A$5:$A$204,$A17,'Capacité équipes'!$B$5:$B$204,$B17)>1,"Doublon","OK")))
D18: =IF(OR($A18="",$B18="",$C18=""),"",$C18*'Paramètres'!$B$5) | G18: =IF($D18="","",MAX(0,$D18-N($E18)-N($F18))) | I18: =IF(AND($A18="",$B18="",$C18="",$E18="",$F18="",$H18=""),"",IF(OR($A18="",$B18="",$C18=""),"À compléter",IF(COUNTIFS('Capacité équipes'!$A$5:$A$204,$A18,'Capacité équipes'!$B$5:$B$204,$B18)>1,"Doublon","OK")))
D19: =IF(OR($A19="",$B19="",$C19=""),"",$C19*'Paramètres'!$B$5) | G19: =IF($D19="","",MAX(0,$D19-N($E19)-N($F19))) | I19: =IF(AND($A19="",$B19="",$C19="",$E19="",$F19="",$H19=""),"",IF(OR($A19="",$B19="",$C19=""),"À compléter",IF(COUNTIFS('Capacité équipes'!$A$5:$A$204,$A19,'Capacité équipes'!$B$5:$B$204,$B19)>1,"Doublon","OK")))
D20: =IF(OR($A20="",$B20="",$C20=""),"",$C20*'Paramètres'!$B$5) | G20: =IF($D20="","",MAX(0,$D20-N($E20)-N($F20))) | I20: =IF(AND($A20="",$B20="",$C20="",$E20="",$F20="",$H20=""),"",IF(OR($A20="",$B20="",$C20=""),"À compléter",IF(COUNTIFS('Capacité équipes'!$A$5:$A$204,$A20,'Capacité équipes'!$B$5:$B$204,$B20)>1,"Doublon","OK")))
D21: =IF(OR($A21="",$B21="",$C21=""),"",$C21*'Paramètres'!$B$5) | G21: =IF($D21="","",MAX(0,$D21-N($E21)-N($F21))) | I21: =IF(AND($A21="",$B21="",$C21="",$E21="",$F21="",$H21=""),"",IF(OR($A21="",$B21="",$C21=""),"À compléter",IF(COUNTIFS('Capacité équipes'!$A$5:$A$204,$A21,'Capacité équipes'!$B$5:$B$204,$B21)>1,"Doublon","OK")))
... D204: =IF(OR($A204="",$B204="",$C204=""),"",$C204*'Paramètres'!$B$5) | G204: =IF($D204="","",MAX(0,$D204-N($E204)-N($F204))) | I204: =IF(AND($A204="",$B204="",$C204="",$E204="",$F204="",$H204=""),"",IF(OR($A204="",$B204="",$C204=""),"À compléter",IF(COUNTIFS('Capacité équipes'!$A$5:$A$204,$A204,'Capacité équipes'!$B$5:$B$204,$B204)>1,"Doublon","OK")))
