Workbook

Sheet Synthèse
A1: Synthèse — planning des affectations chantier
A2: Affectations actives | B2: =IF(Paramètres!$B$2="","",COUNTIFS($B$7:$B$206,Paramètres!$B$2,$M$7:$M$206,"<>Annulée",$A$7:$A$206,"<>")) | D2: Heures planifiées | E2: =IF(Paramètres!$B$2="","",IF(COUNTIFS($B$7:$B$206,Paramètres!$B$2,$M$7:$M$206,"<>Annulée",$A$7:$A$206,"<>")=0,"",SUMIFS($E$7:$E$206,$B$7:$B$206,Paramètres!$B$2,$M$7:$M$206,"<>Annulée",$A$7:$A$206,"<>"))) | G2: Alertes à traiter | H2: =IF(Paramètres!$B$2="","",IF(COUNTIFS($B$7:$B$206,Paramètres!$B$2,$A$7:$A$206,"<>")=0,"",COUNTIFS($B$7:$B$206,Paramètres!$B$2,$T$7:$T$206,"<>OK",$T$7:$T$206,"<>",$A$7:$A$206,"<>"))) | J2: Date de pilotage | K2: =IF(Paramètres!$B$2="","",Paramètres!$B$2)
A4: Cellule modifiable | B4: Saisie | D4: Calcul automatique | E4: Formule | G4: Alerte | H4: À contrôler
A6: ID affectation | B6: Date | C6: Heure début | D6: Heure fin | E6: Durée (h) | F6: ID intervenant | G6: Nom affiché | H6: Équipe | I6: ID chantier | J6: Chantier | K6: Zone | L6: Tâche | M6: Statut | N6: Priorité | O6: Commentaire | P6: Conflit horaire | Q6: Indisponibilité | R6: Cohérence chantier-zone | S6: Période chantier | T6: Alerte globale
A7: AFF-001 | B7: 46273 | C7: 0.33333333 | D7: 0.5 | E7: =IF(OR(C7="",D7=""),"",IF(D7>C7,(D7-C7)*24,"")) | F7: INT-001 | G7: =IF(F7="","",IFERROR(_xlfn.XLOOKUP(F7,Intervenants!$A$2:$A$101,Intervenants!$B$2:$B$101),"ID inconnu")) | H7: =IF(F7="","",IFERROR(_xlfn.XLOOKUP(F7,Intervenants!$A$2:$A$101,Intervenants!$C$2:$C$101),"ID inconnu")) | I7: DEMO-A | J7: =IF(I7="","",IFERROR(_xlfn.XLOOKUP(I7,Chantiers_Zones!$B$2:$B$101,Chantiers_Zones!$C$2:$C$101),"CHANTIER INCONNU")) | K7: Zone Nord | L7: Installation | M7: Confirmée | N7: Haute | O7: Chevauchement fictif à contrôler | P7: =IF(M7="Annulée","OK",IF(OR(B7="",C7="",D7="",F7=""),"",IF(COUNTIFS($F$7:$F$206,F7,$B$7:$B$206,B7,$C$7:$C$206,"<"&D7,$D$7:$D$206,">"&C7,$M$7:$M$206,"<>Annulée")>1,"DOUBLE RÉSERVATION","OK"))) | Q7: =IF(M7="Annulée","OK",IF(OR(B7="",C7="",D7="",F7=""),"",IF(SUMPRODUCT((Indisponibilités!$A$2:$A$101=F7)*((Indisponibilités!$B$2:$B$101+Indisponibilités!$C$2:$C$101)<(B7+D7))*((Indisponibilités!$D$2:$D$101+Indisponibilités!$E$2:$E$101)>(B7+C7)))>0,"INDISPONIBLE","OK"))) | R7: =IF(OR(I7="",K7=""),"",IF(COUNTIFS(Chantiers_Zones!$B$2:$B$101,I7,Chantiers_Zones!$D$2:$D$101,K7,Chantiers_Zones!$E$2:$E$101,"Oui")>0,"OK","ZONE INVALIDE")) | S7: =IF(OR(B7="",I7=""),"",IFERROR(IF(AND(B7>=_xlfn.XLOOKUP(I7,Chantiers_Zones!$B$2:$B$101,Chantiers_Zones!$F$2:$F$101),B7<=_xlfn.XLOOKUP(I7,Chantiers_Zones!$B$2:$B$101,Chantiers_Zones!$G$2:$G$101)),"OK","HORS PÉRIODE"),"CHANTIER INCONNU")) | T7: =IF(COUNTA(A7:D7,F7,I7,K7:O7)=0,"",IF(M7="Annulée","OK",IF(OR(A7="",B7="",C7="",D7="",F7="",I7="",K7="",L7="",M7=""),"INCOMPLET",IF(D7<=C7,"HORAIRES INVALIDES",IF(OR(C7<Paramètres!$B$3,D7>Paramètres!$B$4),"HORS PLAGE",IF(P7<>"OK",P7,IF(Q7<>"OK",Q7,IF(R7<>"OK",R7,IF(S7<>"OK",S7,"OK")))))))))
A8: AFF-002 | B8: 46273 | C8: 0.41666667 | D8: 0.58333333 | E8: =IF(OR(C8="",D8=""),"",IF(D8>C8,(D8-C8)*24,"")) | F8: INT-001 | G8: =IF(F8="","",IFERROR(_xlfn.XLOOKUP(F8,Intervenants!$A$2:$A$101,Intervenants!$B$2:$B$101),"ID inconnu")) | H8: =IF(F8="","",IFERROR(_xlfn.XLOOKUP(F8,Intervenants!$A$2:$A$101,Intervenants!$C$2:$C$101),"ID inconnu")) | I8: DEMO-A | J8: =IF(I8="","",IFERROR(_xlfn.XLOOKUP(I8,Chantiers_Zones!$B$2:$B$101,Chantiers_Zones!$C$2:$C$101),"CHANTIER INCONNU")) | K8: Zone Sud | L8: Contrôle | M8: Prévue | N8: Normale | O8: Chevauchement fictif à contrôler | P8: =IF(M8="Annulée","OK",IF(OR(B8="",C8="",D8="",F8=""),"",IF(COUNTIFS($F$7:$F$206,F8,$B$7:$B$206,B8,$C$7:$C$206,"<"&D8,$D$7:$D$206,">"&C8,$M$7:$M$206,"<>Annulée")>1,"DOUBLE RÉSERVATION","OK"))) | Q8: =IF(M8="Annulée","OK",IF(OR(B8="",C8="",D8="",F8=""),"",IF(SUMPRODUCT((Indisponibilités!$A$2:$A$101=F8)*((Indisponibilités!$B$2:$B$101+Indisponibilités!$C$2:$C$101)<(B8+D8))*((Indisponibilités!$D$2:$D$101+Indisponibilités!$E$2:$E$101)>(B8+C8)))>0,"INDISPONIBLE","OK"))) | R8: =IF(OR(I8="",K8=""),"",IF(COUNTIFS(Chantiers_Zones!$B$2:$B$101,I8,Chantiers_Zones!$D$2:$D$101,K8,Chantiers_Zones!$E$2:$E$101,"Oui")>0,"OK","ZONE INVALIDE")) | S8: =IF(OR(B8="",I8=""),"",IFERROR(IF(AND(B8>=_xlfn.XLOOKUP(I8,Chantiers_Zones!$B$2:$B$101,Chantiers_Zones!$F$2:$F$101),B8<=_xlfn.XLOOKUP(I8,Chantiers_Zones!$B$2:$B$101,Chantiers_Zones!$G$2:$G$101)),"OK","HORS PÉRIODE"),"CHANTIER INCONNU")) | T8: =IF(COUNTA(A8:D8,F8,I8,K8:O8)=0,"",IF(M8="Annulée","OK",IF(OR(A8="",B8="",C8="",D8="",F8="",I8="",K8="",L8="",M8=""),"INCOMPLET",IF(D8<=C8,"HORAIRES INVALIDES",IF(OR(C8<Paramètres!$B$3,D8>Paramètres!$B$4),"HORS PLAGE",IF(P8<>"OK",P8,IF(Q8<>"OK",Q8,IF(R8<>"OK",R8,IF(S8<>"OK",S8,"OK")))))))))
A9: AFF-003 | B9: 46273 | C9: 0.375 | D9: 0.45833333 | E9: =IF(OR(C9="",D9=""),"",IF(D9>C9,(D9-C9)*24,"")) | F9: INT-002 | G9: =IF(F9="","",IFERROR(_xlfn.XLOOKUP(F9,Intervenants!$A$2:$A$101,Intervenants!$B$2:$B$101),"ID inconnu")) | H9: =IF(F9="","",IFERROR(_xlfn.XLOOKUP(F9,Intervenants!$A$2:$A$101,Intervenants!$C$2:$C$101),"ID inconnu")) | I9: DEMO-B | J9: =IF(I9="","",IFERROR(_xlfn.XLOOKUP(I9,Chantiers_Zones!$B$2:$B$101,Chantiers_Zones!$C$2:$C$101),"CHANTIER INCONNU")) | K9: Niveau 1 | L9: Préparation | M9: Confirmée | N9: Haute | O9: Indisponibilité témoin | P9: =IF(M9="Annulée","OK",IF(OR(B9="",C9="",D9="",F9=""),"",IF(COUNTIFS($F$7:$F$206,F9,$B$7:$B$206,B9,$C$7:$C$206,"<"&D9,$D$7:$D$206,">"&C9,$M$7:$M$206,"<>Annulée")>1,"DOUBLE RÉSERVATION","OK"))) | Q9: =IF(M9="Annulée","OK",IF(OR(B9="",C9="",D9="",F9=""),"",IF(SUMPRODUCT((Indisponibilités!$A$2:$A$101=F9)*((Indisponibilités!$B$2:$B$101+Indisponibilités!$C$2:$C$101)<(B9+D9))*((Indisponibilités!$D$2:$D$101+Indisponibilités!$E$2:$E$101)>(B9+C9)))>0,"INDISPONIBLE","OK"))) | R9: =IF(OR(I9="",K9=""),"",IF(COUNTIFS(Chantiers_Zones!$B$2:$B$101,I9,Chantiers_Zones!$D$2:$D$101,K9,Chantiers_Zones!$E$2:$E$101,"Oui")>0,"OK","ZONE INVALIDE")) | S9: =IF(OR(B9="",I9=""),"",IFERROR(IF(AND(B9>=_xlfn.XLOOKUP(I9,Chantiers_Zones!$B$2:$B$101,Chantiers_Zones!$F$2:$F$101),B9<=_xlfn.XLOOKUP(I9,Chantiers_Zones!$B$2:$B$101,Chantiers_Zones!$G$2:$G$101)),"OK","HORS PÉRIODE"),"CHANTIER INCONNU")) | T9: =IF(COUNTA(A9:D9,F9,I9,K9:O9)=0,"",IF(M9="Annulée","OK",IF(OR(A9="",B9="",C9="",D9="",F9="",I9="",K9="",L9="",M9=""),"INCOMPLET",IF(D9<=C9,"HORAIRES INVALIDES",IF(OR(C9<Paramètres!$B$3,D9>Paramètres!$B$4),"HORS PLAGE",IF(P9<>"OK",P9,IF(Q9<>"OK",Q9,IF(R9<>"OK",R9,IF(S9<>"OK",S9,"OK")))))))))
A10: AFF-004 | B10: 46274 | C10: 0.3125 | D10: 0.45833333 | E10: =IF(OR(C10="",D10=""),"",IF(D10>C10,(D10-C10)*24,"")) | F10: INT-003 | G10: =IF(F10="","",IFERROR(_xlfn.XLOOKUP(F10,Intervenants!$A$2:$A$101,Intervenants!$B$2:$B$101),"ID inconnu")) | H10: =IF(F10="","",IFERROR(_xlfn.XLOOKUP(F10,Intervenants!$A$2:$A$101,Intervenants!$C$2:$C$101),"ID inconnu")) | I10: DEMO-A | J10: =IF(I10="","",IFERROR(_xlfn.XLOOKUP(I10,Chantiers_Zones!$B$2:$B$101,Chantiers_Zones!$C$2:$C$101),"CHANTIER INCONNU")) | K10: Zone Nord | L10: Repérage | M10: Confirmée | N10: Normale | P10: =IF(M10="Annulée","OK",IF(OR(B10="",C10="",D10="",F10=""),"",IF(COUNTIFS($F$7:$F$206,F10,$B$7:$B$206,B10,$C$7:$C$206,"<"&D10,$D$7:$D$206,">"&C10,$M$7:$M$206,"<>Annulée")>1,"DOUBLE RÉSERVATION","OK"))) | Q10: =IF(M10="Annulée","OK",IF(OR(B10="",C10="",D10="",F10=""),"",IF(SUMPRODUCT((Indisponibilités!$A$2:$A$101=F10)*((Indisponibilités!$B$2:$B$101+Indisponibilités!$C$2:$C$101)<(B10+D10))*((Indisponibilités!$D$2:$D$101+Indisponibilités!$E$2:$E$101)>(B10+C10)))>0,"INDISPONIBLE","OK"))) | R10: =IF(OR(I10="",K10=""),"",IF(COUNTIFS(Chantiers_Zones!$B$2:$B$101,I10,Chantiers_Zones!$D$2:$D$101,K10,Chantiers_Zones!$E$2:$E$101,"Oui")>0,"OK","ZONE INVALIDE")) | S10: =IF(OR(B10="",I10=""),"",IFERROR(IF(AND(B10>=_xlfn.XLOOKUP(I10,Chantiers_Zones!$B$2:$B$101,Chantiers_Zones!$F$2:$F$101),B10<=_xlfn.XLOOKUP(I10,Chantiers_Zones!$B$2:$B$101,Chantiers_Zones!$G$2:$G$101)),"OK","HORS PÉRIODE"),"CHANTIER INCONNU")) | T10: =IF(COUNTA(A10:D10,F10,I10,K10:O10)=0,"",IF(M10="Annulée","OK",IF(OR(A10="",B10="",C10="",D10="",F10="",I10="",K10="",L10="",M10=""),"INCOMPLET",IF(D10<=C10,"HORAIRES INVALIDES",IF(OR(C10<Paramètres!$B$3,D10>Paramètres!$B$4),"HORS PLAGE",IF(P10<>"OK",P10,IF(Q10<>"OK",Q10,IF(R10<>"OK",R10,IF(S10<>"OK",S10,"OK")))))))))
A11: AFF-005 | B11: 46274 | C11: 0.54166667 | D11: 0.70833333 | E11: =IF(OR(C11="",D11=""),"",IF(D11>C11,(D11-C11)*24,"")) | F11: INT-001 | G11: =IF(F11="","",IFERROR(_xlfn.XLOOKUP(F11,Intervenants!$A$2:$A$101,Intervenants!$B$2:$B$101),"ID inconnu")) | H11: =IF(F11="","",IFERROR(_xlfn.XLOOKUP(F11,Intervenants!$A$2:$A$101,Intervenants!$C$2:$C$101),"ID inconnu")) | I11: DEMO-B | J11: =IF(I11="","",IFERROR(_xlfn.XLOOKUP(I11,Chantiers_Zones!$B$2:$B$101,Chantiers_Zones!$C$2:$C$101),"CHANTIER INCONNU")) | K11: Niveau 1 | L11: Pose témoin | M11: Prévue | N11: Normale | P11: =IF(M11="Annulée","OK",IF(OR(B11="",C11="",D11="",F11=""),"",IF(COUNTIFS($F$7:$F$206,F11,$B$7:$B$206,B11,$C$7:$C$206,"<"&D11,$D$7:$D$206,">"&C11,$M$7:$M$206,"<>Annulée")>1,"DOUBLE RÉSERVATION","OK"))) | Q11: =IF(M11="Annulée","OK",IF(OR(B11="",C11="",D11="",F11=""),"",IF(SUMPRODUCT((Indisponibilités!$A$2:$A$101=F11)*((Indisponibilités!$B$2:$B$101+Indisponibilités!$C$2:$C$101)<(B11+D11))*((Indisponibilités!$D$2:$D$101+Indisponibilités!$E$2:$E$101)>(B11+C11)))>0,"INDISPONIBLE","OK"))) | R11: =IF(OR(I11="",K11=""),"",IF(COUNTIFS(Chantiers_Zones!$B$2:$B$101,I11,Chantiers_Zones!$D$2:$D$101,K11,Chantiers_Zones!$E$2:$E$101,"Oui")>0,"OK","ZONE INVALIDE")) | S11: =IF(OR(B11="",I11=""),"",IFERROR(IF(AND(B11>=_xlfn.XLOOKUP(I11,Chantiers_Zones!$B$2:$B$101,Chantiers_Zones!$F$2:$F$101),B11<=_xlfn.XLOOKUP(I11,Chantiers_Zones!$B$2:$B$101,Chantiers_Zones!$G$2:$G$101)),"OK","HORS PÉRIODE"),"CHANTIER INCONNU")) | T11: =IF(COUNTA(A11:D11,F11,I11,K11:O11)=0,"",IF(M11="Annulée","OK",IF(OR(A11="",B11="",C11="",D11="",F11="",I11="",K11="",L11="",M11=""),"INCOMPLET",IF(D11<=C11,"HORAIRES INVALIDES",IF(OR(C11<Paramètres!$B$3,D11>Paramètres!$B$4),"HORS PLAGE",IF(P11<>"OK",P11,IF(Q11<>"OK",Q11,IF(R11<>"OK",R11,IF(S11<>"OK",S11,"OK")))))))))
A12: AFF-006 | B12: 46275 | C12: 0.33333333 | D12: 0.5 | E12: =IF(OR(C12="",D12=""),"",IF(D12>C12,(D12-C12)*24,"")) | F12: INT-002 | G12: =IF(F12="","",IFERROR(_xlfn.XLOOKUP(F12,Intervenants!$A$2:$A$101,Intervenants!$B$2:$B$101),"ID inconnu")) | H12: =IF(F12="","",IFERROR(_xlfn.XLOOKUP(F12,Intervenants!$A$2:$A$101,Intervenants!$C$2:$C$101),"ID inconnu")) | I12: DEMO-A | J12: =IF(I12="","",IFERROR(_xlfn.XLOOKUP(I12,Chantiers_Zones!$B$2:$B$101,Chantiers_Zones!$C$2:$C$101),"CHANTIER INCONNU")) | K12: Zone Sud | L12: Contrôle support | M12: Confirmée | N12: Basse | P12: =IF(M12="Annulée","OK",IF(OR(B12="",C12="",D12="",F12=""),"",IF(COUNTIFS($F$7:$F$206,F12,$B$7:$B$206,B12,$C$7:$C$206,"<"&D12,$D$7:$D$206,">"&C12,$M$7:$M$206,"<>Annulée")>1,"DOUBLE RÉSERVATION","OK"))) | Q12: =IF(M12="Annulée","OK",IF(OR(B12="",C12="",D12="",F12=""),"",IF(SUMPRODUCT((Indisponibilités!$A$2:$A$101=F12)*((Indisponibilités!$B$2:$B$101+Indisponibilités!$C$2:$C$101)<(B12+D12))*((Indisponibilités!$D$2:$D$101+Indisponibilités!$E$2:$E$101)>(B12+C12)))>0,"INDISPONIBLE","OK"))) | R12: =IF(OR(I12="",K12=""),"",IF(COUNTIFS(Chantiers_Zones!$B$2:$B$101,I12,Chantiers_Zones!$D$2:$D$101,K12,Chantiers_Zones!$E$2:$E$101,"Oui")>0,"OK","ZONE INVALIDE")) | S12: =IF(OR(B12="",I12=""),"",IFERROR(IF(AND(B12>=_xlfn.XLOOKUP(I12,Chantiers_Zones!$B$2:$B$101,Chantiers_Zones!$F$2:$F$101),B12<=_xlfn.XLOOKUP(I12,Chantiers_Zones!$B$2:$B$101,Chantiers_Zones!$G$2:$G$101)),"OK","HORS PÉRIODE"),"CHANTIER INCONNU")) | T12: =IF(COUNTA(A12:D12,F12,I12,K12:O12)=0,"",IF(M12="Annulée","OK",IF(OR(A12="",B12="",C12="",D12="",F12="",I12="",K12="",L12="",M12=""),"INCOMPLET",IF(D12<=C12,"HORAIRES INVALIDES",IF(OR(C12<Paramètres!$B$3,D12>Paramètres!$B$4),"HORS PLAGE",IF(P12<>"OK",P12,IF(Q12<>"OK",Q12,IF(R12<>"OK",R12,IF(S12<>"OK",S12,"OK")))))))))
A13: AFF-007 | B13: 46275 | C13: 0.54166667 | D13: 0.66666667 | E13: =IF(OR(C13="",D13=""),"",IF(D13>C13,(D13-C13)*24,"")) | F13: INT-003 | G13: =IF(F13="","",IFERROR(_xlfn.XLOOKUP(F13,Intervenants!$A$2:$A$101,Intervenants!$B$2:$B$101),"ID inconnu")) | H13: =IF(F13="","",IFERROR(_xlfn.XLOOKUP(F13,Intervenants!$A$2:$A$101,Intervenants!$C$2:$C$101),"ID inconnu")) | I13: DEMO-B | J13: =IF(I13="","",IFERROR(_xlfn.XLOOKUP(I13,Chantiers_Zones!$B$2:$B$101,Chantiers_Zones!$C$2:$C$101),"CHANTIER INCONNU")) | K13: Niveau 2 | L13: Finitions fictives | M13: Annulée | N13: Normale | O13: Ligne annulée | P13: =IF(M13="Annulée","OK",IF(OR(B13="",C13="",D13="",F13=""),"",IF(COUNTIFS($F$7:$F$206,F13,$B$7:$B$206,B13,$C$7:$C$206,"<"&D13,$D$7:$D$206,">"&C13,$M$7:$M$206,"<>Annulée")>1,"DOUBLE RÉSERVATION","OK"))) | Q13: =IF(M13="Annulée","OK",IF(OR(B13="",C13="",D13="",F13=""),"",IF(SUMPRODUCT((Indisponibilités!$A$2:$A$101=F13)*((Indisponibilités!$B$2:$B$101+Indisponibilités!$C$2:$C$101)<(B13+D13))*((Indisponibilités!$D$2:$D$101+Indisponibilités!$E$2:$E$101)>(B13+C13)))>0,"INDISPONIBLE","OK"))) | R13: =IF(OR(I13="",K13=""),"",IF(COUNTIFS(Chantiers_Zones!$B$2:$B$101,I13,Chantiers_Zones!$D$2:$D$101,K13,Chantiers_Zones!$E$2:$E$101,"Oui")>0,"OK","ZONE INVALIDE")) | S13: =IF(OR(B13="",I13=""),"",IFERROR(IF(AND(B13>=_xlfn.XLOOKUP(I13,Chantiers_Zones!$B$2:$B$101,Chantiers_Zones!$F$2:$F$101),B13<=_xlfn.XLOOKUP(I13,Chantiers_Zones!$B$2:$B$101,Chantiers_Zones!$G$2:$G$101)),"OK","HORS PÉRIODE"),"CHANTIER INCONNU")) | T13: =IF(COUNTA(A13:D13,F13,I13,K13:O13)=0,"",IF(M13="Annulée","OK",IF(OR(A13="",B13="",C13="",D13="",F13="",I13="",K13="",L13="",M13=""),"INCOMPLET",IF(D13<=C13,"HORAIRES INVALIDES",IF(OR(C13<Paramètres!$B$3,D13>Paramètres!$B$4),"HORS PLAGE",IF(P13<>"OK",P13,IF(Q13<>"OK",Q13,IF(R13<>"OK",R13,IF(S13<>"OK",S13,"OK")))))))))
A14: AFF-008 | B14: 46275 | C14: 0.375 | D14: 0.45833333 | E14: =IF(OR(C14="",D14=""),"",IF(D14>C14,(D14-C14)*24,"")) | F14: INT-001 | G14: =IF(F14="","",IFERROR(_xlfn.XLOOKUP(F14,Intervenants!$A$2:$A$101,Intervenants!$B$2:$B$101),"ID inconnu")) | H14: =IF(F14="","",IFERROR(_xlfn.XLOOKUP(F14,Intervenants!$A$2:$A$101,Intervenants!$C$2:$C$101),"ID inconnu")) | I14: DEMO-A | J14: =IF(I14="","",IFERROR(_xlfn.XLOOKUP(I14,Chantiers_Zones!$B$2:$B$101,Chantiers_Zones!$C$2:$C$101),"CHANTIER INCONNU")) | K14: Zone Fantôme | L14: Vérification zone | M14: Prévue | N14: Haute | O14: Zone inexistante de démonstration | P14: =IF(M14="Annulée","OK",IF(OR(B14="",C14="",D14="",F14=""),"",IF(COUNTIFS($F$7:$F$206,F14,$B$7:$B$206,B14,$C$7:$C$206,"<"&D14,$D$7:$D$206,">"&C14,$M$7:$M$206,"<>Annulée")>1,"DOUBLE RÉSERVATION","OK"))) | Q14: =IF(M14="Annulée","OK",IF(OR(B14="",C14="",D14="",F14=""),"",IF(SUMPRODUCT((Indisponibilités!$A$2:$A$101=F14)*((Indisponibilités!$B$2:$B$101+Indisponibilités!$C$2:$C$101)<(B14+D14))*((Indisponibilités!$D$2:$D$101+Indisponibilités!$E$2:$E$101)>(B14+C14)))>0,"INDISPONIBLE","OK"))) | R14: =IF(OR(I14="",K14=""),"",IF(COUNTIFS(Chantiers_Zones!$B$2:$B$101,I14,Chantiers_Zones!$D$2:$D$101,K14,Chantiers_Zones!$E$2:$E$101,"Oui")>0,"OK","ZONE INVALIDE")) | S14: =IF(OR(B14="",I14=""),"",IFERROR(IF(AND(B14>=_xlfn.XLOOKUP(I14,Chantiers_Zones!$B$2:$B$101,Chantiers_Zones!$F$2:$F$101),B14<=_xlfn.XLOOKUP(I14,Chantiers_Zones!$B$2:$B$101,Chantiers_Zones!$G$2:$G$101)),"OK","HORS PÉRIODE"),"CHANTIER INCONNU")) | T14: =IF(COUNTA(A14:D14,F14,I14,K14:O14)=0,"",IF(M14="Annulée","OK",IF(OR(A14="",B14="",C14="",D14="",F14="",I14="",K14="",L14="",M14=""),"INCOMPLET",IF(D14<=C14,"HORAIRES INVALIDES",IF(OR(C14<Paramètres!$B$3,D14>Paramètres!$B$4),"HORS PLAGE",IF(P14<>"OK",P14,IF(Q14<>"OK",Q14,IF(R14<>"OK",R14,IF(S14<>"OK",S14,"OK")))))))))
A15: AFF-009 | B15: 46276 | C15: 0.58333333 | D15: 0.5 | E15: =IF(OR(C15="",D15=""),"",IF(D15>C15,(D15-C15)*24,"")) | F15: INT-002 | G15: =IF(F15="","",IFERROR(_xlfn.XLOOKUP(F15,Intervenants!$A$2:$A$101,Intervenants!$B$2:$B$101),"ID inconnu")) | H15: =IF(F15="","",IFERROR(_xlfn.XLOOKUP(F15,Intervenants!$A$2:$A$101,Intervenants!$C$2:$C$101),"ID inconnu")) | I15: DEMO-B | J15: =IF(I15="","",IFERROR(_xlfn.XLOOKUP(I15,Chantiers_Zones!$B$2:$B$101,Chantiers_Zones!$C$2:$C$101),"CHANTIER INCONNU")) | K15: Niveau 1 | L15: Essai horaire | M15: Prévue | N15: Normale | O15: Fin antérieure au début | P15: =IF(M15="Annulée","OK",IF(OR(B15="",C15="",D15="",F15=""),"",IF(COUNTIFS($F$7:$F$206,F15,$B$7:$B$206,B15,$C$7:$C$206,"<"&D15,$D$7:$D$206,">"&C15,$M$7:$M$206,"<>Annulée")>1,"DOUBLE RÉSERVATION","OK"))) | Q15: =IF(M15="Annulée","OK",IF(OR(B15="",C15="",D15="",F15=""),"",IF(SUMPRODUCT((Indisponibilités!$A$2:$A$101=F15)*((Indisponibilités!$B$2:$B$101+Indisponibilités!$C$2:$C$101)<(B15+D15))*((Indisponibilités!$D$2:$D$101+Indisponibilités!$E$2:$E$101)>(B15+C15)))>0,"INDISPONIBLE","OK"))) | R15: =IF(OR(I15="",K15=""),"",IF(COUNTIFS(Chantiers_Zones!$B$2:$B$101,I15,Chantiers_Zones!$D$2:$D$101,K15,Chantiers_Zones!$E$2:$E$101,"Oui")>0,"OK","ZONE INVALIDE")) | S15: =IF(OR(B15="",I15=""),"",IFERROR(IF(AND(B15>=_xlfn.XLOOKUP(I15,Chantiers_Zones!$B$2:$B$101,Chantiers_Zones!$F$2:$F$101),B15<=_xlfn.XLOOKUP(I15,Chantiers_Zones!$B$2:$B$101,Chantiers_Zones!$G$2:$G$101)),"OK","HORS PÉRIODE"),"CHANTIER INCONNU")) | T15: =IF(COUNTA(A15:D15,F15,I15,K15:O15)=0,"",IF(M15="Annulée","OK",IF(OR(A15="",B15="",C15="",D15="",F15="",I15="",K15="",L15="",M15=""),"INCOMPLET",IF(D15<=C15,"HORAIRES INVALIDES",IF(OR(C15<Paramètres!$B$3,D15>Paramètres!$B$4),"HORS PLAGE",IF(P15<>"OK",P15,IF(Q15<>"OK",Q15,IF(R15<>"OK",R15,IF(S15<>"OK",S15,"OK")))))))))
A16: AFF-010 | B16: 46276 | C16: 0.27083333 | D16: 0.33333333 | E16: =IF(OR(C16="",D16=""),"",IF(D16>C16,(D16-C16)*24,"")) | F16: INT-003 | G16: =IF(F16="","",IFERROR(_xlfn.XLOOKUP(F16,Intervenants!$A$2:$A$101,Intervenants!$B$2:$B$101),"ID inconnu")) | H16: =IF(F16="","",IFERROR(_xlfn.XLOOKUP(F16,Intervenants!$A$2:$A$101,Intervenants!$C$2:$C$101),"ID inconnu")) | I16: DEMO-A | J16: =IF(I16="","",IFERROR(_xlfn.XLOOKUP(I16,Chantiers_Zones!$B$2:$B$101,Chantiers_Zones!$C$2:$C$101),"CHANTIER INCONNU")) | K16: Zone Nord | L16: Ouverture fictive | M16: Confirmée | N16: Basse | O16: Début hors plage | P16: =IF(M16="Annulée","OK",IF(OR(B16="",C16="",D16="",F16=""),"",IF(COUNTIFS($F$7:$F$206,F16,$B$7:$B$206,B16,$C$7:$C$206,"<"&D16,$D$7:$D$206,">"&C16,$M$7:$M$206,"<>Annulée")>1,"DOUBLE RÉSERVATION","OK"))) | Q16: =IF(M16="Annulée","OK",IF(OR(B16="",C16="",D16="",F16=""),"",IF(SUMPRODUCT((Indisponibilités!$A$2:$A$101=F16)*((Indisponibilités!$B$2:$B$101+Indisponibilités!$C$2:$C$101)<(B16+D16))*((Indisponibilités!$D$2:$D$101+Indisponibilités!$E$2:$E$101)>(B16+C16)))>0,"INDISPONIBLE","OK"))) | R16: =IF(OR(I16="",K16=""),"",IF(COUNTIFS(Chantiers_Zones!$B$2:$B$101,I16,Chantiers_Zones!$D$2:$D$101,K16,Chantiers_Zones!$E$2:$E$101,"Oui")>0,"OK","ZONE INVALIDE")) | S16: =IF(OR(B16="",I16=""),"",IFERROR(IF(AND(B16>=_xlfn.XLOOKUP(I16,Chantiers_Zones!$B$2:$B$101,Chantiers_Zones!$F$2:$F$101),B16<=_xlfn.XLOOKUP(I16,Chantiers_Zones!$B$2:$B$101,Chantiers_Zones!$G$2:$G$101)),"OK","HORS PÉRIODE"),"CHANTIER INCONNU")) | T16: =IF(COUNTA(A16:D16,F16,I16,K16:O16)=0,"",IF(M16="Annulée","OK",IF(OR(A16="",B16="",C16="",D16="",F16="",I16="",K16="",L16="",M16=""),"INCOMPLET",IF(D16<=C16,"HORAIRES INVALIDES",IF(OR(C16<Paramètres!$B$3,D16>Paramètres!$B$4),"HORS PLAGE",IF(P16<>"OK",P16,IF(Q16<>"OK",Q16,IF(R16<>"OK",R16,IF(S16<>"OK",S16,"OK")))))))))
E17: =IF(OR(C17="",D17=""),"",IF(D17>C17,(D17-C17)*24,"")) | G17: =IF(F17="","",IFERROR(_xlfn.XLOOKUP(F17,Intervenants!$A$2:$A$101,Intervenants!$B$2:$B$101),"ID inconnu")) | H17: =IF(F17="","",IFERROR(_xlfn.XLOOKUP(F17,Intervenants!$A$2:$A$101,Intervenants!$C$2:$C$101),"ID inconnu")) | J17: =IF(I17="","",IFERROR(_xlfn.XLOOKUP(I17,Chantiers_Zones!$B$2:$B$101,Chantiers_Zones!$C$2:$C$101),"CHANTIER INCONNU")) | P17: =IF(M17="Annulée","OK",IF(OR(B17="",C17="",D17="",F17=""),"",IF(COUNTIFS($F$7:$F$206,F17,$B$7:$B$206,B17,$C$7:$C$206,"<"&D17,$D$7:$D$206,">"&C17,$M$7:$M$206,"<>Annulée")>1,"DOUBLE RÉSERVATION","OK"))) | Q17: =IF(M17="Annulée","OK",IF(OR(B17="",C17="",D17="",F17=""),"",IF(SUMPRODUCT((Indisponibilités!$A$2:$A$101=F17)*((Indisponibilités!$B$2:$B$101+Indisponibilités!$C$2:$C$101)<(B17+D17))*((Indisponibilités!$D$2:$D$101+Indisponibilités!$E$2:$E$101)>(B17+C17)))>0,"INDISPONIBLE","OK"))) | R17: =IF(OR(I17="",K17=""),"",IF(COUNTIFS(Chantiers_Zones!$B$2:$B$101,I17,Chantiers_Zones!$D$2:$D$101,K17,Chantiers_Zones!$E$2:$E$101,"Oui")>0,"OK","ZONE INVALIDE")) | S17: =IF(OR(B17="",I17=""),"",IFERROR(IF(AND(B17>=_xlfn.XLOOKUP(I17,Chantiers_Zones!$B$2:$B$101,Chantiers_Zones!$F$2:$F$101),B17<=_xlfn.XLOOKUP(I17,Chantiers_Zones!$B$2:$B$101,Chantiers_Zones!$G$2:$G$101)),"OK","HORS PÉRIODE"),"CHANTIER INCONNU")) | T17: =IF(COUNTA(A17:D17,F17,I17,K17:O17)=0,"",IF(M17="Annulée","OK",IF(OR(A17="",B17="",C17="",D17="",F17="",I17="",K17="",L17="",M17=""),"INCOMPLET",IF(D17<=C17,"HORAIRES INVALIDES",IF(OR(C17<Paramètres!$B$3,D17>Paramètres!$B$4),"HORS PLAGE",IF(P17<>"OK",P17,IF(Q17<>"OK",Q17,IF(R17<>"OK",R17,IF(S17<>"OK",S17,"OK")))))))))
E18: =IF(OR(C18="",D18=""),"",IF(D18>C18,(D18-C18)*24,"")) | G18: =IF(F18="","",IFERROR(_xlfn.XLOOKUP(F18,Intervenants!$A$2:$A$101,Intervenants!$B$2:$B$101),"ID inconnu")) | H18: =IF(F18="","",IFERROR(_xlfn.XLOOKUP(F18,Intervenants!$A$2:$A$101,Intervenants!$C$2:$C$101),"ID inconnu")) | J18: =IF(I18="","",IFERROR(_xlfn.XLOOKUP(I18,Chantiers_Zones!$B$2:$B$101,Chantiers_Zones!$C$2:$C$101),"CHANTIER INCONNU")) | P18: =IF(M18="Annulée","OK",IF(OR(B18="",C18="",D18="",F18=""),"",IF(COUNTIFS($F$7:$F$206,F18,$B$7:$B$206,B18,$C$7:$C$206,"<"&D18,$D$7:$D$206,">"&C18,$M$7:$M$206,"<>Annulée")>1,"DOUBLE RÉSERVATION","OK"))) | Q18: =IF(M18="Annulée","OK",IF(OR(B18="",C18="",D18="",F18=""),"",IF(SUMPRODUCT((Indisponibilités!$A$2:$A$101=F18)*((Indisponibilités!$B$2:$B$101+Indisponibilités!$C$2:$C$101)<(B18+D18))*((Indisponibilités!$D$2:$D$101+Indisponibilités!$E$2:$E$101)>(B18+C18)))>0,"INDISPONIBLE","OK"))) | R18: =IF(OR(I18="",K18=""),"",IF(COUNTIFS(Chantiers_Zones!$B$2:$B$101,I18,Chantiers_Zones!$D$2:$D$101,K18,Chantiers_Zones!$E$2:$E$101,"Oui")>0,"OK","ZONE INVALIDE")) | S18: =IF(OR(B18="",I18=""),"",IFERROR(IF(AND(B18>=_xlfn.XLOOKUP(I18,Chantiers_Zones!$B$2:$B$101,Chantiers_Zones!$F$2:$F$101),B18<=_xlfn.XLOOKUP(I18,Chantiers_Zones!$B$2:$B$101,Chantiers_Zones!$G$2:$G$101)),"OK","HORS PÉRIODE"),"CHANTIER INCONNU")) | T18: =IF(COUNTA(A18:D18,F18,I18,K18:O18)=0,"",IF(M18="Annulée","OK",IF(OR(A18="",B18="",C18="",D18="",F18="",I18="",K18="",L18="",M18=""),"INCOMPLET",IF(D18<=C18,"HORAIRES INVALIDES",IF(OR(C18<Paramètres!$B$3,D18>Paramètres!$B$4),"HORS PLAGE",IF(P18<>"OK",P18,IF(Q18<>"OK",Q18,IF(R18<>"OK",R18,IF(S18<>"OK",S18,"OK")))))))))
E19: =IF(OR(C19="",D19=""),"",IF(D19>C19,(D19-C19)*24,"")) | G19: =IF(F19="","",IFERROR(_xlfn.XLOOKUP(F19,Intervenants!$A$2:$A$101,Intervenants!$B$2:$B$101),"ID inconnu")) | H19: =IF(F19="","",IFERROR(_xlfn.XLOOKUP(F19,Intervenants!$A$2:$A$101,Intervenants!$C$2:$C$101),"ID inconnu")) | J19: =IF(I19="","",IFERROR(_xlfn.XLOOKUP(I19,Chantiers_Zones!$B$2:$B$101,Chantiers_Zones!$C$2:$C$101),"CHANTIER INCONNU")) | P19: =IF(M19="Annulée","OK",IF(OR(B19="",C19="",D19="",F19=""),"",IF(COUNTIFS($F$7:$F$206,F19,$B$7:$B$206,B19,$C$7:$C$206,"<"&D19,$D$7:$D$206,">"&C19,$M$7:$M$206,"<>Annulée")>1,"DOUBLE RÉSERVATION","OK"))) | Q19: =IF(M19="Annulée","OK",IF(OR(B19="",C19="",D19="",F19=""),"",IF(SUMPRODUCT((Indisponibilités!$A$2:$A$101=F19)*((Indisponibilités!$B$2:$B$101+Indisponibilités!$C$2:$C$101)<(B19+D19))*((Indisponibilités!$D$2:$D$101+Indisponibilités!$E$2:$E$101)>(B19+C19)))>0,"INDISPONIBLE","OK"))) | R19: =IF(OR(I19="",K19=""),"",IF(COUNTIFS(Chantiers_Zones!$B$2:$B$101,I19,Chantiers_Zones!$D$2:$D$101,K19,Chantiers_Zones!$E$2:$E$101,"Oui")>0,"OK","ZONE INVALIDE")) | S19: =IF(OR(B19="",I19=""),"",IFERROR(IF(AND(B19>=_xlfn.XLOOKUP(I19,Chantiers_Zones!$B$2:$B$101,Chantiers_Zones!$F$2:$F$101),B19<=_xlfn.XLOOKUP(I19,Chantiers_Zones!$B$2:$B$101,Chantiers_Zones!$G$2:$G$101)),"OK","HORS PÉRIODE"),"CHANTIER INCONNU")) | T19: =IF(COUNTA(A19:D19,F19,I19,K19:O19)=0,"",IF(M19="Annulée","OK",IF(OR(A19="",B19="",C19="",D19="",F19="",I19="",K19="",L19="",M19=""),"INCOMPLET",IF(D19<=C19,"HORAIRES INVALIDES",IF(OR(C19<Paramètres!$B$3,D19>Paramètres!$B$4),"HORS PLAGE",IF(P19<>"OK",P19,IF(Q19<>"OK",Q19,IF(R19<>"OK",R19,IF(S19<>"OK",S19,"OK")))))))))
E20: =IF(OR(C20="",D20=""),"",IF(D20>C20,(D20-C20)*24,"")) | G20: =IF(F20="","",IFERROR(_xlfn.XLOOKUP(F20,Intervenants!$A$2:$A$101,Intervenants!$B$2:$B$101),"ID inconnu")) | H20: =IF(F20="","",IFERROR(_xlfn.XLOOKUP(F20,Intervenants!$A$2:$A$101,Intervenants!$C$2:$C$101),"ID inconnu")) | J20: =IF(I20="","",IFERROR(_xlfn.XLOOKUP(I20,Chantiers_Zones!$B$2:$B$101,Chantiers_Zones!$C$2:$C$101),"CHANTIER INCONNU")) | P20: =IF(M20="Annulée","OK",IF(OR(B20="",C20="",D20="",F20=""),"",IF(COUNTIFS($F$7:$F$206,F20,$B$7:$B$206,B20,$C$7:$C$206,"<"&D20,$D$7:$D$206,">"&C20,$M$7:$M$206,"<>Annulée")>1,"DOUBLE RÉSERVATION","OK"))) | Q20: =IF(M20="Annulée","OK",IF(OR(B20="",C20="",D20="",F20=""),"",IF(SUMPRODUCT((Indisponibilités!$A$2:$A$101=F20)*((Indisponibilités!$B$2:$B$101+Indisponibilités!$C$2:$C$101)<(B20+D20))*((Indisponibilités!$D$2:$D$101+Indisponibilités!$E$2:$E$101)>(B20+C20)))>0,"INDISPONIBLE","OK"))) | R20: =IF(OR(I20="",K20=""),"",IF(COUNTIFS(Chantiers_Zones!$B$2:$B$101,I20,Chantiers_Zones!$D$2:$D$101,K20,Chantiers_Zones!$E$2:$E$101,"Oui")>0,"OK","ZONE INVALIDE")) | S20: =IF(OR(B20="",I20=""),"",IFERROR(IF(AND(B20>=_xlfn.XLOOKUP(I20,Chantiers_Zones!$B$2:$B$101,Chantiers_Zones!$F$2:$F$101),B20<=_xlfn.XLOOKUP(I20,Chantiers_Zones!$B$2:$B$101,Chantiers_Zones!$G$2:$G$101)),"OK","HORS PÉRIODE"),"CHANTIER INCONNU")) | T20: =IF(COUNTA(A20:D20,F20,I20,K20:O20)=0,"",IF(M20="Annulée","OK",IF(OR(A20="",B20="",C20="",D20="",F20="",I20="",K20="",L20="",M20=""),"INCOMPLET",IF(D20<=C20,"HORAIRES INVALIDES",IF(OR(C20<Paramètres!$B$3,D20>Paramètres!$B$4),"HORS PLAGE",IF(P20<>"OK",P20,IF(Q20<>"OK",Q20,IF(R20<>"OK",R20,IF(S20<>"OK",S20,"OK")))))))))
E21: =IF(OR(C21="",D21=""),"",IF(D21>C21,(D21-C21)*24,"")) | G21: =IF(F21="","",IFERROR(_xlfn.XLOOKUP(F21,Intervenants!$A$2:$A$101,Intervenants!$B$2:$B$101),"ID inconnu")) | H21: =IF(F21="","",IFERROR(_xlfn.XLOOKUP(F21,Intervenants!$A$2:$A$101,Intervenants!$C$2:$C$101),"ID inconnu")) | J21: =IF(I21="","",IFERROR(_xlfn.XLOOKUP(I21,Chantiers_Zones!$B$2:$B$101,Chantiers_Zones!$C$2:$C$101),"CHANTIER INCONNU")) | P21: =IF(M21="Annulée","OK",IF(OR(B21="",C21="",D21="",F21=""),"",IF(COUNTIFS($F$7:$F$206,F21,$B$7:$B$206,B21,$C$7:$C$206,"<"&D21,$D$7:$D$206,">"&C21,$M$7:$M$206,"<>Annulée")>1,"DOUBLE RÉSERVATION","OK"))) | Q21: =IF(M21="Annulée","OK",IF(OR(B21="",C21="",D21="",F21=""),"",IF(SUMPRODUCT((Indisponibilités!$A$2:$A$101=F21)*((Indisponibilités!$B$2:$B$101+Indisponibilités!$C$2:$C$101)<(B21+D21))*((Indisponibilités!$D$2:$D$101+Indisponibilités!$E$2:$E$101)>(B21+C21)))>0,"INDISPONIBLE","OK"))) | R21: =IF(OR(I21="",K21=""),"",IF(COUNTIFS(Chantiers_Zones!$B$2:$B$101,I21,Chantiers_Zones!$D$2:$D$101,K21,Chantiers_Zones!$E$2:$E$101,"Oui")>0,"OK","ZONE INVALIDE")) | S21: =IF(OR(B21="",I21=""),"",IFERROR(IF(AND(B21>=_xlfn.XLOOKUP(I21,Chantiers_Zones!$B$2:$B$101,Chantiers_Zones!$F$2:$F$101),B21<=_xlfn.XLOOKUP(I21,Chantiers_Zones!$B$2:$B$101,Chantiers_Zones!$G$2:$G$101)),"OK","HORS PÉRIODE"),"CHANTIER INCONNU")) | T21: =IF(COUNTA(A21:D21,F21,I21,K21:O21)=0,"",IF(M21="Annulée","OK",IF(OR(A21="",B21="",C21="",D21="",F21="",I21="",K21="",L21="",M21=""),"INCOMPLET",IF(D21<=C21,"HORAIRES INVALIDES",IF(OR(C21<Paramètres!$B$3,D21>Paramètres!$B$4),"HORS PLAGE",IF(P21<>"OK",P21,IF(Q21<>"OK",Q21,IF(R21<>"OK",R21,IF(S21<>"OK",S21,"OK")))))))))
E22: =IF(OR(C22="",D22=""),"",IF(D22>C22,(D22-C22)*24,"")) | G22: =IF(F22="","",IFERROR(_xlfn.XLOOKUP(F22,Intervenants!$A$2:$A$101,Intervenants!$B$2:$B$101),"ID inconnu")) | H22: =IF(F22="","",IFERROR(_xlfn.XLOOKUP(F22,Intervenants!$A$2:$A$101,Intervenants!$C$2:$C$101),"ID inconnu")) | J22: =IF(I22="","",IFERROR(_xlfn.XLOOKUP(I22,Chantiers_Zones!$B$2:$B$101,Chantiers_Zones!$C$2:$C$101),"CHANTIER INCONNU")) | P22: =IF(M22="Annulée","OK",IF(OR(B22="",C22="",D22="",F22=""),"",IF(COUNTIFS($F$7:$F$206,F22,$B$7:$B$206,B22,$C$7:$C$206,"<"&D22,$D$7:$D$206,">"&C22,$M$7:$M$206,"<>Annulée")>1,"DOUBLE RÉSERVATION","OK"))) | Q22: =IF(M22="Annulée","OK",IF(OR(B22="",C22="",D22="",F22=""),"",IF(SUMPRODUCT((Indisponibilités!$A$2:$A$101=F22)*((Indisponibilités!$B$2:$B$101+Indisponibilités!$C$2:$C$101)<(B22+D22))*((Indisponibilités!$D$2:$D$101+Indisponibilités!$E$2:$E$101)>(B22+C22)))>0,"INDISPONIBLE","OK"))) | R22: =IF(OR(I22="",K22=""),"",IF(COUNTIFS(Chantiers_Zones!$B$2:$B$101,I22,Chantiers_Zones!$D$2:$D$101,K22,Chantiers_Zones!$E$2:$E$101,"Oui")>0,"OK","ZONE INVALIDE")) | S22: =IF(OR(B22="",I22=""),"",IFERROR(IF(AND(B22>=_xlfn.XLOOKUP(I22,Chantiers_Zones!$B$2:$B$101,Chantiers_Zones!$F$2:$F$101),B22<=_xlfn.XLOOKUP(I22,Chantiers_Zones!$B$2:$B$101,Chantiers_Zones!$G$2:$G$101)),"OK","HORS PÉRIODE"),"CHANTIER INCONNU")) | T22: =IF(COUNTA(A22:D22,F22,I22,K22:O22)=0,"",IF(M22="Annulée","OK",IF(OR(A22="",B22="",C22="",D22="",F22="",I22="",K22="",L22="",M22=""),"INCOMPLET",IF(D22<=C22,"HORAIRES INVALIDES",IF(OR(C22<Paramètres!$B$3,D22>Paramètres!$B$4),"HORS PLAGE",IF(P22<>"OK",P22,IF(Q22<>"OK",Q22,IF(R22<>"OK",R22,IF(S22<>"OK",S22,"OK")))))))))
E23: =IF(OR(C23="",D23=""),"",IF(D23>C23,(D23-C23)*24,"")) | G23: =IF(F23="","",IFERROR(_xlfn.XLOOKUP(F23,Intervenants!$A$2:$A$101,Intervenants!$B$2:$B$101),"ID inconnu")) | H23: =IF(F23="","",IFERROR(_xlfn.XLOOKUP(F23,Intervenants!$A$2:$A$101,Intervenants!$C$2:$C$101),"ID inconnu")) | J23: =IF(I23="","",IFERROR(_xlfn.XLOOKUP(I23,Chantiers_Zones!$B$2:$B$101,Chantiers_Zones!$C$2:$C$101),"CHANTIER INCONNU")) | P23: =IF(M23="Annulée","OK",IF(OR(B23="",C23="",D23="",F23=""),"",IF(COUNTIFS($F$7:$F$206,F23,$B$7:$B$206,B23,$C$7:$C$206,"<"&D23,$D$7:$D$206,">"&C23,$M$7:$M$206,"<>Annulée")>1,"DOUBLE RÉSERVATION","OK"))) | Q23: =IF(M23="Annulée","OK",IF(OR(B23="",C23="",D23="",F23=""),"",IF(SUMPRODUCT((Indisponibilités!$A$2:$A$101=F23)*((Indisponibilités!$B$2:$B$101+Indisponibilités!$C$2:$C$101)<(B23+D23))*((Indisponibilités!$D$2:$D$101+Indisponibilités!$E$2:$E$101)>(B23+C23)))>0,"INDISPONIBLE","OK"))) | R23: =IF(OR(I23="",K23=""),"",IF(COUNTIFS(Chantiers_Zones!$B$2:$B$101,I23,Chantiers_Zones!$D$2:$D$101,K23,Chantiers_Zones!$E$2:$E$101,"Oui")>0,"OK","ZONE INVALIDE")) | S23: =IF(OR(B23="",I23=""),"",IFERROR(IF(AND(B23>=_xlfn.XLOOKUP(I23,Chantiers_Zones!$B$2:$B$101,Chantiers_Zones!$F$2:$F$101),B23<=_xlfn.XLOOKUP(I23,Chantiers_Zones!$B$2:$B$101,Chantiers_Zones!$G$2:$G$101)),"OK","HORS PÉRIODE"),"CHANTIER INCONNU")) | T23: =IF(COUNTA(A23:D23,F23,I23,K23:O23)=0,"",IF(M23="Annulée","OK",IF(OR(A23="",B23="",C23="",D23="",F23="",I23="",K23="",L23="",M23=""),"INCOMPLET",IF(D23<=C23,"HORAIRES INVALIDES",IF(OR(C23<Paramètres!$B$3,D23>Paramètres!$B$4),"HORS PLAGE",IF(P23<>"OK",P23,IF(Q23<>"OK",Q23,IF(R23<>"OK",R23,IF(S23<>"OK",S23,"OK")))))))))
E24: =IF(OR(C24="",D24=""),"",IF(D24>C24,(D24-C24)*24,"")) | G24: =IF(F24="","",IFERROR(_xlfn.XLOOKUP(F24,Intervenants!$A$2:$A$101,Intervenants!$B$2:$B$101),"ID inconnu")) | H24: =IF(F24="","",IFERROR(_xlfn.XLOOKUP(F24,Intervenants!$A$2:$A$101,Intervenants!$C$2:$C$101),"ID inconnu")) | J24: =IF(I24="","",IFERROR(_xlfn.XLOOKUP(I24,Chantiers_Zones!$B$2:$B$101,Chantiers_Zones!$C$2:$C$101),"CHANTIER INCONNU")) | P24: =IF(M24="Annulée","OK",IF(OR(B24="",C24="",D24="",F24=""),"",IF(COUNTIFS($F$7:$F$206,F24,$B$7:$B$206,B24,$C$7:$C$206,"<"&D24,$D$7:$D$206,">"&C24,$M$7:$M$206,"<>Annulée")>1,"DOUBLE RÉSERVATION","OK"))) | Q24: =IF(M24="Annulée","OK",IF(OR(B24="",C24="",D24="",F24=""),"",IF(SUMPRODUCT((Indisponibilités!$A$2:$A$101=F24)*((Indisponibilités!$B$2:$B$101+Indisponibilités!$C$2:$C$101)<(B24+D24))*((Indisponibilités!$D$2:$D$101+Indisponibilités!$E$2:$E$101)>(B24+C24)))>0,"INDISPONIBLE","OK"))) | R24: =IF(OR(I24="",K24=""),"",IF(COUNTIFS(Chantiers_Zones!$B$2:$B$101,I24,Chantiers_Zones!$D$2:$D$101,K24,Chantiers_Zones!$E$2:$E$101,"Oui")>0,"OK","ZONE INVALIDE")) | S24: =IF(OR(B24="",I24=""),"",IFERROR(IF(AND(B24>=_xlfn.XLOOKUP(I24,Chantiers_Zones!$B$2:$B$101,Chantiers_Zones!$F$2:$F$101),B24<=_xlfn.XLOOKUP(I24,Chantiers_Zones!$B$2:$B$101,Chantiers_Zones!$G$2:$G$101)),"OK","HORS PÉRIODE"),"CHANTIER INCONNU")) | T24: =IF(COUNTA(A24:D24,F24,I24,K24:O24)=0,"",IF(M24="Annulée","OK",IF(OR(A24="",B24="",C24="",D24="",F24="",I24="",K24="",L24="",M24=""),"INCOMPLET",IF(D24<=C24,"HORAIRES INVALIDES",IF(OR(C24<Paramètres!$B$3,D24>Paramètres!$B$4),"HORS PLAGE",IF(P24<>"OK",P24,IF(Q24<>"OK",Q24,IF(R24<>"OK",R24,IF(S24<>"OK",S24,"OK")))))))))
E25: =IF(OR(C25="",D25=""),"",IF(D25>C25,(D25-C25)*24,"")) | G25: =IF(F25="","",IFERROR(_xlfn.XLOOKUP(F25,Intervenants!$A$2:$A$101,Intervenants!$B$2:$B$101),"ID inconnu")) | H25: =IF(F25="","",IFERROR(_xlfn.XLOOKUP(F25,Intervenants!$A$2:$A$101,Intervenants!$C$2:$C$101),"ID inconnu")) | J25: =IF(I25="","",IFERROR(_xlfn.XLOOKUP(I25,Chantiers_Zones!$B$2:$B$101,Chantiers_Zones!$C$2:$C$101),"CHANTIER INCONNU")) | P25: =IF(M25="Annulée","OK",IF(OR(B25="",C25="",D25="",F25=""),"",IF(COUNTIFS($F$7:$F$206,F25,$B$7:$B$206,B25,$C$7:$C$206,"<"&D25,$D$7:$D$206,">"&C25,$M$7:$M$206,"<>Annulée")>1,"DOUBLE RÉSERVATION","OK"))) | Q25: =IF(M25="Annulée","OK",IF(OR(B25="",C25="",D25="",F25=""),"",IF(SUMPRODUCT((Indisponibilités!$A$2:$A$101=F25)*((Indisponibilités!$B$2:$B$101+Indisponibilités!$C$2:$C$101)<(B25+D25))*((Indisponibilités!$D$2:$D$101+Indisponibilités!$E$2:$E$101)>(B25+C25)))>0,"INDISPONIBLE","OK"))) | R25: =IF(OR(I25="",K25=""),"",IF(COUNTIFS(Chantiers_Zones!$B$2:$B$101,I25,Chantiers_Zones!$D$2:$D$101,K25,Chantiers_Zones!$E$2:$E$101,"Oui")>0,"OK","ZONE INVALIDE")) | S25: =IF(OR(B25="",I25=""),"",IFERROR(IF(AND(B25>=_xlfn.XLOOKUP(I25,Chantiers_Zones!$B$2:$B$101,Chantiers_Zones!$F$2:$F$101),B25<=_xlfn.XLOOKUP(I25,Chantiers_Zones!$B$2:$B$101,Chantiers_Zones!$G$2:$G$101)),"OK","HORS PÉRIODE"),"CHANTIER INCONNU")) | T25: =IF(COUNTA(A25:D25,F25,I25,K25:O25)=0,"",IF(M25="Annulée","OK",IF(OR(A25="",B25="",C25="",D25="",F25="",I25="",K25="",L25="",M25=""),"INCOMPLET",IF(D25<=C25,"HORAIRES INVALIDES",IF(OR(C25<Paramètres!$B$3,D25>Paramètres!$B$4),"HORS PLAGE",IF(P25<>"OK",P25,IF(Q25<>"OK",Q25,IF(R25<>"OK",R25,IF(S25<>"OK",S25,"OK")))))))))
E26: =IF(OR(C26="",D26=""),"",IF(D26>C26,(D26-C26)*24,"")) | G26: =IF(F26="","",IFERROR(_xlfn.XLOOKUP(F26,Intervenants!$A$2:$A$101,Intervenants!$B$2:$B$101),"ID inconnu")) | H26: =IF(F26="","",IFERROR(_xlfn.XLOOKUP(F26,Intervenants!$A$2:$A$101,Intervenants!$C$2:$C$101),"ID inconnu")) | J26: =IF(I26="","",IFERROR(_xlfn.XLOOKUP(I26,Chantiers_Zones!$B$2:$B$101,Chantiers_Zones!$C$2:$C$101),"CHANTIER INCONNU")) | P26: =IF(M26="Annulée","OK",IF(OR(B26="",C26="",D26="",F26=""),"",IF(COUNTIFS($F$7:$F$206,F26,$B$7:$B$206,B26,$C$7:$C$206,"<"&D26,$D$7:$D$206,">"&C26,$M$7:$M$206,"<>Annulée")>1,"DOUBLE RÉSERVATION","OK"))) | Q26: =IF(M26="Annulée","OK",IF(OR(B26="",C26="",D26="",F26=""),"",IF(SUMPRODUCT((Indisponibilités!$A$2:$A$101=F26)*((Indisponibilités!$B$2:$B$101+Indisponibilités!$C$2:$C$101)<(B26+D26))*((Indisponibilités!$D$2:$D$101+Indisponibilités!$E$2:$E$101)>(B26+C26)))>0,"INDISPONIBLE","OK"))) | R26: =IF(OR(I26="",K26=""),"",IF(COUNTIFS(Chantiers_Zones!$B$2:$B$101,I26,Chantiers_Zones!$D$2:$D$101,K26,Chantiers_Zones!$E$2:$E$101,"Oui")>0,"OK","ZONE INVALIDE")) | S26: =IF(OR(B26="",I26=""),"",IFERROR(IF(AND(B26>=_xlfn.XLOOKUP(I26,Chantiers_Zones!$B$2:$B$101,Chantiers_Zones!$F$2:$F$101),B26<=_xlfn.XLOOKUP(I26,Chantiers_Zones!$B$2:$B$101,Chantiers_Zones!$G$2:$G$101)),"OK","HORS PÉRIODE"),"CHANTIER INCONNU")) | T26: =IF(COUNTA(A26:D26,F26,I26,K26:O26)=0,"",IF(M26="Annulée","OK",IF(OR(A26="",B26="",C26="",D26="",F26="",I26="",K26="",L26="",M26=""),"INCOMPLET",IF(D26<=C26,"HORAIRES INVALIDES",IF(OR(C26<Paramètres!$B$3,D26>Paramètres!$B$4),"HORS PLAGE",IF(P26<>"OK",P26,IF(Q26<>"OK",Q26,IF(R26<>"OK",R26,IF(S26<>"OK",S26,"OK")))))))))
E27: =IF(OR(C27="",D27=""),"",IF(D27>C27,(D27-C27)*24,"")) | G27: =IF(F27="","",IFERROR(_xlfn.XLOOKUP(F27,Intervenants!$A$2:$A$101,Intervenants!$B$2:$B$101),"ID inconnu")) | H27: =IF(F27="","",IFERROR(_xlfn.XLOOKUP(F27,Intervenants!$A$2:$A$101,Intervenants!$C$2:$C$101),"ID inconnu")) | J27: =IF(I27="","",IFERROR(_xlfn.XLOOKUP(I27,Chantiers_Zones!$B$2:$B$101,Chantiers_Zones!$C$2:$C$101),"CHANTIER INCONNU")) | P27: =IF(M27="Annulée","OK",IF(OR(B27="",C27="",D27="",F27=""),"",IF(COUNTIFS($F$7:$F$206,F27,$B$7:$B$206,B27,$C$7:$C$206,"<"&D27,$D$7:$D$206,">"&C27,$M$7:$M$206,"<>Annulée")>1,"DOUBLE RÉSERVATION","OK"))) | Q27: =IF(M27="Annulée","OK",IF(OR(B27="",C27="",D27="",F27=""),"",IF(SUMPRODUCT((Indisponibilités!$A$2:$A$101=F27)*((Indisponibilités!$B$2:$B$101+Indisponibilités!$C$2:$C$101)<(B27+D27))*((Indisponibilités!$D$2:$D$101+Indisponibilités!$E$2:$E$101)>(B27+C27)))>0,"INDISPONIBLE","OK"))) | R27: =IF(OR(I27="",K27=""),"",IF(COUNTIFS(Chantiers_Zones!$B$2:$B$101,I27,Chantiers_Zones!$D$2:$D$101,K27,Chantiers_Zones!$E$2:$E$101,"Oui")>0,"OK","ZONE INVALIDE")) | S27: =IF(OR(B27="",I27=""),"",IFERROR(IF(AND(B27>=_xlfn.XLOOKUP(I27,Chantiers_Zones!$B$2:$B$101,Chantiers_Zones!$F$2:$F$101),B27<=_xlfn.XLOOKUP(I27,Chantiers_Zones!$B$2:$B$101,Chantiers_Zones!$G$2:$G$101)),"OK","HORS PÉRIODE"),"CHANTIER INCONNU")) | T27: =IF(COUNTA(A27:D27,F27,I27,K27:O27)=0,"",IF(M27="Annulée","OK",IF(OR(A27="",B27="",C27="",D27="",F27="",I27="",K27="",L27="",M27=""),"INCOMPLET",IF(D27<=C27,"HORAIRES INVALIDES",IF(OR(C27<Paramètres!$B$3,D27>Paramètres!$B$4),"HORS PLAGE",IF(P27<>"OK",P27,IF(Q27<>"OK",Q27,IF(R27<>"OK",R27,IF(S27<>"OK",S27,"OK")))))))))
E28: =IF(OR(C28="",D28=""),"",IF(D28>C28,(D28-C28)*24,"")) | G28: =IF(F28="","",IFERROR(_xlfn.XLOOKUP(F28,Intervenants!$A$2:$A$101,Intervenants!$B$2:$B$101),"ID inconnu")) | H28: =IF(F28="","",IFERROR(_xlfn.XLOOKUP(F28,Intervenants!$A$2:$A$101,Intervenants!$C$2:$C$101),"ID inconnu")) | J28: =IF(I28="","",IFERROR(_xlfn.XLOOKUP(I28,Chantiers_Zones!$B$2:$B$101,Chantiers_Zones!$C$2:$C$101),"CHANTIER INCONNU")) | P28: =IF(M28="Annulée","OK",IF(OR(B28="",C28="",D28="",F28=""),"",IF(COUNTIFS($F$7:$F$206,F28,$B$7:$B$206,B28,$C$7:$C$206,"<"&D28,$D$7:$D$206,">"&C28,$M$7:$M$206,"<>Annulée")>1,"DOUBLE RÉSERVATION","OK"))) | Q28: =IF(M28="Annulée","OK",IF(OR(B28="",C28="",D28="",F28=""),"",IF(SUMPRODUCT((Indisponibilités!$A$2:$A$101=F28)*((Indisponibilités!$B$2:$B$101+Indisponibilités!$C$2:$C$101)<(B28+D28))*((Indisponibilités!$D$2:$D$101+Indisponibilités!$E$2:$E$101)>(B28+C28)))>0,"INDISPONIBLE","OK"))) | R28: =IF(OR(I28="",K28=""),"",IF(COUNTIFS(Chantiers_Zones!$B$2:$B$101,I28,Chantiers_Zones!$D$2:$D$101,K28,Chantiers_Zones!$E$2:$E$101,"Oui")>0,"OK","ZONE INVALIDE")) | S28: =IF(OR(B28="",I28=""),"",IFERROR(IF(AND(B28>=_xlfn.XLOOKUP(I28,Chantiers_Zones!$B$2:$B$101,Chantiers_Zones!$F$2:$F$101),B28<=_xlfn.XLOOKUP(I28,Chantiers_Zones!$B$2:$B$101,Chantiers_Zones!$G$2:$G$101)),"OK","HORS PÉRIODE"),"CHANTIER INCONNU")) | T28: =IF(COUNTA(A28:D28,F28,I28,K28:O28)=0,"",IF(M28="Annulée","OK",IF(OR(A28="",B28="",C28="",D28="",F28="",I28="",K28="",L28="",M28=""),"INCOMPLET",IF(D28<=C28,"HORAIRES INVALIDES",IF(OR(C28<Paramètres!$B$3,D28>Paramètres!$B$4),"HORS PLAGE",IF(P28<>"OK",P28,IF(Q28<>"OK",Q28,IF(R28<>"OK",R28,IF(S28<>"OK",S28,"OK")))))))))
... E206: =IF(OR(C206="",D206=""),"",IF(D206>C206,(D206-C206)*24,"")) | G206: =IF(F206="","",IFERROR(_xlfn.XLOOKUP(F206,Intervenants!$A$2:$A$101,Intervenants!$B$2:$B$101),"ID inconnu")) | H206: =IF(F206="","",IFERROR(_xlfn.XLOOKUP(F206,Intervenants!$A$2:$A$101,Intervenants!$C$2:$C$101),"ID inconnu")) | J206: =IF(I206="","",IFERROR(_xlfn.XLOOKUP(I206,Chantiers_Zones!$B$2:$B$101,Chantiers_Zones!$C$2:$C$101),"CHANTIER INCONNU")) | P206: =IF(M206="Annulée","OK",IF(OR(B206="",C206="",D206="",F206=""),"",IF(COUNTIFS($F$7:$F$206,F206,$B$7:$B$206,B206,$C$7:$C$206,"<"&D206,$D$7:$D$206,">"&C206,$M$7:$M$206,"<>Annulée")>1,"DOUBLE RÉSERVATION","OK"))) | Q206: =IF(M206="Annulée","OK",IF(OR(B206="",C206="",D206="",F206=""),"",IF(SUMPRODUCT((Indisponibilités!$A$2:$A$101=F206)*((Indisponibilités!$B$2:$B$101+Indisponibilités!$C$2:$C$101)<(B206+D206))*((Indisponibilités!$D$2:$D$101+Indisponibilités!$E$2:$E$101)>(B206+C206)))>0,"INDISPONIBLE","OK"))) | R206: =IF(OR(I206="",K206=""),"",IF(COUNTIFS(Chantiers_Zones!$B$2:$B$101,I206,Chantiers_Zones!$D$2:$D$101,K206,Chantiers_Zones!$E$2:$E$101,"Oui")>0,"OK","ZONE INVALIDE")) | S206: =IF(OR(B206="",I206=""),"",IFERROR(IF(AND(B206>=_xlfn.XLOOKUP(I206,Chantiers_Zones!$B$2:$B$101,Chantiers_Zones!$F$2:$F$101),B206<=_xlfn.XLOOKUP(I206,Chantiers_Zones!$B$2:$B$101,Chantiers_Zones!$G$2:$G$101)),"OK","HORS PÉRIODE"),"CHANTIER INCONNU")) | T206: =IF(COUNTA(A206:D206,F206,I206,K206:O206)=0,"",IF(M206="Annulée","OK",IF(OR(A206="",B206="",C206="",D206="",F206="",I206="",K206="",L206="",M206=""),"INCOMPLET",IF(D206<=C206,"HORAIRES INVALIDES",IF(OR(C206<Paramètres!$B$3,D206>Paramètres!$B$4),"HORS PLAGE",IF(P206<>"OK",P206,IF(Q206<>"OK",Q206,IF(R206<>"OK",R206,IF(S206<>"OK",S206,"OK")))))))))

Sheet Intervenants
A1: ID intervenant | B1: Nom affiché | C1: Équipe | D1: Métier | E1: Actif
A2: INT-001 | B2: Personne Démo 01 | C2: Équipe Démo A | D2: Chef d’équipe fictif | E2: Oui
A3: INT-002 | B3: Personne Démo 02 | C3: Équipe Démo A | D3: Maçonnerie démo | E3: Oui
A4: INT-003 | B4: Personne Démo 03 | C4: Équipe Démo B | D4: Électricité démo | E4: Oui
A5: INT-004 | B5: Personne Démo 04 | C5: Équipe Démo B | D5: Plomberie démo | E5: Oui
A6: INT-005 | B6: Personne Démo 05 | C6: Équipe Démo C | D6: Peinture démo | E6: Oui
A7: INT-006 | B7: Personne Démo 06 | C7: Équipe Démo C | D7: Menuiserie démo | E7: Oui
A8: INT-007 | B8: Personne Démo 07 | C8: Équipe Démo D | D8: Conduite d’engin démo | E8: Oui
A9: INT-008 | B9: Personne Démo 08 | C9: Équipe Démo D | D9: Logistique démo | E9: Oui
A10: INT-009 | B10: Personne Démo 09 | C10: Équipe Démo E | D10: Second œuvre démo | E10: Non
A11: INT-010 | B11: Personne Démo 10 | C11: Équipe Démo E | D11: Finitions démo | E11: Non

Sheet Chantiers_Zones
A1: Clé | B1: ID chantier | C1: Chantier | D1: Zone | E1: Actif | F1: Date début | G1: Date fin
A2: =IF(OR(B2="",D2=""),"",B2&"|"&D2) | B2: DEMO-A | C2: Site Fictif Alpha | D2: Zone Nord | E2: Oui | F2: 46266 | G2: 46295
A3: =IF(OR(B3="",D3=""),"",B3&"|"&D3) | B3: DEMO-A | C3: Site Fictif Alpha | D3: Zone Sud | E3: Oui | F3: 46266 | G3: 46295
A4: =IF(OR(B4="",D4=""),"",B4&"|"&D4) | B4: DEMO-B | C4: Site Fictif Bêta | D4: Niveau 1 | E4: Oui | F4: 46266 | G4: 46310
A5: =IF(OR(B5="",D5=""),"",B5&"|"&D5) | B5: DEMO-B | C5: Site Fictif Bêta | D5: Niveau 2 | E5: Oui | F5: 46266 | G5: 46310
A6: =IF(OR(B6="",D6=""),"",B6&"|"&D6) | B6: DEMO-C | C6: Ouvrage Imaginaire Gamma | D6: Secteur Est | E6: Oui | F6: 46279 | G6: 46356
A7: =IF(OR(B7="",D7=""),"",B7&"|"&D7) | B7: DEMO-C | C7: Ouvrage Imaginaire Gamma | D7: Secteur Ouest | E7: Oui | F7: 46279 | G7: 46356
A8: =IF(OR(B8="",D8=""),"",B8&"|"&D8) | B8: DEMO-D | C8: Pavillon Démonstration Delta | D8: Rez-de-chaussée | E8: Oui | F8: 46296 | G8: 46374
A9: =IF(OR(B9="",D9=""),"",B9&"|"&D9) | B9: DEMO-D | C9: Pavillon Démonstration Delta | D9: Étage fictif | E9: Oui | F9: 46296 | G9: 46374
A10: =IF(OR(B10="",D10=""),"",B10&"|"&D10) | B10: DEMO-E | C10: Base École Fictive Épsilon | D10: Atelier démo | E10: Non | F10: 46235 | G10: 46265
A11: =IF(OR(B11="",D11=""),"",B11&"|"&D11) | B11: DEMO-E | C11: Base École Fictive Épsilon | D11: Cour démo | E11: Non | F11: 46235 | G11: 46265
A12: =IF(OR(B12="",D12=""),"",B12&"|"&D12)
A13: =IF(OR(B13="",D13=""),"",B13&"|"&D13)
A14: =IF(OR(B14="",D14=""),"",B14&"|"&D14)
A15: =IF(OR(B15="",D15=""),"",B15&"|"&D15)
A16: =IF(OR(B16="",D16=""),"",B16&"|"&D16)
A17: =IF(OR(B17="",D17=""),"",B17&"|"&D17)
A18: =IF(OR(B18="",D18=""),"",B18&"|"&D18)
A19: =IF(OR(B19="",D19=""),"",B19&"|"&D19)
A20: =IF(OR(B20="",D20=""),"",B20&"|"&D20)
A21: =IF(OR(B21="",D21=""),"",B21&"|"&D21)
A22: =IF(OR(B22="",D22=""),"",B22&"|"&D22)
A23: =IF(OR(B23="",D23=""),"",B23&"|"&D23)
... A101: =IF(OR(B101="",D101=""),"",B101&"|"&D101)

Sheet Indisponibilités
A1: ID intervenant | B1: Date début | C1: Heure début | D1: Date fin | E1: Heure fin | F1: Motif
A2: INT-002 | B2: 46273 | C2: 0.35416667 | D2: 46273 | E2: 0.4375 | F2: Indisponibilité démo
A3: INT-001 | B3: 46280 | C3: 0.29166667 | D3: 46280 | E3: 0.5 | F3: Formation interne fictive
A4: INT-003 | B4: 46281 | C4: 0.54166667 | D4: 46281 | E4: 0.79166667 | F4: Réunion démo
A5: INT-004 | B5: 46282 | C5: 0.33333333 | D5: 46283 | E5: 0.70833333 | F5: Absence fictive
A6: INT-005 | B6: 46285 | C6: 0.33333333 | D6: 46285 | E6: 0.70833333 | F6: Atelier interne démo
A7: INT-006 | B7: 46286 | C7: 0.3125 | D7: 46286 | E7: 0.47916667 | F7: Indisponibilité fictive
A8: INT-007 | B8: 46287 | C8: 0.58333333 | D8: 46287 | E8: 0.77083333 | F8: Entretien matériel démo
A9: INT-008 | B9: 46288 | C9: 0.375 | D9: 46288 | E9: 0.5 | F9: Accueil interne fictif
A10: INT-001 | B10: 46300 | C10: 0.33333333 | D10: 46300 | E10: 0.66666667 | F10: Journée témoin
A11: INT-003 | B11: 46302 | C11: 0.29166667 | D11: 46302 | E11: 0.41666667 | F11: Point équipe fictif

Sheet Paramètres
A1: Paramètres de pilotage | D1: Statuts | E1: Priorités | G1: Intervenants actifs | H1: Chantiers actifs | I1: Zones actives
A2: Date de pilotage | B2: 46272 | D2: Prévue | E2: Basse | G2: =IFERROR(INDEX(Intervenants!$A$2:$A$101,AGGREGATE(15,6,(ROW(Intervenants!$A$2:$A$101)-ROW(Intervenants!$A$2)+1)/(Intervenants!$E$2:$E$101="Oui"),1)),"") | H2: =IFERROR(INDEX(Chantiers_Zones!$B$2:$B$101,AGGREGATE(15,6,(ROW(Chantiers_Zones!$B$2:$B$101)-ROW(Chantiers_Zones!$B$2)+1)/(Chantiers_Zones!$E$2:$E$101="Oui"),1)),"") | I2: =IFERROR(INDEX(Chantiers_Zones!$D$2:$D$101,AGGREGATE(15,6,(ROW(Chantiers_Zones!$D$2:$D$101)-ROW(Chantiers_Zones!$D$2)+1)/(Chantiers_Zones!$E$2:$E$101="Oui"),1)),"")
A3: Début de journée | B3: 0.29166667 | D3: Confirmée | E3: Normale | G3: =IFERROR(INDEX(Intervenants!$A$2:$A$101,AGGREGATE(15,6,(ROW(Intervenants!$A$2:$A$101)-ROW(Intervenants!$A$2)+1)/(Intervenants!$E$2:$E$101="Oui"),2)),"") | H3: =IFERROR(INDEX(Chantiers_Zones!$B$2:$B$101,AGGREGATE(15,6,(ROW(Chantiers_Zones!$B$2:$B$101)-ROW(Chantiers_Zones!$B$2)+1)/(Chantiers_Zones!$E$2:$E$101="Oui"),2)),"") | I3: =IFERROR(INDEX(Chantiers_Zones!$D$2:$D$101,AGGREGATE(15,6,(ROW(Chantiers_Zones!$D$2:$D$101)-ROW(Chantiers_Zones!$D$2)+1)/(Chantiers_Zones!$E$2:$E$101="Oui"),2)),"")
A4: Fin de journée | B4: 0.79166667 | D4: Réalisée | E4: Haute | G4: =IFERROR(INDEX(Intervenants!$A$2:$A$101,AGGREGATE(15,6,(ROW(Intervenants!$A$2:$A$101)-ROW(Intervenants!$A$2)+1)/(Intervenants!$E$2:$E$101="Oui"),3)),"") | H4: =IFERROR(INDEX(Chantiers_Zones!$B$2:$B$101,AGGREGATE(15,6,(ROW(Chantiers_Zones!$B$2:$B$101)-ROW(Chantiers_Zones!$B$2)+1)/(Chantiers_Zones!$E$2:$E$101="Oui"),3)),"") | I4: =IFERROR(INDEX(Chantiers_Zones!$D$2:$D$101,AGGREGATE(15,6,(ROW(Chantiers_Zones!$D$2:$D$101)-ROW(Chantiers_Zones!$D$2)+1)/(Chantiers_Zones!$E$2:$E$101="Oui"),3)),"")
A5: Date minimale de saisie | B5: 46023 | D5: Annulée | G5: =IFERROR(INDEX(Intervenants!$A$2:$A$101,AGGREGATE(15,6,(ROW(Intervenants!$A$2:$A$101)-ROW(Intervenants!$A$2)+1)/(Intervenants!$E$2:$E$101="Oui"),4)),"") | H5: =IFERROR(INDEX(Chantiers_Zones!$B$2:$B$101,AGGREGATE(15,6,(ROW(Chantiers_Zones!$B$2:$B$101)-ROW(Chantiers_Zones!$B$2)+1)/(Chantiers_Zones!$E$2:$E$101="Oui"),4)),"") | I5: =IFERROR(INDEX(Chantiers_Zones!$D$2:$D$101,AGGREGATE(15,6,(ROW(Chantiers_Zones!$D$2:$D$101)-ROW(Chantiers_Zones!$D$2)+1)/(Chantiers_Zones!$E$2:$E$101="Oui"),4)),"")
A6: Date maximale de saisie | B6: 49674 | G6: =IFERROR(INDEX(Intervenants!$A$2:$A$101,AGGREGATE(15,6,(ROW(Intervenants!$A$2:$A$101)-ROW(Intervenants!$A$2)+1)/(Intervenants!$E$2:$E$101="Oui"),5)),"") | H6: =IFERROR(INDEX(Chantiers_Zones!$B$2:$B$101,AGGREGATE(15,6,(ROW(Chantiers_Zones!$B$2:$B$101)-ROW(Chantiers_Zones!$B$2)+1)/(Chantiers_Zones!$E$2:$E$101="Oui"),5)),"") | I6: =IFERROR(INDEX(Chantiers_Zones!$D$2:$D$101,AGGREGATE(15,6,(ROW(Chantiers_Zones!$D$2:$D$101)-ROW(Chantiers_Zones!$D$2)+1)/(Chantiers_Zones!$E$2:$E$101="Oui"),5)),"")
G7: =IFERROR(INDEX(Intervenants!$A$2:$A$101,AGGREGATE(15,6,(ROW(Intervenants!$A$2:$A$101)-ROW(Intervenants!$A$2)+1)/(Intervenants!$E$2:$E$101="Oui"),6)),"") | H7: =IFERROR(INDEX(Chantiers_Zones!$B$2:$B$101,AGGREGATE(15,6,(ROW(Chantiers_Zones!$B$2:$B$101)-ROW(Chantiers_Zones!$B$2)+1)/(Chantiers_Zones!$E$2:$E$101="Oui"),6)),"") | I7: =IFERROR(INDEX(Chantiers_Zones!$D$2:$D$101,AGGREGATE(15,6,(ROW(Chantiers_Zones!$D$2:$D$101)-ROW(Chantiers_Zones!$D$2)+1)/(Chantiers_Zones!$E$2:$E$101="Oui"),6)),"")
A8: Utilisation | B8: Modifier les cellules jaunes avant diffusion interne. Les contrôles signalent les incohérences sans constituer une validation réglementaire. | G8: =IFERROR(INDEX(Intervenants!$A$2:$A$101,AGGREGATE(15,6,(ROW(Intervenants!$A$2:$A$101)-ROW(Intervenants!$A$2)+1)/(Intervenants!$E$2:$E$101="Oui"),7)),"") | H8: =IFERROR(INDEX(Chantiers_Zones!$B$2:$B$101,AGGREGATE(15,6,(ROW(Chantiers_Zones!$B$2:$B$101)-ROW(Chantiers_Zones!$B$2)+1)/(Chantiers_Zones!$E$2:$E$101="Oui"),7)),"") | I8: =IFERROR(INDEX(Chantiers_Zones!$D$2:$D$101,AGGREGATE(15,6,(ROW(Chantiers_Zones!$D$2:$D$101)-ROW(Chantiers_Zones!$D$2)+1)/(Chantiers_Zones!$E$2:$E$101="Oui"),7)),"")
G9: =IFERROR(INDEX(Intervenants!$A$2:$A$101,AGGREGATE(15,6,(ROW(Intervenants!$A$2:$A$101)-ROW(Intervenants!$A$2)+1)/(Intervenants!$E$2:$E$101="Oui"),8)),"") | H9: =IFERROR(INDEX(Chantiers_Zones!$B$2:$B$101,AGGREGATE(15,6,(ROW(Chantiers_Zones!$B$2:$B$101)-ROW(Chantiers_Zones!$B$2)+1)/(Chantiers_Zones!$E$2:$E$101="Oui"),8)),"") | I9: =IFERROR(INDEX(Chantiers_Zones!$D$2:$D$101,AGGREGATE(15,6,(ROW(Chantiers_Zones!$D$2:$D$101)-ROW(Chantiers_Zones!$D$2)+1)/(Chantiers_Zones!$E$2:$E$101="Oui"),8)),"")
G10: =IFERROR(INDEX(Intervenants!$A$2:$A$101,AGGREGATE(15,6,(ROW(Intervenants!$A$2:$A$101)-ROW(Intervenants!$A$2)+1)/(Intervenants!$E$2:$E$101="Oui"),9)),"") | H10: =IFERROR(INDEX(Chantiers_Zones!$B$2:$B$101,AGGREGATE(15,6,(ROW(Chantiers_Zones!$B$2:$B$101)-ROW(Chantiers_Zones!$B$2)+1)/(Chantiers_Zones!$E$2:$E$101="Oui"),9)),"") | I10: =IFERROR(INDEX(Chantiers_Zones!$D$2:$D$101,AGGREGATE(15,6,(ROW(Chantiers_Zones!$D$2:$D$101)-ROW(Chantiers_Zones!$D$2)+1)/(Chantiers_Zones!$E$2:$E$101="Oui"),9)),"")
G11: =IFERROR(INDEX(Intervenants!$A$2:$A$101,AGGREGATE(15,6,(ROW(Intervenants!$A$2:$A$101)-ROW(Intervenants!$A$2)+1)/(Intervenants!$E$2:$E$101="Oui"),10)),"") | H11: =IFERROR(INDEX(Chantiers_Zones!$B$2:$B$101,AGGREGATE(15,6,(ROW(Chantiers_Zones!$B$2:$B$101)-ROW(Chantiers_Zones!$B$2)+1)/(Chantiers_Zones!$E$2:$E$101="Oui"),10)),"") | I11: =IFERROR(INDEX(Chantiers_Zones!$D$2:$D$101,AGGREGATE(15,6,(ROW(Chantiers_Zones!$D$2:$D$101)-ROW(Chantiers_Zones!$D$2)+1)/(Chantiers_Zones!$E$2:$E$101="Oui"),10)),"")
G12: =IFERROR(INDEX(Intervenants!$A$2:$A$101,AGGREGATE(15,6,(ROW(Intervenants!$A$2:$A$101)-ROW(Intervenants!$A$2)+1)/(Intervenants!$E$2:$E$101="Oui"),11)),"") | H12: =IFERROR(INDEX(Chantiers_Zones!$B$2:$B$101,AGGREGATE(15,6,(ROW(Chantiers_Zones!$B$2:$B$101)-ROW(Chantiers_Zones!$B$2)+1)/(Chantiers_Zones!$E$2:$E$101="Oui"),11)),"") | I12: =IFERROR(INDEX(Chantiers_Zones!$D$2:$D$101,AGGREGATE(15,6,(ROW(Chantiers_Zones!$D$2:$D$101)-ROW(Chantiers_Zones!$D$2)+1)/(Chantiers_Zones!$E$2:$E$101="Oui"),11)),"")
G13: =IFERROR(INDEX(Intervenants!$A$2:$A$101,AGGREGATE(15,6,(ROW(Intervenants!$A$2:$A$101)-ROW(Intervenants!$A$2)+1)/(Intervenants!$E$2:$E$101="Oui"),12)),"") | H13: =IFERROR(INDEX(Chantiers_Zones!$B$2:$B$101,AGGREGATE(15,6,(ROW(Chantiers_Zones!$B$2:$B$101)-ROW(Chantiers_Zones!$B$2)+1)/(Chantiers_Zones!$E$2:$E$101="Oui"),12)),"") | I13: =IFERROR(INDEX(Chantiers_Zones!$D$2:$D$101,AGGREGATE(15,6,(ROW(Chantiers_Zones!$D$2:$D$101)-ROW(Chantiers_Zones!$D$2)+1)/(Chantiers_Zones!$E$2:$E$101="Oui"),12)),"")
G14: =IFERROR(INDEX(Intervenants!$A$2:$A$101,AGGREGATE(15,6,(ROW(Intervenants!$A$2:$A$101)-ROW(Intervenants!$A$2)+1)/(Intervenants!$E$2:$E$101="Oui"),13)),"") | H14: =IFERROR(INDEX(Chantiers_Zones!$B$2:$B$101,AGGREGATE(15,6,(ROW(Chantiers_Zones!$B$2:$B$101)-ROW(Chantiers_Zones!$B$2)+1)/(Chantiers_Zones!$E$2:$E$101="Oui"),13)),"") | I14: =IFERROR(INDEX(Chantiers_Zones!$D$2:$D$101,AGGREGATE(15,6,(ROW(Chantiers_Zones!$D$2:$D$101)-ROW(Chantiers_Zones!$D$2)+1)/(Chantiers_Zones!$E$2:$E$101="Oui"),13)),"")
G15: =IFERROR(INDEX(Intervenants!$A$2:$A$101,AGGREGATE(15,6,(ROW(Intervenants!$A$2:$A$101)-ROW(Intervenants!$A$2)+1)/(Intervenants!$E$2:$E$101="Oui"),14)),"") | H15: =IFERROR(INDEX(Chantiers_Zones!$B$2:$B$101,AGGREGATE(15,6,(ROW(Chantiers_Zones!$B$2:$B$101)-ROW(Chantiers_Zones!$B$2)+1)/(Chantiers_Zones!$E$2:$E$101="Oui"),14)),"") | I15: =IFERROR(INDEX(Chantiers_Zones!$D$2:$D$101,AGGREGATE(15,6,(ROW(Chantiers_Zones!$D$2:$D$101)-ROW(Chantiers_Zones!$D$2)+1)/(Chantiers_Zones!$E$2:$E$101="Oui"),14)),"")
G16: =IFERROR(INDEX(Intervenants!$A$2:$A$101,AGGREGATE(15,6,(ROW(Intervenants!$A$2:$A$101)-ROW(Intervenants!$A$2)+1)/(Intervenants!$E$2:$E$101="Oui"),15)),"") | H16: =IFERROR(INDEX(Chantiers_Zones!$B$2:$B$101,AGGREGATE(15,6,(ROW(Chantiers_Zones!$B$2:$B$101)-ROW(Chantiers_Zones!$B$2)+1)/(Chantiers_Zones!$E$2:$E$101="Oui"),15)),"") | I16: =IFERROR(INDEX(Chantiers_Zones!$D$2:$D$101,AGGREGATE(15,6,(ROW(Chantiers_Zones!$D$2:$D$101)-ROW(Chantiers_Zones!$D$2)+1)/(Chantiers_Zones!$E$2:$E$101="Oui"),15)),"")
G17: =IFERROR(INDEX(Intervenants!$A$2:$A$101,AGGREGATE(15,6,(ROW(Intervenants!$A$2:$A$101)-ROW(Intervenants!$A$2)+1)/(Intervenants!$E$2:$E$101="Oui"),16)),"") | H17: =IFERROR(INDEX(Chantiers_Zones!$B$2:$B$101,AGGREGATE(15,6,(ROW(Chantiers_Zones!$B$2:$B$101)-ROW(Chantiers_Zones!$B$2)+1)/(Chantiers_Zones!$E$2:$E$101="Oui"),16)),"") | I17: =IFERROR(INDEX(Chantiers_Zones!$D$2:$D$101,AGGREGATE(15,6,(ROW(Chantiers_Zones!$D$2:$D$101)-ROW(Chantiers_Zones!$D$2)+1)/(Chantiers_Zones!$E$2:$E$101="Oui"),16)),"")
G18: =IFERROR(INDEX(Intervenants!$A$2:$A$101,AGGREGATE(15,6,(ROW(Intervenants!$A$2:$A$101)-ROW(Intervenants!$A$2)+1)/(Intervenants!$E$2:$E$101="Oui"),17)),"") | H18: =IFERROR(INDEX(Chantiers_Zones!$B$2:$B$101,AGGREGATE(15,6,(ROW(Chantiers_Zones!$B$2:$B$101)-ROW(Chantiers_Zones!$B$2)+1)/(Chantiers_Zones!$E$2:$E$101="Oui"),17)),"") | I18: =IFERROR(INDEX(Chantiers_Zones!$D$2:$D$101,AGGREGATE(15,6,(ROW(Chantiers_Zones!$D$2:$D$101)-ROW(Chantiers_Zones!$D$2)+1)/(Chantiers_Zones!$E$2:$E$101="Oui"),17)),"")
G19: =IFERROR(INDEX(Intervenants!$A$2:$A$101,AGGREGATE(15,6,(ROW(Intervenants!$A$2:$A$101)-ROW(Intervenants!$A$2)+1)/(Intervenants!$E$2:$E$101="Oui"),18)),"") | H19: =IFERROR(INDEX(Chantiers_Zones!$B$2:$B$101,AGGREGATE(15,6,(ROW(Chantiers_Zones!$B$2:$B$101)-ROW(Chantiers_Zones!$B$2)+1)/(Chantiers_Zones!$E$2:$E$101="Oui"),18)),"") | I19: =IFERROR(INDEX(Chantiers_Zones!$D$2:$D$101,AGGREGATE(15,6,(ROW(Chantiers_Zones!$D$2:$D$101)-ROW(Chantiers_Zones!$D$2)+1)/(Chantiers_Zones!$E$2:$E$101="Oui"),18)),"")
G20: =IFERROR(INDEX(Intervenants!$A$2:$A$101,AGGREGATE(15,6,(ROW(Intervenants!$A$2:$A$101)-ROW(Intervenants!$A$2)+1)/(Intervenants!$E$2:$E$101="Oui"),19)),"") | H20: =IFERROR(INDEX(Chantiers_Zones!$B$2:$B$101,AGGREGATE(15,6,(ROW(Chantiers_Zones!$B$2:$B$101)-ROW(Chantiers_Zones!$B$2)+1)/(Chantiers_Zones!$E$2:$E$101="Oui"),19)),"") | I20: =IFERROR(INDEX(Chantiers_Zones!$D$2:$D$101,AGGREGATE(15,6,(ROW(Chantiers_Zones!$D$2:$D$101)-ROW(Chantiers_Zones!$D$2)+1)/(Chantiers_Zones!$E$2:$E$101="Oui"),19)),"")
G21: =IFERROR(INDEX(Intervenants!$A$2:$A$101,AGGREGATE(15,6,(ROW(Intervenants!$A$2:$A$101)-ROW(Intervenants!$A$2)+1)/(Intervenants!$E$2:$E$101="Oui"),20)),"") | H21: =IFERROR(INDEX(Chantiers_Zones!$B$2:$B$101,AGGREGATE(15,6,(ROW(Chantiers_Zones!$B$2:$B$101)-ROW(Chantiers_Zones!$B$2)+1)/(Chantiers_Zones!$E$2:$E$101="Oui"),20)),"") | I21: =IFERROR(INDEX(Chantiers_Zones!$D$2:$D$101,AGGREGATE(15,6,(ROW(Chantiers_Zones!$D$2:$D$101)-ROW(Chantiers_Zones!$D$2)+1)/(Chantiers_Zones!$E$2:$E$101="Oui"),20)),"")
G22: =IFERROR(INDEX(Intervenants!$A$2:$A$101,AGGREGATE(15,6,(ROW(Intervenants!$A$2:$A$101)-ROW(Intervenants!$A$2)+1)/(Intervenants!$E$2:$E$101="Oui"),21)),"") | H22: =IFERROR(INDEX(Chantiers_Zones!$B$2:$B$101,AGGREGATE(15,6,(ROW(Chantiers_Zones!$B$2:$B$101)-ROW(Chantiers_Zones!$B$2)+1)/(Chantiers_Zones!$E$2:$E$101="Oui"),21)),"") | I22: =IFERROR(INDEX(Chantiers_Zones!$D$2:$D$101,AGGREGATE(15,6,(ROW(Chantiers_Zones!$D$2:$D$101)-ROW(Chantiers_Zones!$D$2)+1)/(Chantiers_Zones!$E$2:$E$101="Oui"),21)),"")
G23: =IFERROR(INDEX(Intervenants!$A$2:$A$101,AGGREGATE(15,6,(ROW(Intervenants!$A$2:$A$101)-ROW(Intervenants!$A$2)+1)/(Intervenants!$E$2:$E$101="Oui"),22)),"") | H23: =IFERROR(INDEX(Chantiers_Zones!$B$2:$B$101,AGGREGATE(15,6,(ROW(Chantiers_Zones!$B$2:$B$101)-ROW(Chantiers_Zones!$B$2)+1)/(Chantiers_Zones!$E$2:$E$101="Oui"),22)),"") | I23: =IFERROR(INDEX(Chantiers_Zones!$D$2:$D$101,AGGREGATE(15,6,(ROW(Chantiers_Zones!$D$2:$D$101)-ROW(Chantiers_Zones!$D$2)+1)/(Chantiers_Zones!$E$2:$E$101="Oui"),22)),"")
G24: =IFERROR(INDEX(Intervenants!$A$2:$A$101,AGGREGATE(15,6,(ROW(Intervenants!$A$2:$A$101)-ROW(Intervenants!$A$2)+1)/(Intervenants!$E$2:$E$101="Oui"),23)),"") | H24: =IFERROR(INDEX(Chantiers_Zones!$B$2:$B$101,AGGREGATE(15,6,(ROW(Chantiers_Zones!$B$2:$B$101)-ROW(Chantiers_Zones!$B$2)+1)/(Chantiers_Zones!$E$2:$E$101="Oui"),23)),"") | I24: =IFERROR(INDEX(Chantiers_Zones!$D$2:$D$101,AGGREGATE(15,6,(ROW(Chantiers_Zones!$D$2:$D$101)-ROW(Chantiers_Zones!$D$2)+1)/(Chantiers_Zones!$E$2:$E$101="Oui"),23)),"")
G25: =IFERROR(INDEX(Intervenants!$A$2:$A$101,AGGREGATE(15,6,(ROW(Intervenants!$A$2:$A$101)-ROW(Intervenants!$A$2)+1)/(Intervenants!$E$2:$E$101="Oui"),24)),"") | H25: =IFERROR(INDEX(Chantiers_Zones!$B$2:$B$101,AGGREGATE(15,6,(ROW(Chantiers_Zones!$B$2:$B$101)-ROW(Chantiers_Zones!$B$2)+1)/(Chantiers_Zones!$E$2:$E$101="Oui"),24)),"") | I25: =IFERROR(INDEX(Chantiers_Zones!$D$2:$D$101,AGGREGATE(15,6,(ROW(Chantiers_Zones!$D$2:$D$101)-ROW(Chantiers_Zones!$D$2)+1)/(Chantiers_Zones!$E$2:$E$101="Oui"),24)),"")
G26: =IFERROR(INDEX(Intervenants!$A$2:$A$101,AGGREGATE(15,6,(ROW(Intervenants!$A$2:$A$101)-ROW(Intervenants!$A$2)+1)/(Intervenants!$E$2:$E$101="Oui"),25)),"") | H26: =IFERROR(INDEX(Chantiers_Zones!$B$2:$B$101,AGGREGATE(15,6,(ROW(Chantiers_Zones!$B$2:$B$101)-ROW(Chantiers_Zones!$B$2)+1)/(Chantiers_Zones!$E$2:$E$101="Oui"),25)),"") | I26: =IFERROR(INDEX(Chantiers_Zones!$D$2:$D$101,AGGREGATE(15,6,(ROW(Chantiers_Zones!$D$2:$D$101)-ROW(Chantiers_Zones!$D$2)+1)/(Chantiers_Zones!$E$2:$E$101="Oui"),25)),"")
G27: =IFERROR(INDEX(Intervenants!$A$2:$A$101,AGGREGATE(15,6,(ROW(Intervenants!$A$2:$A$101)-ROW(Intervenants!$A$2)+1)/(Intervenants!$E$2:$E$101="Oui"),26)),"") | H27: =IFERROR(INDEX(Chantiers_Zones!$B$2:$B$101,AGGREGATE(15,6,(ROW(Chantiers_Zones!$B$2:$B$101)-ROW(Chantiers_Zones!$B$2)+1)/(Chantiers_Zones!$E$2:$E$101="Oui"),26)),"") | I27: =IFERROR(INDEX(Chantiers_Zones!$D$2:$D$101,AGGREGATE(15,6,(ROW(Chantiers_Zones!$D$2:$D$101)-ROW(Chantiers_Zones!$D$2)+1)/(Chantiers_Zones!$E$2:$E$101="Oui"),26)),"")
G28: =IFERROR(INDEX(Intervenants!$A$2:$A$101,AGGREGATE(15,6,(ROW(Intervenants!$A$2:$A$101)-ROW(Intervenants!$A$2)+1)/(Intervenants!$E$2:$E$101="Oui"),27)),"") | H28: =IFERROR(INDEX(Chantiers_Zones!$B$2:$B$101,AGGREGATE(15,6,(ROW(Chantiers_Zones!$B$2:$B$101)-ROW(Chantiers_Zones!$B$2)+1)/(Chantiers_Zones!$E$2:$E$101="Oui"),27)),"") | I28: =IFERROR(INDEX(Chantiers_Zones!$D$2:$D$101,AGGREGATE(15,6,(ROW(Chantiers_Zones!$D$2:$D$101)-ROW(Chantiers_Zones!$D$2)+1)/(Chantiers_Zones!$E$2:$E$101="Oui"),27)),"")
G29: =IFERROR(INDEX(Intervenants!$A$2:$A$101,AGGREGATE(15,6,(ROW(Intervenants!$A$2:$A$101)-ROW(Intervenants!$A$2)+1)/(Intervenants!$E$2:$E$101="Oui"),28)),"") | H29: =IFERROR(INDEX(Chantiers_Zones!$B$2:$B$101,AGGREGATE(15,6,(ROW(Chantiers_Zones!$B$2:$B$101)-ROW(Chantiers_Zones!$B$2)+1)/(Chantiers_Zones!$E$2:$E$101="Oui"),28)),"") | I29: =IFERROR(INDEX(Chantiers_Zones!$D$2:$D$101,AGGREGATE(15,6,(ROW(Chantiers_Zones!$D$2:$D$101)-ROW(Chantiers_Zones!$D$2)+1)/(Chantiers_Zones!$E$2:$E$101="Oui"),28)),"")
