Workbook

Sheet Synthèse
A1: Mois | B1: Consommé HT | C1: Cumul HT | F1: Indicateur | G1: Valeur
A2: =DATE(YEAR('Paramètres'!$B$3),MONTH('Paramètres'!$B$3),1) | B2: =IF(A2="","",SUMIFS('Dépenses'!$J$2:$J$201,'Dépenses'!$B$2:$B$201,">="&A2,'Dépenses'!$B$2:$B$201,"<"&EDATE(A2,1),'Dépenses'!$N$2:$N$201,"Saisie")+SUMIFS('Dépenses'!$J$2:$J$201,'Dépenses'!$B$2:$B$201,">="&A2,'Dépenses'!$B$2:$B$201,"<"&EDATE(A2,1),'Dépenses'!$N$2:$N$201,"Contrôlée")) | C2: =IF(A2="","",SUM($B$2:B2)) | F2: Budget total HT | G2: =SUM(Budget!$D$2:$D$101)
A3: =IF(A2="","",IF(EDATE(A2,1)>'Paramètres'!$B$4,"",EDATE(A2,1))) | B3: =IF(A3="","",SUMIFS('Dépenses'!$J$2:$J$201,'Dépenses'!$B$2:$B$201,">="&A3,'Dépenses'!$B$2:$B$201,"<"&EDATE(A3,1),'Dépenses'!$N$2:$N$201,"Saisie")+SUMIFS('Dépenses'!$J$2:$J$201,'Dépenses'!$B$2:$B$201,">="&A3,'Dépenses'!$B$2:$B$201,"<"&EDATE(A3,1),'Dépenses'!$N$2:$N$201,"Contrôlée")) | C3: =IF(A3="","",SUM($B$2:B3)) | F3: Consommé total HT | G3: =SUMIFS('Dépenses'!$J$2:$J$201,'Dépenses'!$N$2:$N$201,"Saisie")+SUMIFS('Dépenses'!$J$2:$J$201,'Dépenses'!$N$2:$N$201,"Contrôlée")
A4: =IF(A3="","",IF(EDATE(A3,1)>'Paramètres'!$B$4,"",EDATE(A3,1))) | B4: =IF(A4="","",SUMIFS('Dépenses'!$J$2:$J$201,'Dépenses'!$B$2:$B$201,">="&A4,'Dépenses'!$B$2:$B$201,"<"&EDATE(A4,1),'Dépenses'!$N$2:$N$201,"Saisie")+SUMIFS('Dépenses'!$J$2:$J$201,'Dépenses'!$B$2:$B$201,">="&A4,'Dépenses'!$B$2:$B$201,"<"&EDATE(A4,1),'Dépenses'!$N$2:$N$201,"Contrôlée")) | C4: =IF(A4="","",SUM($B$2:B4)) | F4: Reste total HT | G4: =G2-G3
A5: =IF(A4="","",IF(EDATE(A4,1)>'Paramètres'!$B$4,"",EDATE(A4,1))) | B5: =IF(A5="","",SUMIFS('Dépenses'!$J$2:$J$201,'Dépenses'!$B$2:$B$201,">="&A5,'Dépenses'!$B$2:$B$201,"<"&EDATE(A5,1),'Dépenses'!$N$2:$N$201,"Saisie")+SUMIFS('Dépenses'!$J$2:$J$201,'Dépenses'!$B$2:$B$201,">="&A5,'Dépenses'!$B$2:$B$201,"<"&EDATE(A5,1),'Dépenses'!$N$2:$N$201,"Contrôlée")) | C5: =IF(A5="","",SUM($B$2:B5)) | F5: Taux global | G5: =IFERROR(G3/G2,0)
A6: =IF(A5="","",IF(EDATE(A5,1)>'Paramètres'!$B$4,"",EDATE(A5,1))) | B6: =IF(A6="","",SUMIFS('Dépenses'!$J$2:$J$201,'Dépenses'!$B$2:$B$201,">="&A6,'Dépenses'!$B$2:$B$201,"<"&EDATE(A6,1),'Dépenses'!$N$2:$N$201,"Saisie")+SUMIFS('Dépenses'!$J$2:$J$201,'Dépenses'!$B$2:$B$201,">="&A6,'Dépenses'!$B$2:$B$201,"<"&EDATE(A6,1),'Dépenses'!$N$2:$N$201,"Contrôlée")) | C6: =IF(A6="","",SUM($B$2:B6)) | F6: Nombre d’alertes | G6: =COUNTIF('Dépenses'!$Q$2:$Q$201,"<>")
A7: =IF(A6="","",IF(EDATE(A6,1)>'Paramètres'!$B$4,"",EDATE(A6,1))) | B7: =IF(A7="","",SUMIFS('Dépenses'!$J$2:$J$201,'Dépenses'!$B$2:$B$201,">="&A7,'Dépenses'!$B$2:$B$201,"<"&EDATE(A7,1),'Dépenses'!$N$2:$N$201,"Saisie")+SUMIFS('Dépenses'!$J$2:$J$201,'Dépenses'!$B$2:$B$201,">="&A7,'Dépenses'!$B$2:$B$201,"<"&EDATE(A7,1),'Dépenses'!$N$2:$N$201,"Contrôlée")) | C7: =IF(A7="","",SUM($B$2:B7)) | F7: Dépenses sans justificatif | G7: =COUNTIFS('Dépenses'!$O$2:$O$201,"Non",'Dépenses'!$N$2:$N$201,"<>Annulée")
A8: =IF(A7="","",IF(EDATE(A7,1)>'Paramètres'!$B$4,"",EDATE(A7,1))) | B8: =IF(A8="","",SUMIFS('Dépenses'!$J$2:$J$201,'Dépenses'!$B$2:$B$201,">="&A8,'Dépenses'!$B$2:$B$201,"<"&EDATE(A8,1),'Dépenses'!$N$2:$N$201,"Saisie")+SUMIFS('Dépenses'!$J$2:$J$201,'Dépenses'!$B$2:$B$201,">="&A8,'Dépenses'!$B$2:$B$201,"<"&EDATE(A8,1),'Dépenses'!$N$2:$N$201,"Contrôlée")) | C8: =IF(A8="","",SUM($B$2:B8)) | F8: Dernière date enregistrée | G8: =IFERROR(MAXIFS('Dépenses'!$B$2:$B$201,'Dépenses'!$N$2:$N$201,"<>Annulée"),"")
A9: =IF(A8="","",IF(EDATE(A8,1)>'Paramètres'!$B$4,"",EDATE(A8,1))) | B9: =IF(A9="","",SUMIFS('Dépenses'!$J$2:$J$201,'Dépenses'!$B$2:$B$201,">="&A9,'Dépenses'!$B$2:$B$201,"<"&EDATE(A9,1),'Dépenses'!$N$2:$N$201,"Saisie")+SUMIFS('Dépenses'!$J$2:$J$201,'Dépenses'!$B$2:$B$201,">="&A9,'Dépenses'!$B$2:$B$201,"<"&EDATE(A9,1),'Dépenses'!$N$2:$N$201,"Contrôlée")) | C9: =IF(A9="","",SUM($B$2:B9))
A10: =IF(A9="","",IF(EDATE(A9,1)>'Paramètres'!$B$4,"",EDATE(A9,1))) | B10: =IF(A10="","",SUMIFS('Dépenses'!$J$2:$J$201,'Dépenses'!$B$2:$B$201,">="&A10,'Dépenses'!$B$2:$B$201,"<"&EDATE(A10,1),'Dépenses'!$N$2:$N$201,"Saisie")+SUMIFS('Dépenses'!$J$2:$J$201,'Dépenses'!$B$2:$B$201,">="&A10,'Dépenses'!$B$2:$B$201,"<"&EDATE(A10,1),'Dépenses'!$N$2:$N$201,"Contrôlée")) | C10: =IF(A10="","",SUM($B$2:B10))
A11: =IF(A10="","",IF(EDATE(A10,1)>'Paramètres'!$B$4,"",EDATE(A10,1))) | B11: =IF(A11="","",SUMIFS('Dépenses'!$J$2:$J$201,'Dépenses'!$B$2:$B$201,">="&A11,'Dépenses'!$B$2:$B$201,"<"&EDATE(A11,1),'Dépenses'!$N$2:$N$201,"Saisie")+SUMIFS('Dépenses'!$J$2:$J$201,'Dépenses'!$B$2:$B$201,">="&A11,'Dépenses'!$B$2:$B$201,"<"&EDATE(A11,1),'Dépenses'!$N$2:$N$201,"Contrôlée")) | C11: =IF(A11="","",SUM($B$2:B11))
A12: =IF(A11="","",IF(EDATE(A11,1)>'Paramètres'!$B$4,"",EDATE(A11,1))) | B12: =IF(A12="","",SUMIFS('Dépenses'!$J$2:$J$201,'Dépenses'!$B$2:$B$201,">="&A12,'Dépenses'!$B$2:$B$201,"<"&EDATE(A12,1),'Dépenses'!$N$2:$N$201,"Saisie")+SUMIFS('Dépenses'!$J$2:$J$201,'Dépenses'!$B$2:$B$201,">="&A12,'Dépenses'!$B$2:$B$201,"<"&EDATE(A12,1),'Dépenses'!$N$2:$N$201,"Contrôlée")) | C12: =IF(A12="","",SUM($B$2:B12))
A13: =IF(A12="","",IF(EDATE(A12,1)>'Paramètres'!$B$4,"",EDATE(A12,1))) | B13: =IF(A13="","",SUMIFS('Dépenses'!$J$2:$J$201,'Dépenses'!$B$2:$B$201,">="&A13,'Dépenses'!$B$2:$B$201,"<"&EDATE(A13,1),'Dépenses'!$N$2:$N$201,"Saisie")+SUMIFS('Dépenses'!$J$2:$J$201,'Dépenses'!$B$2:$B$201,">="&A13,'Dépenses'!$B$2:$B$201,"<"&EDATE(A13,1),'Dépenses'!$N$2:$N$201,"Contrôlée")) | C13: =IF(A13="","",SUM($B$2:B13))
A14: =IF(A13="","",IF(EDATE(A13,1)>'Paramètres'!$B$4,"",EDATE(A13,1))) | B14: =IF(A14="","",SUMIFS('Dépenses'!$J$2:$J$201,'Dépenses'!$B$2:$B$201,">="&A14,'Dépenses'!$B$2:$B$201,"<"&EDATE(A14,1),'Dépenses'!$N$2:$N$201,"Saisie")+SUMIFS('Dépenses'!$J$2:$J$201,'Dépenses'!$B$2:$B$201,">="&A14,'Dépenses'!$B$2:$B$201,"<"&EDATE(A14,1),'Dépenses'!$N$2:$N$201,"Contrôlée")) | C14: =IF(A14="","",SUM($B$2:B14))
A15: =IF(A14="","",IF(EDATE(A14,1)>'Paramètres'!$B$4,"",EDATE(A14,1))) | B15: =IF(A15="","",SUMIFS('Dépenses'!$J$2:$J$201,'Dépenses'!$B$2:$B$201,">="&A15,'Dépenses'!$B$2:$B$201,"<"&EDATE(A15,1),'Dépenses'!$N$2:$N$201,"Saisie")+SUMIFS('Dépenses'!$J$2:$J$201,'Dépenses'!$B$2:$B$201,">="&A15,'Dépenses'!$B$2:$B$201,"<"&EDATE(A15,1),'Dépenses'!$N$2:$N$201,"Contrôlée")) | C15: =IF(A15="","",SUM($B$2:B15))
A16: =IF(A15="","",IF(EDATE(A15,1)>'Paramètres'!$B$4,"",EDATE(A15,1))) | B16: =IF(A16="","",SUMIFS('Dépenses'!$J$2:$J$201,'Dépenses'!$B$2:$B$201,">="&A16,'Dépenses'!$B$2:$B$201,"<"&EDATE(A16,1),'Dépenses'!$N$2:$N$201,"Saisie")+SUMIFS('Dépenses'!$J$2:$J$201,'Dépenses'!$B$2:$B$201,">="&A16,'Dépenses'!$B$2:$B$201,"<"&EDATE(A16,1),'Dépenses'!$N$2:$N$201,"Contrôlée")) | C16: =IF(A16="","",SUM($B$2:B16))
A17: =IF(A16="","",IF(EDATE(A16,1)>'Paramètres'!$B$4,"",EDATE(A16,1))) | B17: =IF(A17="","",SUMIFS('Dépenses'!$J$2:$J$201,'Dépenses'!$B$2:$B$201,">="&A17,'Dépenses'!$B$2:$B$201,"<"&EDATE(A17,1),'Dépenses'!$N$2:$N$201,"Saisie")+SUMIFS('Dépenses'!$J$2:$J$201,'Dépenses'!$B$2:$B$201,">="&A17,'Dépenses'!$B$2:$B$201,"<"&EDATE(A17,1),'Dépenses'!$N$2:$N$201,"Contrôlée")) | C17: =IF(A17="","",SUM($B$2:B17))
A18: =IF(A17="","",IF(EDATE(A17,1)>'Paramètres'!$B$4,"",EDATE(A17,1))) | B18: =IF(A18="","",SUMIFS('Dépenses'!$J$2:$J$201,'Dépenses'!$B$2:$B$201,">="&A18,'Dépenses'!$B$2:$B$201,"<"&EDATE(A18,1),'Dépenses'!$N$2:$N$201,"Saisie")+SUMIFS('Dépenses'!$J$2:$J$201,'Dépenses'!$B$2:$B$201,">="&A18,'Dépenses'!$B$2:$B$201,"<"&EDATE(A18,1),'Dépenses'!$N$2:$N$201,"Contrôlée")) | C18: =IF(A18="","",SUM($B$2:B18))
A19: =IF(A18="","",IF(EDATE(A18,1)>'Paramètres'!$B$4,"",EDATE(A18,1))) | B19: =IF(A19="","",SUMIFS('Dépenses'!$J$2:$J$201,'Dépenses'!$B$2:$B$201,">="&A19,'Dépenses'!$B$2:$B$201,"<"&EDATE(A19,1),'Dépenses'!$N$2:$N$201,"Saisie")+SUMIFS('Dépenses'!$J$2:$J$201,'Dépenses'!$B$2:$B$201,">="&A19,'Dépenses'!$B$2:$B$201,"<"&EDATE(A19,1),'Dépenses'!$N$2:$N$201,"Contrôlée")) | C19: =IF(A19="","",SUM($B$2:B19))
A20: =IF(A19="","",IF(EDATE(A19,1)>'Paramètres'!$B$4,"",EDATE(A19,1))) | B20: =IF(A20="","",SUMIFS('Dépenses'!$J$2:$J$201,'Dépenses'!$B$2:$B$201,">="&A20,'Dépenses'!$B$2:$B$201,"<"&EDATE(A20,1),'Dépenses'!$N$2:$N$201,"Saisie")+SUMIFS('Dépenses'!$J$2:$J$201,'Dépenses'!$B$2:$B$201,">="&A20,'Dépenses'!$B$2:$B$201,"<"&EDATE(A20,1),'Dépenses'!$N$2:$N$201,"Contrôlée")) | C20: =IF(A20="","",SUM($B$2:B20))
... A37: =IF(A36="","",IF(EDATE(A36,1)>'Paramètres'!$B$4,"",EDATE(A36,1))) | B37: =IF(A37="","",SUMIFS('Dépenses'!$J$2:$J$201,'Dépenses'!$B$2:$B$201,">="&A37,'Dépenses'!$B$2:$B$201,"<"&EDATE(A37,1),'Dépenses'!$N$2:$N$201,"Saisie")+SUMIFS('Dépenses'!$J$2:$J$201,'Dépenses'!$B$2:$B$201,">="&A37,'Dépenses'!$B$2:$B$201,"<"&EDATE(A37,1),'Dépenses'!$N$2:$N$201,"Contrôlée")) | C37: =IF(A37="","",SUM($B$2:B37))

Sheet Paramètres
A1: Paramètres du chantier | D1: Lots | E1: Postes | F1: Modes de règlement | G1: Statuts | H1: Justificatif | I1: Taux de TVA
A2: Nom du chantier | B2: Chantier Démonstration FICTIF | D2: Lot 01 | E2: Base vie | F2: Carte | G2: Saisie | H2: Oui | I2: 0
A3: Date de début | B3: 46023 | D3: Lot 02 | E3: Évacuation | F3: Virement | G3: Contrôlée | H3: Non | I3: 0.055
A4: Date de fin | B4: 46387 | D4: Lot 03 | E4: Béton | F4: Prélèvement | G4: Annulée | I4: 0.1
A5: Date de contrôle | B5: 46272 | D5: Lot 04 | E5: Acier | F5: Espèces | I5: 0.2
A6: Seuil de vigilance | B6: 0.8 | D6: Lot 05 | E6: Isolation | F6: Autre
D7: Lot 06 | E7: Réseaux EF/EC
A8: Périmètre | B8: Saisir uniquement les dépenses effectivement réalisées sur le chantier fictif. | D8: Lot 07 | E8: Câblage
A9: Montants | B9: Le pilotage est effectué hors taxes ; la TVA et le TTC restent informatifs. | D9: Lot 08 | E9: Portes
A10: Exclusion | B10: Ne pas enregistrer les commandes, devis acceptés ou autres sommes seulement promises. | D10: Lot 09 | E10: Peinture murs
A11: Avertissement | B11: Ce classeur autonome n’est ni un document officiel, ni une certification, ni un conseil juridique ou fiscal. | E11: Benne
E12: Location matériel
E13: Signalisation
E14: Nettoyage
E15: Petites fournitures

Sheet Dépenses
A1: ID dépense | B1: Date de dépense | C1: Mois | D1: Fournisseur | E1: Référence justificatif | F1: Lot | G1: Poste | H1: Libellé | I1: Mode de règlement | J1: Montant HT | K1: Taux de TVA | L1: Montant TVA | M1: Montant TTC | N1: Statut | O1: Justificatif | P1: Commentaire | Q1: Alerte | R1: Lots | S1: Postes | T1: Modes | U1: TVA | V1: Statuts | W1: Justificatifs | X1: Début | Y1: Fin de saisie | Z1: Seuil
A2: DEP-FICT-001 | B2: 46030 | C2: =IF(B2="","",DATE(YEAR(B2),MONTH(B2),1)) | D2: FICTIF Alpha | E2: FAC-FICT-001 | F2: Lot 01 | G2: Base vie | H2: Installation de base vie fictive | I2: Virement | J2: 1450 | K2: 0.2 | L2: =IF(OR(J2="",K2=""),"",ROUND(J2*K2,2)) | M2: =IF(J2="","",ROUND(J2+IF(L2="",0,L2),2)) | N2: Contrôlée | O2: Oui | P2: Dépense d’exemple fictive | Q2: =IF(COUNTA(A2:B2,D2:K2,N2:P2)=0,"",IF(A2="","ID manquant",IF(B2="","Date manquante",IF(B2>'Paramètres'!$B$5,"Date postérieure au contrôle",IF(COUNTIFS(Budget!$A$2:$A$101,F2,Budget!$B$2:$B$101,G2)=0,"Lot/poste hors budget",IF(J2<=0,"Montant invalide",IF(AND(O2="Non",N2<>"Annulée"),"Justificatif manquant",IF(N2="Saisie","À contrôler","")))))))) | R2: ='Paramètres'!$D$2 | S2: ='Paramètres'!$E$2 | T2: ='Paramètres'!$F$2 | U2: ='Paramètres'!$I$2 | V2: ='Paramètres'!$G$2 | W2: ='Paramètres'!$H$2 | X2: ='Paramètres'!$B$3 | Y2: =MIN('Paramètres'!$B$4,'Paramètres'!$B$5) | Z2: ='Paramètres'!$B$6
A3: DEP-FICT-002 | B3: 46037 | C3: =IF(B3="","",DATE(YEAR(B3),MONTH(B3),1)) | D3: FICTIF Béton Plus | E3: FAC-FICT-002 | F3: Lot 03 | G3: Béton | H3: Béton de démonstration fictif | I3: Virement | J3: 3820 | K3: 0.2 | L3: =IF(OR(J3="",K3=""),"",ROUND(J3*K3,2)) | M3: =IF(J3="","",ROUND(J3+IF(L3="",0,L3),2)) | N3: Contrôlée | O3: Oui | P3: Dépense d’exemple fictive | Q3: =IF(COUNTA(A3:B3,D3:K3,N3:P3)=0,"",IF(A3="","ID manquant",IF(B3="","Date manquante",IF(B3>'Paramètres'!$B$5,"Date postérieure au contrôle",IF(COUNTIFS(Budget!$A$2:$A$101,F3,Budget!$B$2:$B$101,G3)=0,"Lot/poste hors budget",IF(J3<=0,"Montant invalide",IF(AND(O3="Non",N3<>"Annulée"),"Justificatif manquant",IF(N3="Saisie","À contrôler","")))))))) | R3: ='Paramètres'!$D$3 | S3: ='Paramètres'!$E$3 | T3: ='Paramètres'!$F$3 | U3: ='Paramètres'!$I$3 | V3: ='Paramètres'!$G$3 | W3: ='Paramètres'!$H$3
A4: DEP-FICT-003 | B4: 46055 | C4: =IF(B4="","",DATE(YEAR(B4),MONTH(B4),1)) | D4: FICTIF Terrassement | E4: FAC-FICT-003 | F4: Lot 02 | G4: Évacuation | H4: Évacuation fictive de matériaux | I4: Carte | J4: 2280 | K4: 0.2 | L4: =IF(OR(J4="",K4=""),"",ROUND(J4*K4,2)) | M4: =IF(J4="","",ROUND(J4+IF(L4="",0,L4),2)) | N4: Contrôlée | O4: Oui | P4: Dépense d’exemple fictive | Q4: =IF(COUNTA(A4:B4,D4:K4,N4:P4)=0,"",IF(A4="","ID manquant",IF(B4="","Date manquante",IF(B4>'Paramètres'!$B$5,"Date postérieure au contrôle",IF(COUNTIFS(Budget!$A$2:$A$101,F4,Budget!$B$2:$B$101,G4)=0,"Lot/poste hors budget",IF(J4<=0,"Montant invalide",IF(AND(O4="Non",N4<>"Annulée"),"Justificatif manquant",IF(N4="Saisie","À contrôler","")))))))) | R4: ='Paramètres'!$D$4 | S4: ='Paramètres'!$E$4 | T4: ='Paramètres'!$F$4 | U4: ='Paramètres'!$I$4 | V4: ='Paramètres'!$G$4
A5: DEP-FICT-004 | B5: 46071 | C5: =IF(B5="","",DATE(YEAR(B5),MONTH(B5),1)) | D5: FICTIF Façades | E5: FAC-FICT-004 | F5: Lot 04 | G5: Isolation | H5: Isolation de zone fictive | I5: Virement | J5: 1960 | K5: 0.1 | L5: =IF(OR(J5="",K5=""),"",ROUND(J5*K5,2)) | M5: =IF(J5="","",ROUND(J5+IF(L5="",0,L5),2)) | N5: Contrôlée | O5: Oui | P5: Dépense d’exemple fictive | Q5: =IF(COUNTA(A5:B5,D5:K5,N5:P5)=0,"",IF(A5="","ID manquant",IF(B5="","Date manquante",IF(B5>'Paramètres'!$B$5,"Date postérieure au contrôle",IF(COUNTIFS(Budget!$A$2:$A$101,F5,Budget!$B$2:$B$101,G5)=0,"Lot/poste hors budget",IF(J5<=0,"Montant invalide",IF(AND(O5="Non",N5<>"Annulée"),"Justificatif manquant",IF(N5="Saisie","À contrôler","")))))))) | R5: ='Paramètres'!$D$5 | S5: ='Paramètres'!$E$5 | T5: ='Paramètres'!$F$5 | U5: ='Paramètres'!$I$5
A6: DEP-FICT-005 | B6: 46086 | C6: =IF(B6="","",DATE(YEAR(B6),MONTH(B6),1)) | D6: FICTIF Fluides | E6: FAC-FICT-005 | F6: Lot 05 | G6: Réseaux EF/EC | H6: Fournitures de réseaux fictifs | I6: Carte | J6: 740 | K6: 0.2 | L6: =IF(OR(J6="",K6=""),"",ROUND(J6*K6,2)) | M6: =IF(J6="","",ROUND(J6+IF(L6="",0,L6),2)) | N6: Contrôlée | O6: Oui | P6: Dépense d’exemple fictive | Q6: =IF(COUNTA(A6:B6,D6:K6,N6:P6)=0,"",IF(A6="","ID manquant",IF(B6="","Date manquante",IF(B6>'Paramètres'!$B$5,"Date postérieure au contrôle",IF(COUNTIFS(Budget!$A$2:$A$101,F6,Budget!$B$2:$B$101,G6)=0,"Lot/poste hors budget",IF(J6<=0,"Montant invalide",IF(AND(O6="Non",N6<>"Annulée"),"Justificatif manquant",IF(N6="Saisie","À contrôler","")))))))) | R6: ='Paramètres'!$D$6 | S6: ='Paramètres'!$E$6 | T6: ='Paramètres'!$F$6
A7: DEP-FICT-006 | B7: 46103 | C7: =IF(B7="","",DATE(YEAR(B7),MONTH(B7),1)) | D7: FICTIF Électricité | E7: FAC-FICT-006 | F7: Lot 06 | G7: Câblage | H7: Câblage provisoire fictif | I7: Virement | J7: 1120 | K7: 0.2 | L7: =IF(OR(J7="",K7=""),"",ROUND(J7*K7,2)) | M7: =IF(J7="","",ROUND(J7+IF(L7="",0,L7),2)) | N7: Contrôlée | O7: Oui | P7: Dépense d’exemple fictive | Q7: =IF(COUNTA(A7:B7,D7:K7,N7:P7)=0,"",IF(A7="","ID manquant",IF(B7="","Date manquante",IF(B7>'Paramètres'!$B$5,"Date postérieure au contrôle",IF(COUNTIFS(Budget!$A$2:$A$101,F7,Budget!$B$2:$B$101,G7)=0,"Lot/poste hors budget",IF(J7<=0,"Montant invalide",IF(AND(O7="Non",N7<>"Annulée"),"Justificatif manquant",IF(N7="Saisie","À contrôler","")))))))) | R7: ='Paramètres'!$D$7 | S7: ='Paramètres'!$E$7
A8: DEP-FICT-007 | B8: 46126 | C8: =IF(B8="","",DATE(YEAR(B8),MONTH(B8),1)) | D8: FICTIF Menuiseries | E8: FAC-FICT-007 | F8: Lot 07 | G8: Portes | H8: Portes intérieures fictives | I8: Virement | J8: 2650 | K8: 0.2 | L8: =IF(OR(J8="",K8=""),"",ROUND(J8*K8,2)) | M8: =IF(J8="","",ROUND(J8+IF(L8="",0,L8),2)) | N8: Contrôlée | O8: Oui | P8: Dépense d’exemple fictive | Q8: =IF(COUNTA(A8:B8,D8:K8,N8:P8)=0,"",IF(A8="","ID manquant",IF(B8="","Date manquante",IF(B8>'Paramètres'!$B$5,"Date postérieure au contrôle",IF(COUNTIFS(Budget!$A$2:$A$101,F8,Budget!$B$2:$B$101,G8)=0,"Lot/poste hors budget",IF(J8<=0,"Montant invalide",IF(AND(O8="Non",N8<>"Annulée"),"Justificatif manquant",IF(N8="Saisie","À contrôler","")))))))) | R8: ='Paramètres'!$D$8 | S8: ='Paramètres'!$E$8
A9: DEP-FICT-008 | B9: 46151 | C9: =IF(B9="","",DATE(YEAR(B9),MONTH(B9),1)) | D9: FICTIF Couleurs | E9: FAC-FICT-008 | F9: Lot 08 | G9: Peinture murs | H9: Peinture de murs fictifs | I9: Carte | J9: 980 | K9: 0.2 | L9: =IF(OR(J9="",K9=""),"",ROUND(J9*K9,2)) | M9: =IF(J9="","",ROUND(J9+IF(L9="",0,L9),2)) | N9: Saisie | O9: Non | P9: Justificatif fictif à contrôler | Q9: =IF(COUNTA(A9:B9,D9:K9,N9:P9)=0,"",IF(A9="","ID manquant",IF(B9="","Date manquante",IF(B9>'Paramètres'!$B$5,"Date postérieure au contrôle",IF(COUNTIFS(Budget!$A$2:$A$101,F9,Budget!$B$2:$B$101,G9)=0,"Lot/poste hors budget",IF(J9<=0,"Montant invalide",IF(AND(O9="Non",N9<>"Annulée"),"Justificatif manquant",IF(N9="Saisie","À contrôler","")))))))) | R9: ='Paramètres'!$D$9 | S9: ='Paramètres'!$E$9
A10: DEP-FICT-009 | B10: 46189 | C10: =IF(B10="","",DATE(YEAR(B10),MONTH(B10),1)) | D10: FICTIF Métaux | E10: FAC-FICT-009 | F10: Lot 03 | G10: Acier | H10: Acier fictif annulé | I10: Virement | J10: 1740 | K10: 0.2 | L10: =IF(OR(J10="",K10=""),"",ROUND(J10*K10,2)) | M10: =IF(J10="","",ROUND(J10+IF(L10="",0,L10),2)) | N10: Annulée | O10: Oui | P10: Ligne fictive exclue des consommés | Q10: =IF(COUNTA(A10:B10,D10:K10,N10:P10)=0,"",IF(A10="","ID manquant",IF(B10="","Date manquante",IF(B10>'Paramètres'!$B$5,"Date postérieure au contrôle",IF(COUNTIFS(Budget!$A$2:$A$101,F10,Budget!$B$2:$B$101,G10)=0,"Lot/poste hors budget",IF(J10<=0,"Montant invalide",IF(AND(O10="Non",N10<>"Annulée"),"Justificatif manquant",IF(N10="Saisie","À contrôler","")))))))) | R10: ='Paramètres'!$D$10 | S10: ='Paramètres'!$E$10
A11: DEP-FICT-010 | B11: 46261 | C11: =IF(B11="","",DATE(YEAR(B11),MONTH(B11),1)) | D11: FICTIF Propreté | E11: FAC-FICT-010 | F11: Lot 09 | G11: Benne | H11: Benne de chantier fictive | I11: Prélèvement | J11: 610 | K11: 0.2 | L11: =IF(OR(J11="",K11=""),"",ROUND(J11*K11,2)) | M11: =IF(J11="","",ROUND(J11+IF(L11="",0,L11),2)) | N11: Contrôlée | O11: Oui | P11: Dépense d’exemple fictive | Q11: =IF(COUNTA(A11:B11,D11:K11,N11:P11)=0,"",IF(A11="","ID manquant",IF(B11="","Date manquante",IF(B11>'Paramètres'!$B$5,"Date postérieure au contrôle",IF(COUNTIFS(Budget!$A$2:$A$101,F11,Budget!$B$2:$B$101,G11)=0,"Lot/poste hors budget",IF(J11<=0,"Montant invalide",IF(AND(O11="Non",N11<>"Annulée"),"Justificatif manquant",IF(N11="Saisie","À contrôler","")))))))) | S11: ='Paramètres'!$E$11
C12: =IF(B12="","",DATE(YEAR(B12),MONTH(B12),1)) | L12: =IF(OR(J12="",K12=""),"",ROUND(J12*K12,2)) | M12: =IF(J12="","",ROUND(J12+IF(L12="",0,L12),2)) | Q12: =IF(COUNTA(A12:B12,D12:K12,N12:P12)=0,"",IF(A12="","ID manquant",IF(B12="","Date manquante",IF(B12>'Paramètres'!$B$5,"Date postérieure au contrôle",IF(COUNTIFS(Budget!$A$2:$A$101,F12,Budget!$B$2:$B$101,G12)=0,"Lot/poste hors budget",IF(J12<=0,"Montant invalide",IF(AND(O12="Non",N12<>"Annulée"),"Justificatif manquant",IF(N12="Saisie","À contrôler","")))))))) | S12: ='Paramètres'!$E$12
C13: =IF(B13="","",DATE(YEAR(B13),MONTH(B13),1)) | L13: =IF(OR(J13="",K13=""),"",ROUND(J13*K13,2)) | M13: =IF(J13="","",ROUND(J13+IF(L13="",0,L13),2)) | Q13: =IF(COUNTA(A13:B13,D13:K13,N13:P13)=0,"",IF(A13="","ID manquant",IF(B13="","Date manquante",IF(B13>'Paramètres'!$B$5,"Date postérieure au contrôle",IF(COUNTIFS(Budget!$A$2:$A$101,F13,Budget!$B$2:$B$101,G13)=0,"Lot/poste hors budget",IF(J13<=0,"Montant invalide",IF(AND(O13="Non",N13<>"Annulée"),"Justificatif manquant",IF(N13="Saisie","À contrôler","")))))))) | S13: ='Paramètres'!$E$13
C14: =IF(B14="","",DATE(YEAR(B14),MONTH(B14),1)) | L14: =IF(OR(J14="",K14=""),"",ROUND(J14*K14,2)) | M14: =IF(J14="","",ROUND(J14+IF(L14="",0,L14),2)) | Q14: =IF(COUNTA(A14:B14,D14:K14,N14:P14)=0,"",IF(A14="","ID manquant",IF(B14="","Date manquante",IF(B14>'Paramètres'!$B$5,"Date postérieure au contrôle",IF(COUNTIFS(Budget!$A$2:$A$101,F14,Budget!$B$2:$B$101,G14)=0,"Lot/poste hors budget",IF(J14<=0,"Montant invalide",IF(AND(O14="Non",N14<>"Annulée"),"Justificatif manquant",IF(N14="Saisie","À contrôler","")))))))) | S14: ='Paramètres'!$E$14
C15: =IF(B15="","",DATE(YEAR(B15),MONTH(B15),1)) | L15: =IF(OR(J15="",K15=""),"",ROUND(J15*K15,2)) | M15: =IF(J15="","",ROUND(J15+IF(L15="",0,L15),2)) | Q15: =IF(COUNTA(A15:B15,D15:K15,N15:P15)=0,"",IF(A15="","ID manquant",IF(B15="","Date manquante",IF(B15>'Paramètres'!$B$5,"Date postérieure au contrôle",IF(COUNTIFS(Budget!$A$2:$A$101,F15,Budget!$B$2:$B$101,G15)=0,"Lot/poste hors budget",IF(J15<=0,"Montant invalide",IF(AND(O15="Non",N15<>"Annulée"),"Justificatif manquant",IF(N15="Saisie","À contrôler","")))))))) | S15: ='Paramètres'!$E$15
C16: =IF(B16="","",DATE(YEAR(B16),MONTH(B16),1)) | L16: =IF(OR(J16="",K16=""),"",ROUND(J16*K16,2)) | M16: =IF(J16="","",ROUND(J16+IF(L16="",0,L16),2)) | Q16: =IF(COUNTA(A16:B16,D16:K16,N16:P16)=0,"",IF(A16="","ID manquant",IF(B16="","Date manquante",IF(B16>'Paramètres'!$B$5,"Date postérieure au contrôle",IF(COUNTIFS(Budget!$A$2:$A$101,F16,Budget!$B$2:$B$101,G16)=0,"Lot/poste hors budget",IF(J16<=0,"Montant invalide",IF(AND(O16="Non",N16<>"Annulée"),"Justificatif manquant",IF(N16="Saisie","À contrôler",""))))))))
C17: =IF(B17="","",DATE(YEAR(B17),MONTH(B17),1)) | L17: =IF(OR(J17="",K17=""),"",ROUND(J17*K17,2)) | M17: =IF(J17="","",ROUND(J17+IF(L17="",0,L17),2)) | Q17: =IF(COUNTA(A17:B17,D17:K17,N17:P17)=0,"",IF(A17="","ID manquant",IF(B17="","Date manquante",IF(B17>'Paramètres'!$B$5,"Date postérieure au contrôle",IF(COUNTIFS(Budget!$A$2:$A$101,F17,Budget!$B$2:$B$101,G17)=0,"Lot/poste hors budget",IF(J17<=0,"Montant invalide",IF(AND(O17="Non",N17<>"Annulée"),"Justificatif manquant",IF(N17="Saisie","À contrôler",""))))))))
C18: =IF(B18="","",DATE(YEAR(B18),MONTH(B18),1)) | L18: =IF(OR(J18="",K18=""),"",ROUND(J18*K18,2)) | M18: =IF(J18="","",ROUND(J18+IF(L18="",0,L18),2)) | Q18: =IF(COUNTA(A18:B18,D18:K18,N18:P18)=0,"",IF(A18="","ID manquant",IF(B18="","Date manquante",IF(B18>'Paramètres'!$B$5,"Date postérieure au contrôle",IF(COUNTIFS(Budget!$A$2:$A$101,F18,Budget!$B$2:$B$101,G18)=0,"Lot/poste hors budget",IF(J18<=0,"Montant invalide",IF(AND(O18="Non",N18<>"Annulée"),"Justificatif manquant",IF(N18="Saisie","À contrôler",""))))))))
C19: =IF(B19="","",DATE(YEAR(B19),MONTH(B19),1)) | L19: =IF(OR(J19="",K19=""),"",ROUND(J19*K19,2)) | M19: =IF(J19="","",ROUND(J19+IF(L19="",0,L19),2)) | Q19: =IF(COUNTA(A19:B19,D19:K19,N19:P19)=0,"",IF(A19="","ID manquant",IF(B19="","Date manquante",IF(B19>'Paramètres'!$B$5,"Date postérieure au contrôle",IF(COUNTIFS(Budget!$A$2:$A$101,F19,Budget!$B$2:$B$101,G19)=0,"Lot/poste hors budget",IF(J19<=0,"Montant invalide",IF(AND(O19="Non",N19<>"Annulée"),"Justificatif manquant",IF(N19="Saisie","À contrôler",""))))))))
C20: =IF(B20="","",DATE(YEAR(B20),MONTH(B20),1)) | L20: =IF(OR(J20="",K20=""),"",ROUND(J20*K20,2)) | M20: =IF(J20="","",ROUND(J20+IF(L20="",0,L20),2)) | Q20: =IF(COUNTA(A20:B20,D20:K20,N20:P20)=0,"",IF(A20="","ID manquant",IF(B20="","Date manquante",IF(B20>'Paramètres'!$B$5,"Date postérieure au contrôle",IF(COUNTIFS(Budget!$A$2:$A$101,F20,Budget!$B$2:$B$101,G20)=0,"Lot/poste hors budget",IF(J20<=0,"Montant invalide",IF(AND(O20="Non",N20<>"Annulée"),"Justificatif manquant",IF(N20="Saisie","À contrôler",""))))))))
C21: =IF(B21="","",DATE(YEAR(B21),MONTH(B21),1)) | L21: =IF(OR(J21="",K21=""),"",ROUND(J21*K21,2)) | M21: =IF(J21="","",ROUND(J21+IF(L21="",0,L21),2)) | Q21: =IF(COUNTA(A21:B21,D21:K21,N21:P21)=0,"",IF(A21="","ID manquant",IF(B21="","Date manquante",IF(B21>'Paramètres'!$B$5,"Date postérieure au contrôle",IF(COUNTIFS(Budget!$A$2:$A$101,F21,Budget!$B$2:$B$101,G21)=0,"Lot/poste hors budget",IF(J21<=0,"Montant invalide",IF(AND(O21="Non",N21<>"Annulée"),"Justificatif manquant",IF(N21="Saisie","À contrôler",""))))))))
C22: =IF(B22="","",DATE(YEAR(B22),MONTH(B22),1)) | L22: =IF(OR(J22="",K22=""),"",ROUND(J22*K22,2)) | M22: =IF(J22="","",ROUND(J22+IF(L22="",0,L22),2)) | Q22: =IF(COUNTA(A22:B22,D22:K22,N22:P22)=0,"",IF(A22="","ID manquant",IF(B22="","Date manquante",IF(B22>'Paramètres'!$B$5,"Date postérieure au contrôle",IF(COUNTIFS(Budget!$A$2:$A$101,F22,Budget!$B$2:$B$101,G22)=0,"Lot/poste hors budget",IF(J22<=0,"Montant invalide",IF(AND(O22="Non",N22<>"Annulée"),"Justificatif manquant",IF(N22="Saisie","À contrôler",""))))))))
C23: =IF(B23="","",DATE(YEAR(B23),MONTH(B23),1)) | L23: =IF(OR(J23="",K23=""),"",ROUND(J23*K23,2)) | M23: =IF(J23="","",ROUND(J23+IF(L23="",0,L23),2)) | Q23: =IF(COUNTA(A23:B23,D23:K23,N23:P23)=0,"",IF(A23="","ID manquant",IF(B23="","Date manquante",IF(B23>'Paramètres'!$B$5,"Date postérieure au contrôle",IF(COUNTIFS(Budget!$A$2:$A$101,F23,Budget!$B$2:$B$101,G23)=0,"Lot/poste hors budget",IF(J23<=0,"Montant invalide",IF(AND(O23="Non",N23<>"Annulée"),"Justificatif manquant",IF(N23="Saisie","À contrôler",""))))))))
C24: =IF(B24="","",DATE(YEAR(B24),MONTH(B24),1)) | L24: =IF(OR(J24="",K24=""),"",ROUND(J24*K24,2)) | M24: =IF(J24="","",ROUND(J24+IF(L24="",0,L24),2)) | Q24: =IF(COUNTA(A24:B24,D24:K24,N24:P24)=0,"",IF(A24="","ID manquant",IF(B24="","Date manquante",IF(B24>'Paramètres'!$B$5,"Date postérieure au contrôle",IF(COUNTIFS(Budget!$A$2:$A$101,F24,Budget!$B$2:$B$101,G24)=0,"Lot/poste hors budget",IF(J24<=0,"Montant invalide",IF(AND(O24="Non",N24<>"Annulée"),"Justificatif manquant",IF(N24="Saisie","À contrôler",""))))))))
C25: =IF(B25="","",DATE(YEAR(B25),MONTH(B25),1)) | L25: =IF(OR(J25="",K25=""),"",ROUND(J25*K25,2)) | M25: =IF(J25="","",ROUND(J25+IF(L25="",0,L25),2)) | Q25: =IF(COUNTA(A25:B25,D25:K25,N25:P25)=0,"",IF(A25="","ID manquant",IF(B25="","Date manquante",IF(B25>'Paramètres'!$B$5,"Date postérieure au contrôle",IF(COUNTIFS(Budget!$A$2:$A$101,F25,Budget!$B$2:$B$101,G25)=0,"Lot/poste hors budget",IF(J25<=0,"Montant invalide",IF(AND(O25="Non",N25<>"Annulée"),"Justificatif manquant",IF(N25="Saisie","À contrôler",""))))))))
C26: =IF(B26="","",DATE(YEAR(B26),MONTH(B26),1)) | L26: =IF(OR(J26="",K26=""),"",ROUND(J26*K26,2)) | M26: =IF(J26="","",ROUND(J26+IF(L26="",0,L26),2)) | Q26: =IF(COUNTA(A26:B26,D26:K26,N26:P26)=0,"",IF(A26="","ID manquant",IF(B26="","Date manquante",IF(B26>'Paramètres'!$B$5,"Date postérieure au contrôle",IF(COUNTIFS(Budget!$A$2:$A$101,F26,Budget!$B$2:$B$101,G26)=0,"Lot/poste hors budget",IF(J26<=0,"Montant invalide",IF(AND(O26="Non",N26<>"Annulée"),"Justificatif manquant",IF(N26="Saisie","À contrôler",""))))))))
C27: =IF(B27="","",DATE(YEAR(B27),MONTH(B27),1)) | L27: =IF(OR(J27="",K27=""),"",ROUND(J27*K27,2)) | M27: =IF(J27="","",ROUND(J27+IF(L27="",0,L27),2)) | Q27: =IF(COUNTA(A27:B27,D27:K27,N27:P27)=0,"",IF(A27="","ID manquant",IF(B27="","Date manquante",IF(B27>'Paramètres'!$B$5,"Date postérieure au contrôle",IF(COUNTIFS(Budget!$A$2:$A$101,F27,Budget!$B$2:$B$101,G27)=0,"Lot/poste hors budget",IF(J27<=0,"Montant invalide",IF(AND(O27="Non",N27<>"Annulée"),"Justificatif manquant",IF(N27="Saisie","À contrôler",""))))))))
... C201: =IF(B201="","",DATE(YEAR(B201),MONTH(B201),1)) | L201: =IF(OR(J201="",K201=""),"",ROUND(J201*K201,2)) | M201: =IF(J201="","",ROUND(J201+IF(L201="",0,L201),2)) | Q201: =IF(COUNTA(A201:B201,D201:K201,N201:P201)=0,"",IF(A201="","ID manquant",IF(B201="","Date manquante",IF(B201>'Paramètres'!$B$5,"Date postérieure au contrôle",IF(COUNTIFS(Budget!$A$2:$A$101,F201,Budget!$B$2:$B$101,G201)=0,"Lot/poste hors budget",IF(J201<=0,"Montant invalide",IF(AND(O201="Non",N201<>"Annulée"),"Justificatif manquant",IF(N201="Saisie","À contrôler",""))))))))

Sheet Budget
A1: Lot | B1: Poste | C1: Clé | D1: Budget HT | E1: Consommé HT | F1: Reste HT | G1: Taux de consommation | H1: Alerte budget | J1: Lots | K1: Postes | L1: Seuil
A2: Lot 01 | B2: Base vie | C2: =IF(OR(A2="",B2=""),"",A2&"|"&B2) | D2: 2000 | E2: =IF(C2="","",SUMIFS('Dépenses'!$J$2:$J$201,'Dépenses'!$F$2:$F$201,A2,'Dépenses'!$G$2:$G$201,B2,'Dépenses'!$N$2:$N$201,"Saisie")+SUMIFS('Dépenses'!$J$2:$J$201,'Dépenses'!$F$2:$F$201,A2,'Dépenses'!$G$2:$G$201,B2,'Dépenses'!$N$2:$N$201,"Contrôlée")) | F2: =IF(D2="","",D2-E2) | G2: =IF(D2="","",IFERROR(E2/D2,0)) | H2: =IF(C2="","",IF(D2<=0,"Budget absent",IF(F2<0,"Budget dépassé",IF(G2>='Paramètres'!$B$6,"Seuil atteint","")))) | J2: ='Paramètres'!$D$2 | K2: ='Paramètres'!$E$2 | L2: ='Paramètres'!$B$6
A3: Lot 03 | B3: Béton | C3: =IF(OR(A3="",B3=""),"",A3&"|"&B3) | D3: 5000 | E3: =IF(C3="","",SUMIFS('Dépenses'!$J$2:$J$201,'Dépenses'!$F$2:$F$201,A3,'Dépenses'!$G$2:$G$201,B3,'Dépenses'!$N$2:$N$201,"Saisie")+SUMIFS('Dépenses'!$J$2:$J$201,'Dépenses'!$F$2:$F$201,A3,'Dépenses'!$G$2:$G$201,B3,'Dépenses'!$N$2:$N$201,"Contrôlée")) | F3: =IF(D3="","",D3-E3) | G3: =IF(D3="","",IFERROR(E3/D3,0)) | H3: =IF(C3="","",IF(D3<=0,"Budget absent",IF(F3<0,"Budget dépassé",IF(G3>='Paramètres'!$B$6,"Seuil atteint","")))) | J3: ='Paramètres'!$D$3 | K3: ='Paramètres'!$E$3
A4: Lot 02 | B4: Évacuation | C4: =IF(OR(A4="",B4=""),"",A4&"|"&B4) | D4: 3000 | E4: =IF(C4="","",SUMIFS('Dépenses'!$J$2:$J$201,'Dépenses'!$F$2:$F$201,A4,'Dépenses'!$G$2:$G$201,B4,'Dépenses'!$N$2:$N$201,"Saisie")+SUMIFS('Dépenses'!$J$2:$J$201,'Dépenses'!$F$2:$F$201,A4,'Dépenses'!$G$2:$G$201,B4,'Dépenses'!$N$2:$N$201,"Contrôlée")) | F4: =IF(D4="","",D4-E4) | G4: =IF(D4="","",IFERROR(E4/D4,0)) | H4: =IF(C4="","",IF(D4<=0,"Budget absent",IF(F4<0,"Budget dépassé",IF(G4>='Paramètres'!$B$6,"Seuil atteint","")))) | J4: ='Paramètres'!$D$4 | K4: ='Paramètres'!$E$4
A5: Lot 04 | B5: Isolation | C5: =IF(OR(A5="",B5=""),"",A5&"|"&B5) | D5: 2600 | E5: =IF(C5="","",SUMIFS('Dépenses'!$J$2:$J$201,'Dépenses'!$F$2:$F$201,A5,'Dépenses'!$G$2:$G$201,B5,'Dépenses'!$N$2:$N$201,"Saisie")+SUMIFS('Dépenses'!$J$2:$J$201,'Dépenses'!$F$2:$F$201,A5,'Dépenses'!$G$2:$G$201,B5,'Dépenses'!$N$2:$N$201,"Contrôlée")) | F5: =IF(D5="","",D5-E5) | G5: =IF(D5="","",IFERROR(E5/D5,0)) | H5: =IF(C5="","",IF(D5<=0,"Budget absent",IF(F5<0,"Budget dépassé",IF(G5>='Paramètres'!$B$6,"Seuil atteint","")))) | J5: ='Paramètres'!$D$5 | K5: ='Paramètres'!$E$5
A6: Lot 05 | B6: Réseaux EF/EC | C6: =IF(OR(A6="",B6=""),"",A6&"|"&B6) | D6: 1500 | E6: =IF(C6="","",SUMIFS('Dépenses'!$J$2:$J$201,'Dépenses'!$F$2:$F$201,A6,'Dépenses'!$G$2:$G$201,B6,'Dépenses'!$N$2:$N$201,"Saisie")+SUMIFS('Dépenses'!$J$2:$J$201,'Dépenses'!$F$2:$F$201,A6,'Dépenses'!$G$2:$G$201,B6,'Dépenses'!$N$2:$N$201,"Contrôlée")) | F6: =IF(D6="","",D6-E6) | G6: =IF(D6="","",IFERROR(E6/D6,0)) | H6: =IF(C6="","",IF(D6<=0,"Budget absent",IF(F6<0,"Budget dépassé",IF(G6>='Paramètres'!$B$6,"Seuil atteint","")))) | J6: ='Paramètres'!$D$6 | K6: ='Paramètres'!$E$6
A7: Lot 06 | B7: Câblage | C7: =IF(OR(A7="",B7=""),"",A7&"|"&B7) | D7: 2000 | E7: =IF(C7="","",SUMIFS('Dépenses'!$J$2:$J$201,'Dépenses'!$F$2:$F$201,A7,'Dépenses'!$G$2:$G$201,B7,'Dépenses'!$N$2:$N$201,"Saisie")+SUMIFS('Dépenses'!$J$2:$J$201,'Dépenses'!$F$2:$F$201,A7,'Dépenses'!$G$2:$G$201,B7,'Dépenses'!$N$2:$N$201,"Contrôlée")) | F7: =IF(D7="","",D7-E7) | G7: =IF(D7="","",IFERROR(E7/D7,0)) | H7: =IF(C7="","",IF(D7<=0,"Budget absent",IF(F7<0,"Budget dépassé",IF(G7>='Paramètres'!$B$6,"Seuil atteint","")))) | J7: ='Paramètres'!$D$7 | K7: ='Paramètres'!$E$7
A8: Lot 07 | B8: Portes | C8: =IF(OR(A8="",B8=""),"",A8&"|"&B8) | D8: 3500 | E8: =IF(C8="","",SUMIFS('Dépenses'!$J$2:$J$201,'Dépenses'!$F$2:$F$201,A8,'Dépenses'!$G$2:$G$201,B8,'Dépenses'!$N$2:$N$201,"Saisie")+SUMIFS('Dépenses'!$J$2:$J$201,'Dépenses'!$F$2:$F$201,A8,'Dépenses'!$G$2:$G$201,B8,'Dépenses'!$N$2:$N$201,"Contrôlée")) | F8: =IF(D8="","",D8-E8) | G8: =IF(D8="","",IFERROR(E8/D8,0)) | H8: =IF(C8="","",IF(D8<=0,"Budget absent",IF(F8<0,"Budget dépassé",IF(G8>='Paramètres'!$B$6,"Seuil atteint","")))) | J8: ='Paramètres'!$D$8 | K8: ='Paramètres'!$E$8
A9: Lot 08 | B9: Peinture murs | C9: =IF(OR(A9="",B9=""),"",A9&"|"&B9) | D9: 1200 | E9: =IF(C9="","",SUMIFS('Dépenses'!$J$2:$J$201,'Dépenses'!$F$2:$F$201,A9,'Dépenses'!$G$2:$G$201,B9,'Dépenses'!$N$2:$N$201,"Saisie")+SUMIFS('Dépenses'!$J$2:$J$201,'Dépenses'!$F$2:$F$201,A9,'Dépenses'!$G$2:$G$201,B9,'Dépenses'!$N$2:$N$201,"Contrôlée")) | F9: =IF(D9="","",D9-E9) | G9: =IF(D9="","",IFERROR(E9/D9,0)) | H9: =IF(C9="","",IF(D9<=0,"Budget absent",IF(F9<0,"Budget dépassé",IF(G9>='Paramètres'!$B$6,"Seuil atteint","")))) | J9: ='Paramètres'!$D$9 | K9: ='Paramètres'!$E$9
A10: Lot 03 | B10: Acier | C10: =IF(OR(A10="",B10=""),"",A10&"|"&B10) | D10: 2500 | E10: =IF(C10="","",SUMIFS('Dépenses'!$J$2:$J$201,'Dépenses'!$F$2:$F$201,A10,'Dépenses'!$G$2:$G$201,B10,'Dépenses'!$N$2:$N$201,"Saisie")+SUMIFS('Dépenses'!$J$2:$J$201,'Dépenses'!$F$2:$F$201,A10,'Dépenses'!$G$2:$G$201,B10,'Dépenses'!$N$2:$N$201,"Contrôlée")) | F10: =IF(D10="","",D10-E10) | G10: =IF(D10="","",IFERROR(E10/D10,0)) | H10: =IF(C10="","",IF(D10<=0,"Budget absent",IF(F10<0,"Budget dépassé",IF(G10>='Paramètres'!$B$6,"Seuil atteint","")))) | J10: ='Paramètres'!$D$10 | K10: ='Paramètres'!$E$10
A11: Lot 09 | B11: Benne | C11: =IF(OR(A11="",B11=""),"",A11&"|"&B11) | D11: 1000 | E11: =IF(C11="","",SUMIFS('Dépenses'!$J$2:$J$201,'Dépenses'!$F$2:$F$201,A11,'Dépenses'!$G$2:$G$201,B11,'Dépenses'!$N$2:$N$201,"Saisie")+SUMIFS('Dépenses'!$J$2:$J$201,'Dépenses'!$F$2:$F$201,A11,'Dépenses'!$G$2:$G$201,B11,'Dépenses'!$N$2:$N$201,"Contrôlée")) | F11: =IF(D11="","",D11-E11) | G11: =IF(D11="","",IFERROR(E11/D11,0)) | H11: =IF(C11="","",IF(D11<=0,"Budget absent",IF(F11<0,"Budget dépassé",IF(G11>='Paramètres'!$B$6,"Seuil atteint","")))) | K11: ='Paramètres'!$E$11
C12: =IF(OR(A12="",B12=""),"",A12&"|"&B12) | E12: =IF(C12="","",SUMIFS('Dépenses'!$J$2:$J$201,'Dépenses'!$F$2:$F$201,A12,'Dépenses'!$G$2:$G$201,B12,'Dépenses'!$N$2:$N$201,"Saisie")+SUMIFS('Dépenses'!$J$2:$J$201,'Dépenses'!$F$2:$F$201,A12,'Dépenses'!$G$2:$G$201,B12,'Dépenses'!$N$2:$N$201,"Contrôlée")) | F12: =IF(D12="","",D12-E12) | G12: =IF(D12="","",IFERROR(E12/D12,0)) | H12: =IF(C12="","",IF(D12<=0,"Budget absent",IF(F12<0,"Budget dépassé",IF(G12>='Paramètres'!$B$6,"Seuil atteint","")))) | K12: ='Paramètres'!$E$12
C13: =IF(OR(A13="",B13=""),"",A13&"|"&B13) | E13: =IF(C13="","",SUMIFS('Dépenses'!$J$2:$J$201,'Dépenses'!$F$2:$F$201,A13,'Dépenses'!$G$2:$G$201,B13,'Dépenses'!$N$2:$N$201,"Saisie")+SUMIFS('Dépenses'!$J$2:$J$201,'Dépenses'!$F$2:$F$201,A13,'Dépenses'!$G$2:$G$201,B13,'Dépenses'!$N$2:$N$201,"Contrôlée")) | F13: =IF(D13="","",D13-E13) | G13: =IF(D13="","",IFERROR(E13/D13,0)) | H13: =IF(C13="","",IF(D13<=0,"Budget absent",IF(F13<0,"Budget dépassé",IF(G13>='Paramètres'!$B$6,"Seuil atteint","")))) | K13: ='Paramètres'!$E$13
C14: =IF(OR(A14="",B14=""),"",A14&"|"&B14) | E14: =IF(C14="","",SUMIFS('Dépenses'!$J$2:$J$201,'Dépenses'!$F$2:$F$201,A14,'Dépenses'!$G$2:$G$201,B14,'Dépenses'!$N$2:$N$201,"Saisie")+SUMIFS('Dépenses'!$J$2:$J$201,'Dépenses'!$F$2:$F$201,A14,'Dépenses'!$G$2:$G$201,B14,'Dépenses'!$N$2:$N$201,"Contrôlée")) | F14: =IF(D14="","",D14-E14) | G14: =IF(D14="","",IFERROR(E14/D14,0)) | H14: =IF(C14="","",IF(D14<=0,"Budget absent",IF(F14<0,"Budget dépassé",IF(G14>='Paramètres'!$B$6,"Seuil atteint","")))) | K14: ='Paramètres'!$E$14
C15: =IF(OR(A15="",B15=""),"",A15&"|"&B15) | E15: =IF(C15="","",SUMIFS('Dépenses'!$J$2:$J$201,'Dépenses'!$F$2:$F$201,A15,'Dépenses'!$G$2:$G$201,B15,'Dépenses'!$N$2:$N$201,"Saisie")+SUMIFS('Dépenses'!$J$2:$J$201,'Dépenses'!$F$2:$F$201,A15,'Dépenses'!$G$2:$G$201,B15,'Dépenses'!$N$2:$N$201,"Contrôlée")) | F15: =IF(D15="","",D15-E15) | G15: =IF(D15="","",IFERROR(E15/D15,0)) | H15: =IF(C15="","",IF(D15<=0,"Budget absent",IF(F15<0,"Budget dépassé",IF(G15>='Paramètres'!$B$6,"Seuil atteint","")))) | K15: ='Paramètres'!$E$15
C16: =IF(OR(A16="",B16=""),"",A16&"|"&B16) | E16: =IF(C16="","",SUMIFS('Dépenses'!$J$2:$J$201,'Dépenses'!$F$2:$F$201,A16,'Dépenses'!$G$2:$G$201,B16,'Dépenses'!$N$2:$N$201,"Saisie")+SUMIFS('Dépenses'!$J$2:$J$201,'Dépenses'!$F$2:$F$201,A16,'Dépenses'!$G$2:$G$201,B16,'Dépenses'!$N$2:$N$201,"Contrôlée")) | F16: =IF(D16="","",D16-E16) | G16: =IF(D16="","",IFERROR(E16/D16,0)) | H16: =IF(C16="","",IF(D16<=0,"Budget absent",IF(F16<0,"Budget dépassé",IF(G16>='Paramètres'!$B$6,"Seuil atteint",""))))
C17: =IF(OR(A17="",B17=""),"",A17&"|"&B17) | E17: =IF(C17="","",SUMIFS('Dépenses'!$J$2:$J$201,'Dépenses'!$F$2:$F$201,A17,'Dépenses'!$G$2:$G$201,B17,'Dépenses'!$N$2:$N$201,"Saisie")+SUMIFS('Dépenses'!$J$2:$J$201,'Dépenses'!$F$2:$F$201,A17,'Dépenses'!$G$2:$G$201,B17,'Dépenses'!$N$2:$N$201,"Contrôlée")) | F17: =IF(D17="","",D17-E17) | G17: =IF(D17="","",IFERROR(E17/D17,0)) | H17: =IF(C17="","",IF(D17<=0,"Budget absent",IF(F17<0,"Budget dépassé",IF(G17>='Paramètres'!$B$6,"Seuil atteint",""))))
C18: =IF(OR(A18="",B18=""),"",A18&"|"&B18) | E18: =IF(C18="","",SUMIFS('Dépenses'!$J$2:$J$201,'Dépenses'!$F$2:$F$201,A18,'Dépenses'!$G$2:$G$201,B18,'Dépenses'!$N$2:$N$201,"Saisie")+SUMIFS('Dépenses'!$J$2:$J$201,'Dépenses'!$F$2:$F$201,A18,'Dépenses'!$G$2:$G$201,B18,'Dépenses'!$N$2:$N$201,"Contrôlée")) | F18: =IF(D18="","",D18-E18) | G18: =IF(D18="","",IFERROR(E18/D18,0)) | H18: =IF(C18="","",IF(D18<=0,"Budget absent",IF(F18<0,"Budget dépassé",IF(G18>='Paramètres'!$B$6,"Seuil atteint",""))))
C19: =IF(OR(A19="",B19=""),"",A19&"|"&B19) | E19: =IF(C19="","",SUMIFS('Dépenses'!$J$2:$J$201,'Dépenses'!$F$2:$F$201,A19,'Dépenses'!$G$2:$G$201,B19,'Dépenses'!$N$2:$N$201,"Saisie")+SUMIFS('Dépenses'!$J$2:$J$201,'Dépenses'!$F$2:$F$201,A19,'Dépenses'!$G$2:$G$201,B19,'Dépenses'!$N$2:$N$201,"Contrôlée")) | F19: =IF(D19="","",D19-E19) | G19: =IF(D19="","",IFERROR(E19/D19,0)) | H19: =IF(C19="","",IF(D19<=0,"Budget absent",IF(F19<0,"Budget dépassé",IF(G19>='Paramètres'!$B$6,"Seuil atteint",""))))
C20: =IF(OR(A20="",B20=""),"",A20&"|"&B20) | E20: =IF(C20="","",SUMIFS('Dépenses'!$J$2:$J$201,'Dépenses'!$F$2:$F$201,A20,'Dépenses'!$G$2:$G$201,B20,'Dépenses'!$N$2:$N$201,"Saisie")+SUMIFS('Dépenses'!$J$2:$J$201,'Dépenses'!$F$2:$F$201,A20,'Dépenses'!$G$2:$G$201,B20,'Dépenses'!$N$2:$N$201,"Contrôlée")) | F20: =IF(D20="","",D20-E20) | G20: =IF(D20="","",IFERROR(E20/D20,0)) | H20: =IF(C20="","",IF(D20<=0,"Budget absent",IF(F20<0,"Budget dépassé",IF(G20>='Paramètres'!$B$6,"Seuil atteint",""))))
C21: =IF(OR(A21="",B21=""),"",A21&"|"&B21) | E21: =IF(C21="","",SUMIFS('Dépenses'!$J$2:$J$201,'Dépenses'!$F$2:$F$201,A21,'Dépenses'!$G$2:$G$201,B21,'Dépenses'!$N$2:$N$201,"Saisie")+SUMIFS('Dépenses'!$J$2:$J$201,'Dépenses'!$F$2:$F$201,A21,'Dépenses'!$G$2:$G$201,B21,'Dépenses'!$N$2:$N$201,"Contrôlée")) | F21: =IF(D21="","",D21-E21) | G21: =IF(D21="","",IFERROR(E21/D21,0)) | H21: =IF(C21="","",IF(D21<=0,"Budget absent",IF(F21<0,"Budget dépassé",IF(G21>='Paramètres'!$B$6,"Seuil atteint",""))))
C22: =IF(OR(A22="",B22=""),"",A22&"|"&B22) | E22: =IF(C22="","",SUMIFS('Dépenses'!$J$2:$J$201,'Dépenses'!$F$2:$F$201,A22,'Dépenses'!$G$2:$G$201,B22,'Dépenses'!$N$2:$N$201,"Saisie")+SUMIFS('Dépenses'!$J$2:$J$201,'Dépenses'!$F$2:$F$201,A22,'Dépenses'!$G$2:$G$201,B22,'Dépenses'!$N$2:$N$201,"Contrôlée")) | F22: =IF(D22="","",D22-E22) | G22: =IF(D22="","",IFERROR(E22/D22,0)) | H22: =IF(C22="","",IF(D22<=0,"Budget absent",IF(F22<0,"Budget dépassé",IF(G22>='Paramètres'!$B$6,"Seuil atteint",""))))
C23: =IF(OR(A23="",B23=""),"",A23&"|"&B23) | E23: =IF(C23="","",SUMIFS('Dépenses'!$J$2:$J$201,'Dépenses'!$F$2:$F$201,A23,'Dépenses'!$G$2:$G$201,B23,'Dépenses'!$N$2:$N$201,"Saisie")+SUMIFS('Dépenses'!$J$2:$J$201,'Dépenses'!$F$2:$F$201,A23,'Dépenses'!$G$2:$G$201,B23,'Dépenses'!$N$2:$N$201,"Contrôlée")) | F23: =IF(D23="","",D23-E23) | G23: =IF(D23="","",IFERROR(E23/D23,0)) | H23: =IF(C23="","",IF(D23<=0,"Budget absent",IF(F23<0,"Budget dépassé",IF(G23>='Paramètres'!$B$6,"Seuil atteint",""))))
C24: =IF(OR(A24="",B24=""),"",A24&"|"&B24) | E24: =IF(C24="","",SUMIFS('Dépenses'!$J$2:$J$201,'Dépenses'!$F$2:$F$201,A24,'Dépenses'!$G$2:$G$201,B24,'Dépenses'!$N$2:$N$201,"Saisie")+SUMIFS('Dépenses'!$J$2:$J$201,'Dépenses'!$F$2:$F$201,A24,'Dépenses'!$G$2:$G$201,B24,'Dépenses'!$N$2:$N$201,"Contrôlée")) | F24: =IF(D24="","",D24-E24) | G24: =IF(D24="","",IFERROR(E24/D24,0)) | H24: =IF(C24="","",IF(D24<=0,"Budget absent",IF(F24<0,"Budget dépassé",IF(G24>='Paramètres'!$B$6,"Seuil atteint",""))))
C25: =IF(OR(A25="",B25=""),"",A25&"|"&B25) | E25: =IF(C25="","",SUMIFS('Dépenses'!$J$2:$J$201,'Dépenses'!$F$2:$F$201,A25,'Dépenses'!$G$2:$G$201,B25,'Dépenses'!$N$2:$N$201,"Saisie")+SUMIFS('Dépenses'!$J$2:$J$201,'Dépenses'!$F$2:$F$201,A25,'Dépenses'!$G$2:$G$201,B25,'Dépenses'!$N$2:$N$201,"Contrôlée")) | F25: =IF(D25="","",D25-E25) | G25: =IF(D25="","",IFERROR(E25/D25,0)) | H25: =IF(C25="","",IF(D25<=0,"Budget absent",IF(F25<0,"Budget dépassé",IF(G25>='Paramètres'!$B$6,"Seuil atteint",""))))
C26: =IF(OR(A26="",B26=""),"",A26&"|"&B26) | E26: =IF(C26="","",SUMIFS('Dépenses'!$J$2:$J$201,'Dépenses'!$F$2:$F$201,A26,'Dépenses'!$G$2:$G$201,B26,'Dépenses'!$N$2:$N$201,"Saisie")+SUMIFS('Dépenses'!$J$2:$J$201,'Dépenses'!$F$2:$F$201,A26,'Dépenses'!$G$2:$G$201,B26,'Dépenses'!$N$2:$N$201,"Contrôlée")) | F26: =IF(D26="","",D26-E26) | G26: =IF(D26="","",IFERROR(E26/D26,0)) | H26: =IF(C26="","",IF(D26<=0,"Budget absent",IF(F26<0,"Budget dépassé",IF(G26>='Paramètres'!$B$6,"Seuil atteint",""))))
C27: =IF(OR(A27="",B27=""),"",A27&"|"&B27) | E27: =IF(C27="","",SUMIFS('Dépenses'!$J$2:$J$201,'Dépenses'!$F$2:$F$201,A27,'Dépenses'!$G$2:$G$201,B27,'Dépenses'!$N$2:$N$201,"Saisie")+SUMIFS('Dépenses'!$J$2:$J$201,'Dépenses'!$F$2:$F$201,A27,'Dépenses'!$G$2:$G$201,B27,'Dépenses'!$N$2:$N$201,"Contrôlée")) | F27: =IF(D27="","",D27-E27) | G27: =IF(D27="","",IFERROR(E27/D27,0)) | H27: =IF(C27="","",IF(D27<=0,"Budget absent",IF(F27<0,"Budget dépassé",IF(G27>='Paramètres'!$B$6,"Seuil atteint",""))))
... C101: =IF(OR(A101="",B101=""),"",A101&"|"&B101) | E101: =IF(C101="","",SUMIFS('Dépenses'!$J$2:$J$201,'Dépenses'!$F$2:$F$201,A101,'Dépenses'!$G$2:$G$201,B101,'Dépenses'!$N$2:$N$201,"Saisie")+SUMIFS('Dépenses'!$J$2:$J$201,'Dépenses'!$F$2:$F$201,A101,'Dépenses'!$G$2:$G$201,B101,'Dépenses'!$N$2:$N$201,"Contrôlée")) | F101: =IF(D101="","",D101-E101) | G101: =IF(D101="","",IFERROR(E101/D101,0)) | H101: =IF(C101="","",IF(D101<=0,"Budget absent",IF(F101<0,"Budget dépassé",IF(G101>='Paramètres'!$B$6,"Seuil atteint",""))))
