Workbook

Sheet Synthèse
A1: Synthèse de ventilation — chantier Démo Aurore (fictif)
A2: Contrôle interne avant utilisation dans une analyse de coûts.
A3: Total retenu | B3: =SUM('Frais généraux'!$I$2:$I$151) | D3: Début d’analyse | E3: ='Paramètres'!B3
A4: Total affecté | B4: =SUM('Ventilation'!$J$2:$J$501) | D4: Fin d’analyse | E4: ='Paramètres'!B4
A5: Écart global | B5: =B3-B4 | D5: Tolérance modifiable | E5: ='Paramètres'!B2
A6: Frais soldés | B6: =COUNTIFS('Frais généraux'!$L$2:$L$151,"Soldé")
A7: Anomalies de ventilation | B7: =COUNTIFS('Ventilation'!$I$2:$I$501,"<>",'Ventilation'!$A$2:$A$501,"<>")
A8: Taux ventilé | B8: =IFERROR(B4/B3,0)
A10: Décision de contrôle | B10: =IF(OR(ABS(B5)>'Paramètres'!$B$2,B7>0),"À corriger","Ventilation acceptable")
A13: Destination | B13: Montant affecté (€) | C13: Part du total | E13: Destination | F13: Montant affecté (€) | G13: Part du total
A14: =IF('Paramètres'!E2="","",'Paramètres'!E2) | B14: =IF(A14="","",SUMIFS('Ventilation'!$J$2:$J$501,'Ventilation'!$B$2:$B$501,"Lot",'Ventilation'!$C$2:$C$501,A14)) | C14: =IF(A14="","",IFERROR(B14/$B$4,0)) | E14: =IF('Paramètres'!I2="","",'Paramètres'!I2) | F14: =IF(E14="","",SUMIFS('Ventilation'!$J$2:$J$501,'Ventilation'!$B$2:$B$501,"Période",'Ventilation'!$D$2:$D$501,E14)) | G14: =IF(E14="","",IFERROR(F14/$B$4,0))
A15: =IF('Paramètres'!E3="","",'Paramètres'!E3) | B15: =IF(A15="","",SUMIFS('Ventilation'!$J$2:$J$501,'Ventilation'!$B$2:$B$501,"Lot",'Ventilation'!$C$2:$C$501,A15)) | C15: =IF(A15="","",IFERROR(B15/$B$4,0)) | E15: =IF('Paramètres'!I3="","",'Paramètres'!I3) | F15: =IF(E15="","",SUMIFS('Ventilation'!$J$2:$J$501,'Ventilation'!$B$2:$B$501,"Période",'Ventilation'!$D$2:$D$501,E15)) | G15: =IF(E15="","",IFERROR(F15/$B$4,0))
A16: =IF('Paramètres'!E4="","",'Paramètres'!E4) | B16: =IF(A16="","",SUMIFS('Ventilation'!$J$2:$J$501,'Ventilation'!$B$2:$B$501,"Lot",'Ventilation'!$C$2:$C$501,A16)) | C16: =IF(A16="","",IFERROR(B16/$B$4,0)) | E16: =IF('Paramètres'!I4="","",'Paramètres'!I4) | F16: =IF(E16="","",SUMIFS('Ventilation'!$J$2:$J$501,'Ventilation'!$B$2:$B$501,"Période",'Ventilation'!$D$2:$D$501,E16)) | G16: =IF(E16="","",IFERROR(F16/$B$4,0))
A17: =IF('Paramètres'!E5="","",'Paramètres'!E5) | B17: =IF(A17="","",SUMIFS('Ventilation'!$J$2:$J$501,'Ventilation'!$B$2:$B$501,"Lot",'Ventilation'!$C$2:$C$501,A17)) | C17: =IF(A17="","",IFERROR(B17/$B$4,0)) | E17: =IF('Paramètres'!I5="","",'Paramètres'!I5) | F17: =IF(E17="","",SUMIFS('Ventilation'!$J$2:$J$501,'Ventilation'!$B$2:$B$501,"Période",'Ventilation'!$D$2:$D$501,E17)) | G17: =IF(E17="","",IFERROR(F17/$B$4,0))
A18: =IF('Paramètres'!E6="","",'Paramètres'!E6) | B18: =IF(A18="","",SUMIFS('Ventilation'!$J$2:$J$501,'Ventilation'!$B$2:$B$501,"Lot",'Ventilation'!$C$2:$C$501,A18)) | C18: =IF(A18="","",IFERROR(B18/$B$4,0)) | E18: =IF('Paramètres'!I6="","",'Paramètres'!I6) | F18: =IF(E18="","",SUMIFS('Ventilation'!$J$2:$J$501,'Ventilation'!$B$2:$B$501,"Période",'Ventilation'!$D$2:$D$501,E18)) | G18: =IF(E18="","",IFERROR(F18/$B$4,0))
A19: =IF('Paramètres'!E7="","",'Paramètres'!E7) | B19: =IF(A19="","",SUMIFS('Ventilation'!$J$2:$J$501,'Ventilation'!$B$2:$B$501,"Lot",'Ventilation'!$C$2:$C$501,A19)) | C19: =IF(A19="","",IFERROR(B19/$B$4,0)) | E19: =IF('Paramètres'!I7="","",'Paramètres'!I7) | F19: =IF(E19="","",SUMIFS('Ventilation'!$J$2:$J$501,'Ventilation'!$B$2:$B$501,"Période",'Ventilation'!$D$2:$D$501,E19)) | G19: =IF(E19="","",IFERROR(F19/$B$4,0))
A20: =IF('Paramètres'!E8="","",'Paramètres'!E8) | B20: =IF(A20="","",SUMIFS('Ventilation'!$J$2:$J$501,'Ventilation'!$B$2:$B$501,"Lot",'Ventilation'!$C$2:$C$501,A20)) | C20: =IF(A20="","",IFERROR(B20/$B$4,0)) | E20: =IF('Paramètres'!I8="","",'Paramètres'!I8) | F20: =IF(E20="","",SUMIFS('Ventilation'!$J$2:$J$501,'Ventilation'!$B$2:$B$501,"Période",'Ventilation'!$D$2:$D$501,E20)) | G20: =IF(E20="","",IFERROR(F20/$B$4,0))
A21: =IF('Paramètres'!E9="","",'Paramètres'!E9) | B21: =IF(A21="","",SUMIFS('Ventilation'!$J$2:$J$501,'Ventilation'!$B$2:$B$501,"Lot",'Ventilation'!$C$2:$C$501,A21)) | C21: =IF(A21="","",IFERROR(B21/$B$4,0)) | E21: =IF('Paramètres'!I9="","",'Paramètres'!I9) | F21: =IF(E21="","",SUMIFS('Ventilation'!$J$2:$J$501,'Ventilation'!$B$2:$B$501,"Période",'Ventilation'!$D$2:$D$501,E21)) | G21: =IF(E21="","",IFERROR(F21/$B$4,0))
A22: =IF('Paramètres'!E10="","",'Paramètres'!E10) | B22: =IF(A22="","",SUMIFS('Ventilation'!$J$2:$J$501,'Ventilation'!$B$2:$B$501,"Lot",'Ventilation'!$C$2:$C$501,A22)) | C22: =IF(A22="","",IFERROR(B22/$B$4,0)) | E22: =IF('Paramètres'!I10="","",'Paramètres'!I10) | F22: =IF(E22="","",SUMIFS('Ventilation'!$J$2:$J$501,'Ventilation'!$B$2:$B$501,"Période",'Ventilation'!$D$2:$D$501,E22)) | G22: =IF(E22="","",IFERROR(F22/$B$4,0))
A23: =IF('Paramètres'!E11="","",'Paramètres'!E11) | B23: =IF(A23="","",SUMIFS('Ventilation'!$J$2:$J$501,'Ventilation'!$B$2:$B$501,"Lot",'Ventilation'!$C$2:$C$501,A23)) | C23: =IF(A23="","",IFERROR(B23/$B$4,0)) | E23: =IF('Paramètres'!I11="","",'Paramètres'!I11) | F23: =IF(E23="","",SUMIFS('Ventilation'!$J$2:$J$501,'Ventilation'!$B$2:$B$501,"Période",'Ventilation'!$D$2:$D$501,E23)) | G23: =IF(E23="","",IFERROR(F23/$B$4,0))
A24: =IF('Paramètres'!E12="","",'Paramètres'!E12) | B24: =IF(A24="","",SUMIFS('Ventilation'!$J$2:$J$501,'Ventilation'!$B$2:$B$501,"Lot",'Ventilation'!$C$2:$C$501,A24)) | C24: =IF(A24="","",IFERROR(B24/$B$4,0)) | E24: =IF('Paramètres'!I12="","",'Paramètres'!I12) | F24: =IF(E24="","",SUMIFS('Ventilation'!$J$2:$J$501,'Ventilation'!$B$2:$B$501,"Période",'Ventilation'!$D$2:$D$501,E24)) | G24: =IF(E24="","",IFERROR(F24/$B$4,0))
A25: =IF('Paramètres'!E13="","",'Paramètres'!E13) | B25: =IF(A25="","",SUMIFS('Ventilation'!$J$2:$J$501,'Ventilation'!$B$2:$B$501,"Lot",'Ventilation'!$C$2:$C$501,A25)) | C25: =IF(A25="","",IFERROR(B25/$B$4,0)) | E25: =IF('Paramètres'!I13="","",'Paramètres'!I13) | F25: =IF(E25="","",SUMIFS('Ventilation'!$J$2:$J$501,'Ventilation'!$B$2:$B$501,"Période",'Ventilation'!$D$2:$D$501,E25)) | G25: =IF(E25="","",IFERROR(F25/$B$4,0))
... A42: =IF('Paramètres'!E30="","",'Paramètres'!E30) | B42: =IF(A42="","",SUMIFS('Ventilation'!$J$2:$J$501,'Ventilation'!$B$2:$B$501,"Lot",'Ventilation'!$C$2:$C$501,A42)) | C42: =IF(A42="","",IFERROR(B42/$B$4,0)) | E42: =IF('Paramètres'!I30="","",'Paramètres'!I30) | F42: =IF(E42="","",SUMIFS('Ventilation'!$J$2:$J$501,'Ventilation'!$B$2:$B$501,"Période",'Ventilation'!$D$2:$D$501,E42)) | G42: =IF(E42="","",IFERROR(F42/$B$4,0))

Sheet Paramètres
A1: Paramètre | B1: Valeur | D1: Catégories | E1: Lots | F1: Axes | G1: Clés de ventilation | H1: Inclusion | I1: Périodes mensuelles
A2: Tolérance d’écart | B2: 0.01 | D2: Installations communes | E2: L01 Démo | F2: Lot | G2: Part égale | H2: Oui | I2: 46266
A3: Date de début | B3: 46266 | D3: Surveillance fictive | E3: L02 Démo | F3: Période | G3: Durée | H3: Non | I3: 46296
A4: Date de fin | B4: 46752 | D4: Consommables communs | E4: L03 Démo | G4: Effectif prévu | I4: 46327
D5: Entretien commun | E5: L04 Démo | G5: Surface prévue | I5: 46357
A6: Cadre d’usage | B6: Analyse interne fictive des coûts indirects. Ce classeur n’est ni un document comptable officiel, ni une preuve de conformité. | D6: Encadrement indirect | E6: L05 Démo | G6: Montant travaux | I6: 46388
D7: Énergie commune | E7: L06 Démo | G7: Saisie libre | I7: 46419
D8: Locations communes | E8: L07 Démo | I8: 46447
D9: Transport interne | E9: L08 Démo | I9: 46478
D10: Communication de chantier | E10: L09 Démo | I10: 46508
D11: Divers indirects | E11: L10 Démo | I11: 46539
E12: L11 Démo | I12: 46569
E13: L12 Démo | I13: 46600
E14: L13 Démo | I14: 46631
E15: L14 Démo | I15: 46661
E16: L15 Démo | I16: 46692
E17: L16 Démo | I17: 46722
E18: L17 Démo
E19: L18 Démo
E20: L19 Démo
E21: L20 Démo
E22: L21 Démo
E23: L22 Démo
E24: L23 Démo
E25: L24 Démo
E26: L25 Démo
E27: L26 Démo
E28: L27 Démo
E29: L28 Démo
E30: L29 Démo

Sheet Frais généraux
A1: ID frais | B1: Date | C1: Libellé | D1: Catégorie | E1: Montant saisi (€) | F1: Inclure | G1: Axe choisi | H1: Clé choisie | I1: Montant retenu (€) | J1: Total affecté (€) | K1: Écart (€) | L1: Statut | M1: Commentaire
A2: FG-DEMO-001 | B2: 46270 | C2: Base vie fictive | D2: Installations communes | E2: 1200 | F2: Oui | G2: Lot | H2: Surface prévue | I2: =IF($A2="","",IF($F2="Oui",$E2,0)) | J2: =IF($A2="","",SUMIFS('Ventilation'!$J$2:$J$501,'Ventilation'!$A$2:$A$501,$A2)) | K2: =IF($A2="","",$I2-$J2) | L2: =IF($A2="","",IF($F2="Non","Exclu",IF(ABS($K2)<='Paramètres'!$B$2,"Soldé",IF($J2=0,"Non ventilé","Écart")))) | M2: Exemple fictif
A3: FG-DEMO-002 | B3: 46275 | C3: Gardiennage fictif | D3: Surveillance fictive | E3: 900 | F3: Oui | G3: Période | H3: Durée | I3: =IF($A3="","",IF($F3="Oui",$E3,0)) | J3: =IF($A3="","",SUMIFS('Ventilation'!$J$2:$J$501,'Ventilation'!$A$2:$A$501,$A3)) | K3: =IF($A3="","",$I3-$J3) | L3: =IF($A3="","",IF($F3="Non","Exclu",IF(ABS($K3)<='Paramètres'!$B$2,"Soldé",IF($J3=0,"Non ventilé","Écart")))) | M3: Exemple fictif
A4: FG-DEMO-003 | B4: 46280 | C4: Consommables communs fictifs | D4: Consommables communs | E4: 450 | F4: Oui | G4: Lot | H4: Part égale | I4: =IF($A4="","",IF($F4="Oui",$E4,0)) | J4: =IF($A4="","",SUMIFS('Ventilation'!$J$2:$J$501,'Ventilation'!$A$2:$A$501,$A4)) | K4: =IF($A4="","",$I4-$J4) | L4: =IF($A4="","",IF($F4="Non","Exclu",IF(ABS($K4)<='Paramètres'!$B$2,"Soldé",IF($J4=0,"Non ventilé","Écart")))) | M4: Exemple fictif
A5: FG-DEMO-004 | B5: 46285 | C5: Nettoyage commun fictif | D5: Entretien commun | E5: 600 | F5: Oui | G5: Lot | H5: Part égale | I5: =IF($A5="","",IF($F5="Oui",$E5,0)) | J5: =IF($A5="","",SUMIFS('Ventilation'!$J$2:$J$501,'Ventilation'!$A$2:$A$501,$A5)) | K5: =IF($A5="","",$I5-$J5) | L5: =IF($A5="","",IF($F5="Non","Exclu",IF(ABS($K5)<='Paramètres'!$B$2,"Soldé",IF($J5=0,"Non ventilé","Écart")))) | M5: Exemple fictif
I6: =IF($A6="","",IF($F6="Oui",$E6,0)) | J6: =IF($A6="","",SUMIFS('Ventilation'!$J$2:$J$501,'Ventilation'!$A$2:$A$501,$A6)) | K6: =IF($A6="","",$I6-$J6) | L6: =IF($A6="","",IF($F6="Non","Exclu",IF(ABS($K6)<='Paramètres'!$B$2,"Soldé",IF($J6=0,"Non ventilé","Écart"))))
I7: =IF($A7="","",IF($F7="Oui",$E7,0)) | J7: =IF($A7="","",SUMIFS('Ventilation'!$J$2:$J$501,'Ventilation'!$A$2:$A$501,$A7)) | K7: =IF($A7="","",$I7-$J7) | L7: =IF($A7="","",IF($F7="Non","Exclu",IF(ABS($K7)<='Paramètres'!$B$2,"Soldé",IF($J7=0,"Non ventilé","Écart"))))
I8: =IF($A8="","",IF($F8="Oui",$E8,0)) | J8: =IF($A8="","",SUMIFS('Ventilation'!$J$2:$J$501,'Ventilation'!$A$2:$A$501,$A8)) | K8: =IF($A8="","",$I8-$J8) | L8: =IF($A8="","",IF($F8="Non","Exclu",IF(ABS($K8)<='Paramètres'!$B$2,"Soldé",IF($J8=0,"Non ventilé","Écart"))))
I9: =IF($A9="","",IF($F9="Oui",$E9,0)) | J9: =IF($A9="","",SUMIFS('Ventilation'!$J$2:$J$501,'Ventilation'!$A$2:$A$501,$A9)) | K9: =IF($A9="","",$I9-$J9) | L9: =IF($A9="","",IF($F9="Non","Exclu",IF(ABS($K9)<='Paramètres'!$B$2,"Soldé",IF($J9=0,"Non ventilé","Écart"))))
I10: =IF($A10="","",IF($F10="Oui",$E10,0)) | J10: =IF($A10="","",SUMIFS('Ventilation'!$J$2:$J$501,'Ventilation'!$A$2:$A$501,$A10)) | K10: =IF($A10="","",$I10-$J10) | L10: =IF($A10="","",IF($F10="Non","Exclu",IF(ABS($K10)<='Paramètres'!$B$2,"Soldé",IF($J10=0,"Non ventilé","Écart"))))
I11: =IF($A11="","",IF($F11="Oui",$E11,0)) | J11: =IF($A11="","",SUMIFS('Ventilation'!$J$2:$J$501,'Ventilation'!$A$2:$A$501,$A11)) | K11: =IF($A11="","",$I11-$J11) | L11: =IF($A11="","",IF($F11="Non","Exclu",IF(ABS($K11)<='Paramètres'!$B$2,"Soldé",IF($J11=0,"Non ventilé","Écart"))))
I12: =IF($A12="","",IF($F12="Oui",$E12,0)) | J12: =IF($A12="","",SUMIFS('Ventilation'!$J$2:$J$501,'Ventilation'!$A$2:$A$501,$A12)) | K12: =IF($A12="","",$I12-$J12) | L12: =IF($A12="","",IF($F12="Non","Exclu",IF(ABS($K12)<='Paramètres'!$B$2,"Soldé",IF($J12=0,"Non ventilé","Écart"))))
I13: =IF($A13="","",IF($F13="Oui",$E13,0)) | J13: =IF($A13="","",SUMIFS('Ventilation'!$J$2:$J$501,'Ventilation'!$A$2:$A$501,$A13)) | K13: =IF($A13="","",$I13-$J13) | L13: =IF($A13="","",IF($F13="Non","Exclu",IF(ABS($K13)<='Paramètres'!$B$2,"Soldé",IF($J13=0,"Non ventilé","Écart"))))
I14: =IF($A14="","",IF($F14="Oui",$E14,0)) | J14: =IF($A14="","",SUMIFS('Ventilation'!$J$2:$J$501,'Ventilation'!$A$2:$A$501,$A14)) | K14: =IF($A14="","",$I14-$J14) | L14: =IF($A14="","",IF($F14="Non","Exclu",IF(ABS($K14)<='Paramètres'!$B$2,"Soldé",IF($J14=0,"Non ventilé","Écart"))))
I15: =IF($A15="","",IF($F15="Oui",$E15,0)) | J15: =IF($A15="","",SUMIFS('Ventilation'!$J$2:$J$501,'Ventilation'!$A$2:$A$501,$A15)) | K15: =IF($A15="","",$I15-$J15) | L15: =IF($A15="","",IF($F15="Non","Exclu",IF(ABS($K15)<='Paramètres'!$B$2,"Soldé",IF($J15=0,"Non ventilé","Écart"))))
I16: =IF($A16="","",IF($F16="Oui",$E16,0)) | J16: =IF($A16="","",SUMIFS('Ventilation'!$J$2:$J$501,'Ventilation'!$A$2:$A$501,$A16)) | K16: =IF($A16="","",$I16-$J16) | L16: =IF($A16="","",IF($F16="Non","Exclu",IF(ABS($K16)<='Paramètres'!$B$2,"Soldé",IF($J16=0,"Non ventilé","Écart"))))
I17: =IF($A17="","",IF($F17="Oui",$E17,0)) | J17: =IF($A17="","",SUMIFS('Ventilation'!$J$2:$J$501,'Ventilation'!$A$2:$A$501,$A17)) | K17: =IF($A17="","",$I17-$J17) | L17: =IF($A17="","",IF($F17="Non","Exclu",IF(ABS($K17)<='Paramètres'!$B$2,"Soldé",IF($J17=0,"Non ventilé","Écart"))))
... I151: =IF($A151="","",IF($F151="Oui",$E151,0)) | J151: =IF($A151="","",SUMIFS('Ventilation'!$J$2:$J$501,'Ventilation'!$A$2:$A$501,$A151)) | K151: =IF($A151="","",$I151-$J151) | L151: =IF($A151="","",IF($F151="Non","Exclu",IF(ABS($K151)<='Paramètres'!$B$2,"Soldé",IF($J151=0,"Non ventilé","Écart"))))

Sheet Ventilation
A1: ID frais | B1: Axe | C1: Lot cible | D1: Période cible | E1: Coefficient | F1: Montant source (€) | G1: Total coefficients | H1: Part | I1: Anomalie | J1: Montant affecté (€)
A2: FG-DEMO-001 | B2: =IF($A2="","",IFERROR(_xlfn.XLOOKUP($A2,'Frais généraux'!$A$2:$A$151,'Frais généraux'!$G$2:$G$151),"")) | C2: L01 Démo | E2: 60 | F2: =IF($A2="","",IFERROR(_xlfn.XLOOKUP($A2,'Frais généraux'!$A$2:$A$151,'Frais généraux'!$I$2:$I$151),"")) | G2: =IF($A2="","",SUMIFS('Ventilation'!$E$2:$E$501,'Ventilation'!$A$2:$A$501,$A2)) | H2: =IF($A2="","",IFERROR($E2/$G2,0)) | I2: =IF($A2="","",IF(COUNTIF('Frais généraux'!$A$2:$A$151,$A2)=0,"ID inconnu",IF(OR(NOT(ISNUMBER($E2)),$E2<=0),"Coefficient invalide",IF(OR(AND($B2="Lot",OR($C2="",$D2<>"")),AND($B2="Période",OR($D2="",$C2<>"")),AND($B2<>"Lot",$B2<>"Période")),"Cible incohérente",IF(IF($B2="Lot",COUNTIFS('Ventilation'!$A$2:$A$501,$A2,'Ventilation'!$C$2:$C$501,$C2),COUNTIFS('Ventilation'!$A$2:$A$501,$A2,'Ventilation'!$D$2:$D$501,$D2))>1,"Cible en double",""))))) | J2: =IF(OR($A2="",$I2<>""),"",$F2*$H2)
A3: FG-DEMO-001 | B3: =IF($A3="","",IFERROR(_xlfn.XLOOKUP($A3,'Frais généraux'!$A$2:$A$151,'Frais généraux'!$G$2:$G$151),"")) | C3: L02 Démo | E3: 40 | F3: =IF($A3="","",IFERROR(_xlfn.XLOOKUP($A3,'Frais généraux'!$A$2:$A$151,'Frais généraux'!$I$2:$I$151),"")) | G3: =IF($A3="","",SUMIFS('Ventilation'!$E$2:$E$501,'Ventilation'!$A$2:$A$501,$A3)) | H3: =IF($A3="","",IFERROR($E3/$G3,0)) | I3: =IF($A3="","",IF(COUNTIF('Frais généraux'!$A$2:$A$151,$A3)=0,"ID inconnu",IF(OR(NOT(ISNUMBER($E3)),$E3<=0),"Coefficient invalide",IF(OR(AND($B3="Lot",OR($C3="",$D3<>"")),AND($B3="Période",OR($D3="",$C3<>"")),AND($B3<>"Lot",$B3<>"Période")),"Cible incohérente",IF(IF($B3="Lot",COUNTIFS('Ventilation'!$A$2:$A$501,$A3,'Ventilation'!$C$2:$C$501,$C3),COUNTIFS('Ventilation'!$A$2:$A$501,$A3,'Ventilation'!$D$2:$D$501,$D3))>1,"Cible en double",""))))) | J3: =IF(OR($A3="",$I3<>""),"",$F3*$H3)
A4: FG-DEMO-002 | B4: =IF($A4="","",IFERROR(_xlfn.XLOOKUP($A4,'Frais généraux'!$A$2:$A$151,'Frais généraux'!$G$2:$G$151),"")) | D4: 46266 | E4: 1 | F4: =IF($A4="","",IFERROR(_xlfn.XLOOKUP($A4,'Frais généraux'!$A$2:$A$151,'Frais généraux'!$I$2:$I$151),"")) | G4: =IF($A4="","",SUMIFS('Ventilation'!$E$2:$E$501,'Ventilation'!$A$2:$A$501,$A4)) | H4: =IF($A4="","",IFERROR($E4/$G4,0)) | I4: =IF($A4="","",IF(COUNTIF('Frais généraux'!$A$2:$A$151,$A4)=0,"ID inconnu",IF(OR(NOT(ISNUMBER($E4)),$E4<=0),"Coefficient invalide",IF(OR(AND($B4="Lot",OR($C4="",$D4<>"")),AND($B4="Période",OR($D4="",$C4<>"")),AND($B4<>"Lot",$B4<>"Période")),"Cible incohérente",IF(IF($B4="Lot",COUNTIFS('Ventilation'!$A$2:$A$501,$A4,'Ventilation'!$C$2:$C$501,$C4),COUNTIFS('Ventilation'!$A$2:$A$501,$A4,'Ventilation'!$D$2:$D$501,$D4))>1,"Cible en double",""))))) | J4: =IF(OR($A4="",$I4<>""),"",$F4*$H4)
A5: FG-DEMO-002 | B5: =IF($A5="","",IFERROR(_xlfn.XLOOKUP($A5,'Frais généraux'!$A$2:$A$151,'Frais généraux'!$G$2:$G$151),"")) | D5: 46296 | E5: 1 | F5: =IF($A5="","",IFERROR(_xlfn.XLOOKUP($A5,'Frais généraux'!$A$2:$A$151,'Frais généraux'!$I$2:$I$151),"")) | G5: =IF($A5="","",SUMIFS('Ventilation'!$E$2:$E$501,'Ventilation'!$A$2:$A$501,$A5)) | H5: =IF($A5="","",IFERROR($E5/$G5,0)) | I5: =IF($A5="","",IF(COUNTIF('Frais généraux'!$A$2:$A$151,$A5)=0,"ID inconnu",IF(OR(NOT(ISNUMBER($E5)),$E5<=0),"Coefficient invalide",IF(OR(AND($B5="Lot",OR($C5="",$D5<>"")),AND($B5="Période",OR($D5="",$C5<>"")),AND($B5<>"Lot",$B5<>"Période")),"Cible incohérente",IF(IF($B5="Lot",COUNTIFS('Ventilation'!$A$2:$A$501,$A5,'Ventilation'!$C$2:$C$501,$C5),COUNTIFS('Ventilation'!$A$2:$A$501,$A5,'Ventilation'!$D$2:$D$501,$D5))>1,"Cible en double",""))))) | J5: =IF(OR($A5="",$I5<>""),"",$F5*$H5)
A6: FG-DEMO-003 | B6: =IF($A6="","",IFERROR(_xlfn.XLOOKUP($A6,'Frais généraux'!$A$2:$A$151,'Frais généraux'!$G$2:$G$151),"")) | C6: L03 Démo | E6: 1 | F6: =IF($A6="","",IFERROR(_xlfn.XLOOKUP($A6,'Frais généraux'!$A$2:$A$151,'Frais généraux'!$I$2:$I$151),"")) | G6: =IF($A6="","",SUMIFS('Ventilation'!$E$2:$E$501,'Ventilation'!$A$2:$A$501,$A6)) | H6: =IF($A6="","",IFERROR($E6/$G6,0)) | I6: =IF($A6="","",IF(COUNTIF('Frais généraux'!$A$2:$A$151,$A6)=0,"ID inconnu",IF(OR(NOT(ISNUMBER($E6)),$E6<=0),"Coefficient invalide",IF(OR(AND($B6="Lot",OR($C6="",$D6<>"")),AND($B6="Période",OR($D6="",$C6<>"")),AND($B6<>"Lot",$B6<>"Période")),"Cible incohérente",IF(IF($B6="Lot",COUNTIFS('Ventilation'!$A$2:$A$501,$A6,'Ventilation'!$C$2:$C$501,$C6),COUNTIFS('Ventilation'!$A$2:$A$501,$A6,'Ventilation'!$D$2:$D$501,$D6))>1,"Cible en double",""))))) | J6: =IF(OR($A6="",$I6<>""),"",$F6*$H6)
A7: FG-DEMO-004 | B7: =IF($A7="","",IFERROR(_xlfn.XLOOKUP($A7,'Frais généraux'!$A$2:$A$151,'Frais généraux'!$G$2:$G$151),"")) | C7: L01 Démo | E7: 1 | F7: =IF($A7="","",IFERROR(_xlfn.XLOOKUP($A7,'Frais généraux'!$A$2:$A$151,'Frais généraux'!$I$2:$I$151),"")) | G7: =IF($A7="","",SUMIFS('Ventilation'!$E$2:$E$501,'Ventilation'!$A$2:$A$501,$A7)) | H7: =IF($A7="","",IFERROR($E7/$G7,0)) | I7: =IF($A7="","",IF(COUNTIF('Frais généraux'!$A$2:$A$151,$A7)=0,"ID inconnu",IF(OR(NOT(ISNUMBER($E7)),$E7<=0),"Coefficient invalide",IF(OR(AND($B7="Lot",OR($C7="",$D7<>"")),AND($B7="Période",OR($D7="",$C7<>"")),AND($B7<>"Lot",$B7<>"Période")),"Cible incohérente",IF(IF($B7="Lot",COUNTIFS('Ventilation'!$A$2:$A$501,$A7,'Ventilation'!$C$2:$C$501,$C7),COUNTIFS('Ventilation'!$A$2:$A$501,$A7,'Ventilation'!$D$2:$D$501,$D7))>1,"Cible en double",""))))) | J7: =IF(OR($A7="",$I7<>""),"",$F7*$H7)
B8: =IF($A8="","",IFERROR(_xlfn.XLOOKUP($A8,'Frais généraux'!$A$2:$A$151,'Frais généraux'!$G$2:$G$151),"")) | F8: =IF($A8="","",IFERROR(_xlfn.XLOOKUP($A8,'Frais généraux'!$A$2:$A$151,'Frais généraux'!$I$2:$I$151),"")) | G8: =IF($A8="","",SUMIFS('Ventilation'!$E$2:$E$501,'Ventilation'!$A$2:$A$501,$A8)) | H8: =IF($A8="","",IFERROR($E8/$G8,0)) | I8: =IF($A8="","",IF(COUNTIF('Frais généraux'!$A$2:$A$151,$A8)=0,"ID inconnu",IF(OR(NOT(ISNUMBER($E8)),$E8<=0),"Coefficient invalide",IF(OR(AND($B8="Lot",OR($C8="",$D8<>"")),AND($B8="Période",OR($D8="",$C8<>"")),AND($B8<>"Lot",$B8<>"Période")),"Cible incohérente",IF(IF($B8="Lot",COUNTIFS('Ventilation'!$A$2:$A$501,$A8,'Ventilation'!$C$2:$C$501,$C8),COUNTIFS('Ventilation'!$A$2:$A$501,$A8,'Ventilation'!$D$2:$D$501,$D8))>1,"Cible en double",""))))) | J8: =IF(OR($A8="",$I8<>""),"",$F8*$H8)
B9: =IF($A9="","",IFERROR(_xlfn.XLOOKUP($A9,'Frais généraux'!$A$2:$A$151,'Frais généraux'!$G$2:$G$151),"")) | F9: =IF($A9="","",IFERROR(_xlfn.XLOOKUP($A9,'Frais généraux'!$A$2:$A$151,'Frais généraux'!$I$2:$I$151),"")) | G9: =IF($A9="","",SUMIFS('Ventilation'!$E$2:$E$501,'Ventilation'!$A$2:$A$501,$A9)) | H9: =IF($A9="","",IFERROR($E9/$G9,0)) | I9: =IF($A9="","",IF(COUNTIF('Frais généraux'!$A$2:$A$151,$A9)=0,"ID inconnu",IF(OR(NOT(ISNUMBER($E9)),$E9<=0),"Coefficient invalide",IF(OR(AND($B9="Lot",OR($C9="",$D9<>"")),AND($B9="Période",OR($D9="",$C9<>"")),AND($B9<>"Lot",$B9<>"Période")),"Cible incohérente",IF(IF($B9="Lot",COUNTIFS('Ventilation'!$A$2:$A$501,$A9,'Ventilation'!$C$2:$C$501,$C9),COUNTIFS('Ventilation'!$A$2:$A$501,$A9,'Ventilation'!$D$2:$D$501,$D9))>1,"Cible en double",""))))) | J9: =IF(OR($A9="",$I9<>""),"",$F9*$H9)
B10: =IF($A10="","",IFERROR(_xlfn.XLOOKUP($A10,'Frais généraux'!$A$2:$A$151,'Frais généraux'!$G$2:$G$151),"")) | F10: =IF($A10="","",IFERROR(_xlfn.XLOOKUP($A10,'Frais généraux'!$A$2:$A$151,'Frais généraux'!$I$2:$I$151),"")) | G10: =IF($A10="","",SUMIFS('Ventilation'!$E$2:$E$501,'Ventilation'!$A$2:$A$501,$A10)) | H10: =IF($A10="","",IFERROR($E10/$G10,0)) | I10: =IF($A10="","",IF(COUNTIF('Frais généraux'!$A$2:$A$151,$A10)=0,"ID inconnu",IF(OR(NOT(ISNUMBER($E10)),$E10<=0),"Coefficient invalide",IF(OR(AND($B10="Lot",OR($C10="",$D10<>"")),AND($B10="Période",OR($D10="",$C10<>"")),AND($B10<>"Lot",$B10<>"Période")),"Cible incohérente",IF(IF($B10="Lot",COUNTIFS('Ventilation'!$A$2:$A$501,$A10,'Ventilation'!$C$2:$C$501,$C10),COUNTIFS('Ventilation'!$A$2:$A$501,$A10,'Ventilation'!$D$2:$D$501,$D10))>1,"Cible en double",""))))) | J10: =IF(OR($A10="",$I10<>""),"",$F10*$H10)
B11: =IF($A11="","",IFERROR(_xlfn.XLOOKUP($A11,'Frais généraux'!$A$2:$A$151,'Frais généraux'!$G$2:$G$151),"")) | F11: =IF($A11="","",IFERROR(_xlfn.XLOOKUP($A11,'Frais généraux'!$A$2:$A$151,'Frais généraux'!$I$2:$I$151),"")) | G11: =IF($A11="","",SUMIFS('Ventilation'!$E$2:$E$501,'Ventilation'!$A$2:$A$501,$A11)) | H11: =IF($A11="","",IFERROR($E11/$G11,0)) | I11: =IF($A11="","",IF(COUNTIF('Frais généraux'!$A$2:$A$151,$A11)=0,"ID inconnu",IF(OR(NOT(ISNUMBER($E11)),$E11<=0),"Coefficient invalide",IF(OR(AND($B11="Lot",OR($C11="",$D11<>"")),AND($B11="Période",OR($D11="",$C11<>"")),AND($B11<>"Lot",$B11<>"Période")),"Cible incohérente",IF(IF($B11="Lot",COUNTIFS('Ventilation'!$A$2:$A$501,$A11,'Ventilation'!$C$2:$C$501,$C11),COUNTIFS('Ventilation'!$A$2:$A$501,$A11,'Ventilation'!$D$2:$D$501,$D11))>1,"Cible en double",""))))) | J11: =IF(OR($A11="",$I11<>""),"",$F11*$H11)
B12: =IF($A12="","",IFERROR(_xlfn.XLOOKUP($A12,'Frais généraux'!$A$2:$A$151,'Frais généraux'!$G$2:$G$151),"")) | F12: =IF($A12="","",IFERROR(_xlfn.XLOOKUP($A12,'Frais généraux'!$A$2:$A$151,'Frais généraux'!$I$2:$I$151),"")) | G12: =IF($A12="","",SUMIFS('Ventilation'!$E$2:$E$501,'Ventilation'!$A$2:$A$501,$A12)) | H12: =IF($A12="","",IFERROR($E12/$G12,0)) | I12: =IF($A12="","",IF(COUNTIF('Frais généraux'!$A$2:$A$151,$A12)=0,"ID inconnu",IF(OR(NOT(ISNUMBER($E12)),$E12<=0),"Coefficient invalide",IF(OR(AND($B12="Lot",OR($C12="",$D12<>"")),AND($B12="Période",OR($D12="",$C12<>"")),AND($B12<>"Lot",$B12<>"Période")),"Cible incohérente",IF(IF($B12="Lot",COUNTIFS('Ventilation'!$A$2:$A$501,$A12,'Ventilation'!$C$2:$C$501,$C12),COUNTIFS('Ventilation'!$A$2:$A$501,$A12,'Ventilation'!$D$2:$D$501,$D12))>1,"Cible en double",""))))) | J12: =IF(OR($A12="",$I12<>""),"",$F12*$H12)
B13: =IF($A13="","",IFERROR(_xlfn.XLOOKUP($A13,'Frais généraux'!$A$2:$A$151,'Frais généraux'!$G$2:$G$151),"")) | F13: =IF($A13="","",IFERROR(_xlfn.XLOOKUP($A13,'Frais généraux'!$A$2:$A$151,'Frais généraux'!$I$2:$I$151),"")) | G13: =IF($A13="","",SUMIFS('Ventilation'!$E$2:$E$501,'Ventilation'!$A$2:$A$501,$A13)) | H13: =IF($A13="","",IFERROR($E13/$G13,0)) | I13: =IF($A13="","",IF(COUNTIF('Frais généraux'!$A$2:$A$151,$A13)=0,"ID inconnu",IF(OR(NOT(ISNUMBER($E13)),$E13<=0),"Coefficient invalide",IF(OR(AND($B13="Lot",OR($C13="",$D13<>"")),AND($B13="Période",OR($D13="",$C13<>"")),AND($B13<>"Lot",$B13<>"Période")),"Cible incohérente",IF(IF($B13="Lot",COUNTIFS('Ventilation'!$A$2:$A$501,$A13,'Ventilation'!$C$2:$C$501,$C13),COUNTIFS('Ventilation'!$A$2:$A$501,$A13,'Ventilation'!$D$2:$D$501,$D13))>1,"Cible en double",""))))) | J13: =IF(OR($A13="",$I13<>""),"",$F13*$H13)
B14: =IF($A14="","",IFERROR(_xlfn.XLOOKUP($A14,'Frais généraux'!$A$2:$A$151,'Frais généraux'!$G$2:$G$151),"")) | F14: =IF($A14="","",IFERROR(_xlfn.XLOOKUP($A14,'Frais généraux'!$A$2:$A$151,'Frais généraux'!$I$2:$I$151),"")) | G14: =IF($A14="","",SUMIFS('Ventilation'!$E$2:$E$501,'Ventilation'!$A$2:$A$501,$A14)) | H14: =IF($A14="","",IFERROR($E14/$G14,0)) | I14: =IF($A14="","",IF(COUNTIF('Frais généraux'!$A$2:$A$151,$A14)=0,"ID inconnu",IF(OR(NOT(ISNUMBER($E14)),$E14<=0),"Coefficient invalide",IF(OR(AND($B14="Lot",OR($C14="",$D14<>"")),AND($B14="Période",OR($D14="",$C14<>"")),AND($B14<>"Lot",$B14<>"Période")),"Cible incohérente",IF(IF($B14="Lot",COUNTIFS('Ventilation'!$A$2:$A$501,$A14,'Ventilation'!$C$2:$C$501,$C14),COUNTIFS('Ventilation'!$A$2:$A$501,$A14,'Ventilation'!$D$2:$D$501,$D14))>1,"Cible en double",""))))) | J14: =IF(OR($A14="",$I14<>""),"",$F14*$H14)
B15: =IF($A15="","",IFERROR(_xlfn.XLOOKUP($A15,'Frais généraux'!$A$2:$A$151,'Frais généraux'!$G$2:$G$151),"")) | F15: =IF($A15="","",IFERROR(_xlfn.XLOOKUP($A15,'Frais généraux'!$A$2:$A$151,'Frais généraux'!$I$2:$I$151),"")) | G15: =IF($A15="","",SUMIFS('Ventilation'!$E$2:$E$501,'Ventilation'!$A$2:$A$501,$A15)) | H15: =IF($A15="","",IFERROR($E15/$G15,0)) | I15: =IF($A15="","",IF(COUNTIF('Frais généraux'!$A$2:$A$151,$A15)=0,"ID inconnu",IF(OR(NOT(ISNUMBER($E15)),$E15<=0),"Coefficient invalide",IF(OR(AND($B15="Lot",OR($C15="",$D15<>"")),AND($B15="Période",OR($D15="",$C15<>"")),AND($B15<>"Lot",$B15<>"Période")),"Cible incohérente",IF(IF($B15="Lot",COUNTIFS('Ventilation'!$A$2:$A$501,$A15,'Ventilation'!$C$2:$C$501,$C15),COUNTIFS('Ventilation'!$A$2:$A$501,$A15,'Ventilation'!$D$2:$D$501,$D15))>1,"Cible en double",""))))) | J15: =IF(OR($A15="",$I15<>""),"",$F15*$H15)
B16: =IF($A16="","",IFERROR(_xlfn.XLOOKUP($A16,'Frais généraux'!$A$2:$A$151,'Frais généraux'!$G$2:$G$151),"")) | F16: =IF($A16="","",IFERROR(_xlfn.XLOOKUP($A16,'Frais généraux'!$A$2:$A$151,'Frais généraux'!$I$2:$I$151),"")) | G16: =IF($A16="","",SUMIFS('Ventilation'!$E$2:$E$501,'Ventilation'!$A$2:$A$501,$A16)) | H16: =IF($A16="","",IFERROR($E16/$G16,0)) | I16: =IF($A16="","",IF(COUNTIF('Frais généraux'!$A$2:$A$151,$A16)=0,"ID inconnu",IF(OR(NOT(ISNUMBER($E16)),$E16<=0),"Coefficient invalide",IF(OR(AND($B16="Lot",OR($C16="",$D16<>"")),AND($B16="Période",OR($D16="",$C16<>"")),AND($B16<>"Lot",$B16<>"Période")),"Cible incohérente",IF(IF($B16="Lot",COUNTIFS('Ventilation'!$A$2:$A$501,$A16,'Ventilation'!$C$2:$C$501,$C16),COUNTIFS('Ventilation'!$A$2:$A$501,$A16,'Ventilation'!$D$2:$D$501,$D16))>1,"Cible en double",""))))) | J16: =IF(OR($A16="",$I16<>""),"",$F16*$H16)
B17: =IF($A17="","",IFERROR(_xlfn.XLOOKUP($A17,'Frais généraux'!$A$2:$A$151,'Frais généraux'!$G$2:$G$151),"")) | F17: =IF($A17="","",IFERROR(_xlfn.XLOOKUP($A17,'Frais généraux'!$A$2:$A$151,'Frais généraux'!$I$2:$I$151),"")) | G17: =IF($A17="","",SUMIFS('Ventilation'!$E$2:$E$501,'Ventilation'!$A$2:$A$501,$A17)) | H17: =IF($A17="","",IFERROR($E17/$G17,0)) | I17: =IF($A17="","",IF(COUNTIF('Frais généraux'!$A$2:$A$151,$A17)=0,"ID inconnu",IF(OR(NOT(ISNUMBER($E17)),$E17<=0),"Coefficient invalide",IF(OR(AND($B17="Lot",OR($C17="",$D17<>"")),AND($B17="Période",OR($D17="",$C17<>"")),AND($B17<>"Lot",$B17<>"Période")),"Cible incohérente",IF(IF($B17="Lot",COUNTIFS('Ventilation'!$A$2:$A$501,$A17,'Ventilation'!$C$2:$C$501,$C17),COUNTIFS('Ventilation'!$A$2:$A$501,$A17,'Ventilation'!$D$2:$D$501,$D17))>1,"Cible en double",""))))) | J17: =IF(OR($A17="",$I17<>""),"",$F17*$H17)
B18: =IF($A18="","",IFERROR(_xlfn.XLOOKUP($A18,'Frais généraux'!$A$2:$A$151,'Frais généraux'!$G$2:$G$151),"")) | F18: =IF($A18="","",IFERROR(_xlfn.XLOOKUP($A18,'Frais généraux'!$A$2:$A$151,'Frais généraux'!$I$2:$I$151),"")) | G18: =IF($A18="","",SUMIFS('Ventilation'!$E$2:$E$501,'Ventilation'!$A$2:$A$501,$A18)) | H18: =IF($A18="","",IFERROR($E18/$G18,0)) | I18: =IF($A18="","",IF(COUNTIF('Frais généraux'!$A$2:$A$151,$A18)=0,"ID inconnu",IF(OR(NOT(ISNUMBER($E18)),$E18<=0),"Coefficient invalide",IF(OR(AND($B18="Lot",OR($C18="",$D18<>"")),AND($B18="Période",OR($D18="",$C18<>"")),AND($B18<>"Lot",$B18<>"Période")),"Cible incohérente",IF(IF($B18="Lot",COUNTIFS('Ventilation'!$A$2:$A$501,$A18,'Ventilation'!$C$2:$C$501,$C18),COUNTIFS('Ventilation'!$A$2:$A$501,$A18,'Ventilation'!$D$2:$D$501,$D18))>1,"Cible en double",""))))) | J18: =IF(OR($A18="",$I18<>""),"",$F18*$H18)
B19: =IF($A19="","",IFERROR(_xlfn.XLOOKUP($A19,'Frais généraux'!$A$2:$A$151,'Frais généraux'!$G$2:$G$151),"")) | F19: =IF($A19="","",IFERROR(_xlfn.XLOOKUP($A19,'Frais généraux'!$A$2:$A$151,'Frais généraux'!$I$2:$I$151),"")) | G19: =IF($A19="","",SUMIFS('Ventilation'!$E$2:$E$501,'Ventilation'!$A$2:$A$501,$A19)) | H19: =IF($A19="","",IFERROR($E19/$G19,0)) | I19: =IF($A19="","",IF(COUNTIF('Frais généraux'!$A$2:$A$151,$A19)=0,"ID inconnu",IF(OR(NOT(ISNUMBER($E19)),$E19<=0),"Coefficient invalide",IF(OR(AND($B19="Lot",OR($C19="",$D19<>"")),AND($B19="Période",OR($D19="",$C19<>"")),AND($B19<>"Lot",$B19<>"Période")),"Cible incohérente",IF(IF($B19="Lot",COUNTIFS('Ventilation'!$A$2:$A$501,$A19,'Ventilation'!$C$2:$C$501,$C19),COUNTIFS('Ventilation'!$A$2:$A$501,$A19,'Ventilation'!$D$2:$D$501,$D19))>1,"Cible en double",""))))) | J19: =IF(OR($A19="",$I19<>""),"",$F19*$H19)
... B501: =IF($A501="","",IFERROR(_xlfn.XLOOKUP($A501,'Frais généraux'!$A$2:$A$151,'Frais généraux'!$G$2:$G$151),"")) | F501: =IF($A501="","",IFERROR(_xlfn.XLOOKUP($A501,'Frais généraux'!$A$2:$A$151,'Frais généraux'!$I$2:$I$151),"")) | G501: =IF($A501="","",SUMIFS('Ventilation'!$E$2:$E$501,'Ventilation'!$A$2:$A$501,$A501)) | H501: =IF($A501="","",IFERROR($E501/$G501,0)) | I501: =IF($A501="","",IF(COUNTIF('Frais généraux'!$A$2:$A$151,$A501)=0,"ID inconnu",IF(OR(NOT(ISNUMBER($E501)),$E501<=0),"Coefficient invalide",IF(OR(AND($B501="Lot",OR($C501="",$D501<>"")),AND($B501="Période",OR($D501="",$C501<>"")),AND($B501<>"Lot",$B501<>"Période")),"Cible incohérente",IF(IF($B501="Lot",COUNTIFS('Ventilation'!$A$2:$A$501,$A501,'Ventilation'!$C$2:$C$501,$C501),COUNTIFS('Ventilation'!$A$2:$A$501,$A501,'Ventilation'!$D$2:$D$501,$D501))>1,"Cible en double",""))))) | J501: =IF(OR($A501="",$I501<>""),"",$F501*$H501)
